BEGIN:VCALENDAR
VERSION:2.0
PRODID:-//Klamath Falls Friends - ECPv6.15.20//NONSGML v1.0//EN
CALSCALE:GREGORIAN
METHOD:PUBLISH
X-ORIGINAL-URL:https://www.klamathfallsfriendschurch.org
X-WR-CALDESC:Events for Klamath Falls Friends
REFRESH-INTERVAL;VALUE=DURATION:PT1H
X-Robots-Tag:noindex
X-PUBLISHED-TTL:PT1H
BEGIN:VTIMEZONE
TZID:America/Los_Angeles
BEGIN:DAYLIGHT
TZOFFSETFROM:-0800
TZOFFSETTO:-0700
TZNAME:PDT
DTSTART:20250309T100000
END:DAYLIGHT
BEGIN:STANDARD
TZOFFSETFROM:-0700
TZOFFSETTO:-0800
TZNAME:PST
DTSTART:20251102T090000
END:STANDARD
BEGIN:DAYLIGHT
TZOFFSETFROM:-0800
TZOFFSETTO:-0700
TZNAME:PDT
DTSTART:20260308T100000
END:DAYLIGHT
BEGIN:STANDARD
TZOFFSETFROM:-0700
TZOFFSETTO:-0800
TZNAME:PST
DTSTART:20261101T090000
END:STANDARD
BEGIN:DAYLIGHT
TZOFFSETFROM:-0800
TZOFFSETTO:-0700
TZNAME:PDT
DTSTART:20270314T100000
END:DAYLIGHT
BEGIN:STANDARD
TZOFFSETFROM:-0700
TZOFFSETTO:-0800
TZNAME:PST
DTSTART:20271107T090000
END:STANDARD
END:VTIMEZONE
BEGIN:VEVENT
DTSTART;TZID=America/Los_Angeles:20260906T090000
DTEND;TZID=America/Los_Angeles:20260906T100000
DTSTAMP:20260423T154003
CREATED:20251011T224009Z
LAST-MODIFIED:20251011T224009Z
UID:2892-1788685200-1788688800@www.klamathfallsfriendschurch.org
SUMMARY:Bible Study
DESCRIPTION:
URL:https://www.klamathfallsfriendschurch.org/event/bible-study-19/
END:VEVENT
BEGIN:VEVENT
DTSTART;TZID=America/Los_Angeles:20260906T094500
DTEND;TZID=America/Los_Angeles:20260906T100000
DTSTAMP:20260423T154003
CREATED:20251011T224009Z
LAST-MODIFIED:20251011T224009Z
UID:2893-1788687900-1788688800@www.klamathfallsfriendschurch.org
SUMMARY:Fellowship and Gathering Time
DESCRIPTION:
URL:https://www.klamathfallsfriendschurch.org/event/fellowship-and-gathering-time-48/
END:VEVENT
BEGIN:VEVENT
DTSTART;TZID=America/Los_Angeles:20260906T100000
DTEND;TZID=America/Los_Angeles:20260906T110000
DTSTAMP:20260423T154003
CREATED:20251011T224009Z
LAST-MODIFIED:20251011T224009Z
UID:2894-1788688800-1788692400@www.klamathfallsfriendschurch.org
SUMMARY:Unprogrammed Worship
DESCRIPTION:Worship on the first Sunday of the month is an extended period of open/waiting worship.
URL:https://www.klamathfallsfriendschurch.org/event/unprogrammed-worship-26/
END:VEVENT
BEGIN:VEVENT
DTSTART;TZID=America/Los_Angeles:20260906T140000
DTEND;TZID=America/Los_Angeles:20260906T150000
DTSTAMP:20260423T154003
CREATED:20260301T034056Z
LAST-MODIFIED:20260301T034056Z
UID:3439-1788703200-1788706800@www.klamathfallsfriendschurch.org
SUMMARY:Singing Resistance
DESCRIPTION:
URL:https://www.klamathfallsfriendschurch.org/event/singing-resistance-22/
END:VEVENT
BEGIN:VEVENT
DTSTART;TZID=America/Los_Angeles:20260913T094500
DTEND;TZID=America/Los_Angeles:20260913T100000
DTSTAMP:20260423T154003
CREATED:20251011T224009Z
LAST-MODIFIED:20251011T224009Z
UID:2895-1789292700-1789293600@www.klamathfallsfriendschurch.org
SUMMARY:Fellowship and Gathering Time
DESCRIPTION:
URL:https://www.klamathfallsfriendschurch.org/event/fellowship-and-gathering-time-49/
END:VEVENT
BEGIN:VEVENT
DTSTART;TZID=America/Los_Angeles:20260913T100000
DTEND;TZID=America/Los_Angeles:20260913T110000
DTSTAMP:20260423T154003
CREATED:20251011T224009Z
LAST-MODIFIED:20251011T224009Z
UID:2896-1789293600-1789297200@www.klamathfallsfriendschurch.org
SUMMARY:Programmed Worship
DESCRIPTION:A typical Sunday worship includes reading from scripture\, songs\, a prepared message\, prayers\, and a period of open worship.
URL:https://www.klamathfallsfriendschurch.org/event/programmed-worship-79/
LOCATION:Klamath Falls Friends Church\, 1918 Oregon Ave\, Klamath Falls\, OR 97601\, USA
END:VEVENT
BEGIN:VEVENT
DTSTART;TZID=America/Los_Angeles:20260913T110000
DTEND;TZID=America/Los_Angeles:20260913T120000
DTSTAMP:20260423T154003
CREATED:20251011T224010Z
LAST-MODIFIED:20251011T224010Z
UID:2897-1789297200-1789300800@www.klamathfallsfriendschurch.org
SUMMARY:Book Group
DESCRIPTION:
URL:https://www.klamathfallsfriendschurch.org/event/book-group-11/
END:VEVENT
BEGIN:VEVENT
DTSTART;TZID=America/Los_Angeles:20260913T140000
DTEND;TZID=America/Los_Angeles:20260913T150000
DTSTAMP:20260423T154003
CREATED:20260301T034056Z
LAST-MODIFIED:20260301T034056Z
UID:3440-1789308000-1789311600@www.klamathfallsfriendschurch.org
SUMMARY:Singing Resistance
DESCRIPTION:
URL:https://www.klamathfallsfriendschurch.org/event/singing-resistance-23/
END:VEVENT
BEGIN:VEVENT
DTSTART;TZID=America/Los_Angeles:20260920T090000
DTEND;TZID=America/Los_Angeles:20260920T100000
DTSTAMP:20260423T154003
CREATED:20251011T224010Z
LAST-MODIFIED:20251011T224010Z
UID:2898-1789894800-1789898400@www.klamathfallsfriendschurch.org
SUMMARY:Peace and Social Concerns Committee Meeting
DESCRIPTION:Come to share your ideas and hear what’s going on with our meeting around peace and social justice.
URL:https://www.klamathfallsfriendschurch.org/event/peace-and-social-concerns-committee-meeting-26/
LOCATION:Klamath Falls Friends Church\, 1918 Oregon Ave\, Klamath Falls\, OR 97601\, USA
END:VEVENT
BEGIN:VEVENT
DTSTART;TZID=America/Los_Angeles:20260920T094500
DTEND;TZID=America/Los_Angeles:20260920T100000
DTSTAMP:20260423T154003
CREATED:20251011T224010Z
LAST-MODIFIED:20251011T224010Z
UID:2899-1789897500-1789898400@www.klamathfallsfriendschurch.org
SUMMARY:Fellowship and Gathering Time
DESCRIPTION:
URL:https://www.klamathfallsfriendschurch.org/event/fellowship-and-gathering-time-50/
END:VEVENT
BEGIN:VEVENT
DTSTART;TZID=America/Los_Angeles:20260920T100000
DTEND;TZID=America/Los_Angeles:20260920T110000
DTSTAMP:20260423T154003
CREATED:20251011T224010Z
LAST-MODIFIED:20251011T224010Z
UID:2900-1789898400-1789902000@www.klamathfallsfriendschurch.org
SUMMARY:Programmed Worship
DESCRIPTION:A typical Sunday worship includes reading from scripture\, songs\, a prepared message\, prayers\, and a period of open worship.
URL:https://www.klamathfallsfriendschurch.org/event/programmed-worship-80/
LOCATION:Klamath Falls Friends Church\, 1918 Oregon Ave\, Klamath Falls\, OR 97601\, USA
END:VEVENT
BEGIN:VEVENT
DTSTART;TZID=America/Los_Angeles:20260927T094500
DTEND;TZID=America/Los_Angeles:20260927T100000
DTSTAMP:20260423T154003
CREATED:20251011T224010Z
LAST-MODIFIED:20251011T224010Z
UID:2901-1790502300-1790503200@www.klamathfallsfriendschurch.org
SUMMARY:Fellowship and Gathering Time
DESCRIPTION:
URL:https://www.klamathfallsfriendschurch.org/event/fellowship-and-gathering-time-51/
END:VEVENT
BEGIN:VEVENT
DTSTART;TZID=America/Los_Angeles:20260927T100000
DTEND;TZID=America/Los_Angeles:20260927T110000
DTSTAMP:20260423T154003
CREATED:20251011T224010Z
LAST-MODIFIED:20251011T224010Z
UID:2902-1790503200-1790506800@www.klamathfallsfriendschurch.org
SUMMARY:Programmed Worship
DESCRIPTION:A typical Sunday worship includes reading from scripture\, songs\, a prepared message\, prayers\, and a period of open worship.
URL:https://www.klamathfallsfriendschurch.org/event/programmed-worship-81/
LOCATION:Klamath Falls Friends Church\, 1918 Oregon Ave\, Klamath Falls\, OR 97601\, USA
END:VEVENT
BEGIN:VEVENT
DTSTART;TZID=America/Los_Angeles:20260927T140000
DTEND;TZID=America/Los_Angeles:20260927T150000
DTSTAMP:20260423T154003
CREATED:20260301T034056Z
LAST-MODIFIED:20260301T034056Z
UID:3441-1790517600-1790521200@www.klamathfallsfriendschurch.org
SUMMARY:Singing Resistance
DESCRIPTION:
URL:https://www.klamathfallsfriendschurch.org/event/singing-resistance-24/
END:VEVENT
BEGIN:VEVENT
DTSTART;TZID=America/Los_Angeles:20260929T163000
DTEND;TZID=America/Los_Angeles:20260929T183000
DTSTAMP:20260423T154003
CREATED:20251227T032924Z
LAST-MODIFIED:20251227T032924Z
UID:3210-1790699400-1790706600@www.klamathfallsfriendschurch.org
SUMMARY:Interfaith Food Pantry
DESCRIPTION:Food is available free of charge. Check with the county food bank for eligibility guidelines.
URL:https://www.klamathfallsfriendschurch.org/event/interfaith-food-pantry-53/
END:VEVENT
BEGIN:VEVENT
DTSTART;TZID=America/Los_Angeles:20260929T170000
DTEND;TZID=America/Los_Angeles:20260929T190000
DTSTAMP:20260423T154003
CREATED:20251011T224011Z
LAST-MODIFIED:20251011T224011Z
UID:2903-1790701200-1790708400@www.klamathfallsfriendschurch.org
SUMMARY:Interfaith Food Pantry
DESCRIPTION:Food is available free of charge. Check with eligibility”>https://www.klamathfoodbank.org/food-pantry-schedule-income-eligibility-guidelines-cloned/”>eligibility guidelines.
URL:https://www.klamathfallsfriendschurch.org/event/interfaith-food-pantry-41/
LOCATION:Klamath Lutheran Church-ELCA\, 1175 Crescent Ave\, Klamath Falls\, OR 97601\, USA
END:VEVENT
END:VCALENDAR