BEGIN:VCALENDAR
VERSION:2.0
PRODID:-//Klamath Falls Friends - ECPv6.15.20//NONSGML v1.0//EN
CALSCALE:GREGORIAN
METHOD:PUBLISH
X-ORIGINAL-URL:https://www.klamathfallsfriendschurch.org
X-WR-CALDESC:Events for Klamath Falls Friends
REFRESH-INTERVAL;VALUE=DURATION:PT1H
X-Robots-Tag:noindex
X-PUBLISHED-TTL:PT1H
BEGIN:VTIMEZONE
TZID:America/Los_Angeles
BEGIN:DAYLIGHT
TZOFFSETFROM:-0800
TZOFFSETTO:-0700
TZNAME:PDT
DTSTART:20250309T100000
END:DAYLIGHT
BEGIN:STANDARD
TZOFFSETFROM:-0700
TZOFFSETTO:-0800
TZNAME:PST
DTSTART:20251102T090000
END:STANDARD
BEGIN:DAYLIGHT
TZOFFSETFROM:-0800
TZOFFSETTO:-0700
TZNAME:PDT
DTSTART:20260308T100000
END:DAYLIGHT
BEGIN:STANDARD
TZOFFSETFROM:-0700
TZOFFSETTO:-0800
TZNAME:PST
DTSTART:20261101T090000
END:STANDARD
BEGIN:DAYLIGHT
TZOFFSETFROM:-0800
TZOFFSETTO:-0700
TZNAME:PDT
DTSTART:20270314T100000
END:DAYLIGHT
BEGIN:STANDARD
TZOFFSETFROM:-0700
TZOFFSETTO:-0800
TZNAME:PST
DTSTART:20271107T090000
END:STANDARD
END:VTIMEZONE
BEGIN:VEVENT
DTSTART;TZID=America/Los_Angeles:20261004T090000
DTEND;TZID=America/Los_Angeles:20261004T100000
DTSTAMP:20260423T072325
CREATED:20251011T224011Z
LAST-MODIFIED:20251011T224011Z
UID:2904-1791104400-1791108000@www.klamathfallsfriendschurch.org
SUMMARY:Bible Study
DESCRIPTION:
URL:https://www.klamathfallsfriendschurch.org/event/bible-study-20/
END:VEVENT
BEGIN:VEVENT
DTSTART;TZID=America/Los_Angeles:20261004T094500
DTEND;TZID=America/Los_Angeles:20261004T100000
DTSTAMP:20260423T072325
CREATED:20251011T224011Z
LAST-MODIFIED:20251011T224011Z
UID:2905-1791107100-1791108000@www.klamathfallsfriendschurch.org
SUMMARY:Fellowship and Gathering Time
DESCRIPTION:
URL:https://www.klamathfallsfriendschurch.org/event/fellowship-and-gathering-time-52/
END:VEVENT
BEGIN:VEVENT
DTSTART;TZID=America/Los_Angeles:20261004T100000
DTEND;TZID=America/Los_Angeles:20261004T110000
DTSTAMP:20260423T072325
CREATED:20251011T224011Z
LAST-MODIFIED:20251011T224011Z
UID:2906-1791108000-1791111600@www.klamathfallsfriendschurch.org
SUMMARY:Unprogrammed Worship
DESCRIPTION:Worship on the first Sunday of the month is an extended period of open/waiting worship.
URL:https://www.klamathfallsfriendschurch.org/event/unprogrammed-worship-27/
END:VEVENT
BEGIN:VEVENT
DTSTART;TZID=America/Los_Angeles:20261004T140000
DTEND;TZID=America/Los_Angeles:20261004T150000
DTSTAMP:20260423T072325
CREATED:20260301T034057Z
LAST-MODIFIED:20260301T034057Z
UID:3442-1791122400-1791126000@www.klamathfallsfriendschurch.org
SUMMARY:Singing Resistance
DESCRIPTION:
URL:https://www.klamathfallsfriendschurch.org/event/singing-resistance-25/
END:VEVENT
BEGIN:VEVENT
DTSTART;TZID=America/Los_Angeles:20261011T094500
DTEND;TZID=America/Los_Angeles:20261011T100000
DTSTAMP:20260423T072325
CREATED:20251011T224011Z
LAST-MODIFIED:20251011T224011Z
UID:2907-1791711900-1791712800@www.klamathfallsfriendschurch.org
SUMMARY:Fellowship and Gathering Time
DESCRIPTION:
URL:https://www.klamathfallsfriendschurch.org/event/fellowship-and-gathering-time-53/
END:VEVENT
BEGIN:VEVENT
DTSTART;TZID=America/Los_Angeles:20261011T100000
DTEND;TZID=America/Los_Angeles:20261011T110000
DTSTAMP:20260423T072325
CREATED:20251011T224011Z
LAST-MODIFIED:20251011T224011Z
UID:2908-1791712800-1791716400@www.klamathfallsfriendschurch.org
SUMMARY:Programmed Worship
DESCRIPTION:A typical Sunday worship includes reading from scripture\, songs\, a prepared message\, prayers\, and a period of open worship.
URL:https://www.klamathfallsfriendschurch.org/event/programmed-worship-82/
LOCATION:Klamath Falls Friends Church\, 1918 Oregon Ave\, Klamath Falls\, OR 97601\, USA
END:VEVENT
BEGIN:VEVENT
DTSTART;TZID=America/Los_Angeles:20261011T110000
DTEND;TZID=America/Los_Angeles:20261011T120000
DTSTAMP:20260423T072325
CREATED:20251011T224012Z
LAST-MODIFIED:20251011T224012Z
UID:2909-1791716400-1791720000@www.klamathfallsfriendschurch.org
SUMMARY:Book Group
DESCRIPTION:
URL:https://www.klamathfallsfriendschurch.org/event/book-group-12/
END:VEVENT
BEGIN:VEVENT
DTSTART;TZID=America/Los_Angeles:20261011T140000
DTEND;TZID=America/Los_Angeles:20261011T150000
DTSTAMP:20260423T072325
CREATED:20260301T034057Z
LAST-MODIFIED:20260301T034057Z
UID:3443-1791727200-1791730800@www.klamathfallsfriendschurch.org
SUMMARY:Singing Resistance
DESCRIPTION:
URL:https://www.klamathfallsfriendschurch.org/event/singing-resistance-26/
END:VEVENT
BEGIN:VEVENT
DTSTART;TZID=America/Los_Angeles:20261018T090000
DTEND;TZID=America/Los_Angeles:20261018T100000
DTSTAMP:20260423T072325
CREATED:20251122T235631Z
LAST-MODIFIED:20251122T235631Z
UID:3026-1792314000-1792317600@www.klamathfallsfriendschurch.org
SUMMARY:Peace and Social Concerns Committee Meeting
DESCRIPTION:Come to share your ideas and hear what’s going on with our meeting around peace and social justice.
URL:https://www.klamathfallsfriendschurch.org/event/peace-and-social-concerns-committee-meeting-27/
LOCATION:Klamath Falls Friends Church\, 1918 Oregon Ave\, Klamath Falls\, OR 97601\, USA
END:VEVENT
BEGIN:VEVENT
DTSTART;TZID=America/Los_Angeles:20261018T094500
DTEND;TZID=America/Los_Angeles:20261018T100000
DTSTAMP:20260423T072325
CREATED:20251122T235631Z
LAST-MODIFIED:20251122T235631Z
UID:3027-1792316700-1792317600@www.klamathfallsfriendschurch.org
SUMMARY:Fellowship and Gathering Time
DESCRIPTION:
URL:https://www.klamathfallsfriendschurch.org/event/fellowship-and-gathering-time-54/
END:VEVENT
BEGIN:VEVENT
DTSTART;TZID=America/Los_Angeles:20261018T100000
DTEND;TZID=America/Los_Angeles:20261018T110000
DTSTAMP:20260423T072325
CREATED:20251122T235631Z
LAST-MODIFIED:20251122T235631Z
UID:3028-1792317600-1792321200@www.klamathfallsfriendschurch.org
SUMMARY:Programmed Worship
DESCRIPTION:A typical Sunday worship includes reading from scripture\, songs\, a prepared message\, prayers\, and a period of open worship.
URL:https://www.klamathfallsfriendschurch.org/event/programmed-worship-85/
LOCATION:Klamath Falls Friends Church\, 1918 Oregon Ave\, Klamath Falls\, OR 97601\, USA
END:VEVENT
BEGIN:VEVENT
DTSTART;TZID=America/Los_Angeles:20261025T094500
DTEND;TZID=America/Los_Angeles:20261025T100000
DTSTAMP:20260423T072325
CREATED:20251122T235631Z
LAST-MODIFIED:20251122T235631Z
UID:3029-1792921500-1792922400@www.klamathfallsfriendschurch.org
SUMMARY:Fellowship and Gathering Time
DESCRIPTION:
URL:https://www.klamathfallsfriendschurch.org/event/fellowship-and-gathering-time-55/
END:VEVENT
BEGIN:VEVENT
DTSTART;TZID=America/Los_Angeles:20261025T100000
DTEND;TZID=America/Los_Angeles:20261025T110000
DTSTAMP:20260423T072325
CREATED:20251122T235632Z
LAST-MODIFIED:20251122T235632Z
UID:3030-1792922400-1792926000@www.klamathfallsfriendschurch.org
SUMMARY:Programmed Worship
DESCRIPTION:A typical Sunday worship includes reading from scripture\, songs\, a prepared message\, prayers\, and a period of open worship.
URL:https://www.klamathfallsfriendschurch.org/event/programmed-worship-86/
LOCATION:Klamath Falls Friends Church\, 1918 Oregon Ave\, Klamath Falls\, OR 97601\, USA
END:VEVENT
BEGIN:VEVENT
DTSTART;TZID=America/Los_Angeles:20261025T140000
DTEND;TZID=America/Los_Angeles:20261025T150000
DTSTAMP:20260423T072325
CREATED:20260301T034057Z
LAST-MODIFIED:20260301T034057Z
UID:3444-1792936800-1792940400@www.klamathfallsfriendschurch.org
SUMMARY:Singing Resistance
DESCRIPTION:
URL:https://www.klamathfallsfriendschurch.org/event/singing-resistance-27/
END:VEVENT
BEGIN:VEVENT
DTSTART;TZID=America/Los_Angeles:20261027T163000
DTEND;TZID=America/Los_Angeles:20261027T183000
DTSTAMP:20260423T072325
CREATED:20251227T032925Z
LAST-MODIFIED:20251227T032925Z
UID:3211-1793118600-1793125800@www.klamathfallsfriendschurch.org
SUMMARY:Interfaith Food Pantry
DESCRIPTION:Food is available free of charge. Check with the county food bank for eligibility guidelines.
URL:https://www.klamathfallsfriendschurch.org/event/interfaith-food-pantry-54/
END:VEVENT
BEGIN:VEVENT
DTSTART;TZID=America/Los_Angeles:20261027T170000
DTEND;TZID=America/Los_Angeles:20261027T190000
DTSTAMP:20260423T072325
CREATED:20251122T235632Z
LAST-MODIFIED:20251122T235632Z
UID:3031-1793120400-1793127600@www.klamathfallsfriendschurch.org
SUMMARY:Interfaith Food Pantry
DESCRIPTION:Food is available free of charge. Check with eligibility”>https://www.klamathfoodbank.org/food-pantry-schedule-income-eligibility-guidelines-cloned/”>eligibility guidelines.
URL:https://www.klamathfallsfriendschurch.org/event/interfaith-food-pantry-43/
LOCATION:Klamath Lutheran Church-ELCA\, 1175 Crescent Ave\, Klamath Falls\, OR 97601\, USA
END:VEVENT
BEGIN:VEVENT
DTSTART;TZID=America/Los_Angeles:20261101T090000
DTEND;TZID=America/Los_Angeles:20261101T100000
DTSTAMP:20260423T072325
CREATED:20251122T235632Z
LAST-MODIFIED:20251122T235632Z
UID:3032-1793523600-1793527200@www.klamathfallsfriendschurch.org
SUMMARY:Bible Study
DESCRIPTION:
URL:https://www.klamathfallsfriendschurch.org/event/bible-study-21/
END:VEVENT
BEGIN:VEVENT
DTSTART;TZID=America/Los_Angeles:20261101T094500
DTEND;TZID=America/Los_Angeles:20261101T100000
DTSTAMP:20260423T072325
CREATED:20251122T235632Z
LAST-MODIFIED:20251122T235632Z
UID:3033-1793526300-1793527200@www.klamathfallsfriendschurch.org
SUMMARY:Fellowship and Gathering Time
DESCRIPTION:
URL:https://www.klamathfallsfriendschurch.org/event/fellowship-and-gathering-time-56/
END:VEVENT
BEGIN:VEVENT
DTSTART;TZID=America/Los_Angeles:20261101T100000
DTEND;TZID=America/Los_Angeles:20261101T110000
DTSTAMP:20260423T072325
CREATED:20251122T235633Z
LAST-MODIFIED:20251122T235633Z
UID:3034-1793527200-1793530800@www.klamathfallsfriendschurch.org
SUMMARY:Unprogrammed Worship
DESCRIPTION:Worship on the first Sunday of the month is an extended period of open/waiting worship.
URL:https://www.klamathfallsfriendschurch.org/event/unprogrammed-worship-28/
END:VEVENT
BEGIN:VEVENT
DTSTART;TZID=America/Los_Angeles:20261101T140000
DTEND;TZID=America/Los_Angeles:20261101T150000
DTSTAMP:20260423T072325
CREATED:20260301T034057Z
LAST-MODIFIED:20260301T034057Z
UID:3445-1793541600-1793545200@www.klamathfallsfriendschurch.org
SUMMARY:Singing Resistance
DESCRIPTION:
URL:https://www.klamathfallsfriendschurch.org/event/singing-resistance-28/
END:VEVENT
BEGIN:VEVENT
DTSTART;TZID=America/Los_Angeles:20261108T094500
DTEND;TZID=America/Los_Angeles:20261108T100000
DTSTAMP:20260423T072325
CREATED:20251122T235633Z
LAST-MODIFIED:20251122T235633Z
UID:3035-1794131100-1794132000@www.klamathfallsfriendschurch.org
SUMMARY:Fellowship and Gathering Time
DESCRIPTION:
URL:https://www.klamathfallsfriendschurch.org/event/fellowship-and-gathering-time-57/
END:VEVENT
BEGIN:VEVENT
DTSTART;TZID=America/Los_Angeles:20261108T100000
DTEND;TZID=America/Los_Angeles:20261108T110000
DTSTAMP:20260423T072325
CREATED:20251122T235633Z
LAST-MODIFIED:20251122T235633Z
UID:3036-1794132000-1794135600@www.klamathfallsfriendschurch.org
SUMMARY:Programmed Worship
DESCRIPTION:A typical Sunday worship includes reading from scripture\, songs\, a prepared message\, prayers\, and a period of open worship.
URL:https://www.klamathfallsfriendschurch.org/event/programmed-worship-87/
LOCATION:Klamath Falls Friends Church\, 1918 Oregon Ave\, Klamath Falls\, OR 97601\, USA
END:VEVENT
BEGIN:VEVENT
DTSTART;TZID=America/Los_Angeles:20261108T110000
DTEND;TZID=America/Los_Angeles:20261108T120000
DTSTAMP:20260423T072325
CREATED:20251122T235633Z
LAST-MODIFIED:20251122T235633Z
UID:3037-1794135600-1794139200@www.klamathfallsfriendschurch.org
SUMMARY:Book Group
DESCRIPTION:
URL:https://www.klamathfallsfriendschurch.org/event/book-group-13/
END:VEVENT
BEGIN:VEVENT
DTSTART;TZID=America/Los_Angeles:20261108T140000
DTEND;TZID=America/Los_Angeles:20261108T150000
DTSTAMP:20260423T072325
CREATED:20260301T034058Z
LAST-MODIFIED:20260301T034058Z
UID:3446-1794146400-1794150000@www.klamathfallsfriendschurch.org
SUMMARY:Singing Resistance
DESCRIPTION:
URL:https://www.klamathfallsfriendschurch.org/event/singing-resistance-29/
END:VEVENT
BEGIN:VEVENT
DTSTART;TZID=America/Los_Angeles:20261115T090000
DTEND;TZID=America/Los_Angeles:20261115T100000
DTSTAMP:20260423T072325
CREATED:20251122T235633Z
LAST-MODIFIED:20251122T235633Z
UID:3038-1794733200-1794736800@www.klamathfallsfriendschurch.org
SUMMARY:Peace and Social Concerns Committee Meeting
DESCRIPTION:Come to share your ideas and hear what’s going on with our meeting around peace and social justice.
URL:https://www.klamathfallsfriendschurch.org/event/peace-and-social-concerns-committee-meeting-28/
LOCATION:Klamath Falls Friends Church\, 1918 Oregon Ave\, Klamath Falls\, OR 97601\, USA
END:VEVENT
BEGIN:VEVENT
DTSTART;TZID=America/Los_Angeles:20261115T094500
DTEND;TZID=America/Los_Angeles:20261115T100000
DTSTAMP:20260423T072325
CREATED:20251122T235634Z
LAST-MODIFIED:20251122T235634Z
UID:3039-1794735900-1794736800@www.klamathfallsfriendschurch.org
SUMMARY:Fellowship and Gathering Time
DESCRIPTION:
URL:https://www.klamathfallsfriendschurch.org/event/fellowship-and-gathering-time-58/
END:VEVENT
BEGIN:VEVENT
DTSTART;TZID=America/Los_Angeles:20261115T100000
DTEND;TZID=America/Los_Angeles:20261115T110000
DTSTAMP:20260423T072325
CREATED:20251122T235634Z
LAST-MODIFIED:20251122T235634Z
UID:3040-1794736800-1794740400@www.klamathfallsfriendschurch.org
SUMMARY:Programmed Worship
DESCRIPTION:A typical Sunday worship includes reading from scripture\, songs\, a prepared message\, prayers\, and a period of open worship.
URL:https://www.klamathfallsfriendschurch.org/event/programmed-worship-88/
LOCATION:Klamath Falls Friends Church\, 1918 Oregon Ave\, Klamath Falls\, OR 97601\, USA
END:VEVENT
BEGIN:VEVENT
DTSTART;TZID=America/Los_Angeles:20261122T094500
DTEND;TZID=America/Los_Angeles:20261122T100000
DTSTAMP:20260423T072325
CREATED:20251122T235634Z
LAST-MODIFIED:20251122T235634Z
UID:3041-1795340700-1795341600@www.klamathfallsfriendschurch.org
SUMMARY:Fellowship and Gathering Time
DESCRIPTION:
URL:https://www.klamathfallsfriendschurch.org/event/fellowship-and-gathering-time-59/
END:VEVENT
BEGIN:VEVENT
DTSTART;TZID=America/Los_Angeles:20261122T100000
DTEND;TZID=America/Los_Angeles:20261122T110000
DTSTAMP:20260423T072325
CREATED:20251122T235634Z
LAST-MODIFIED:20251122T235634Z
UID:3042-1795341600-1795345200@www.klamathfallsfriendschurch.org
SUMMARY:Programmed Worship
DESCRIPTION:A typical Sunday worship includes reading from scripture\, songs\, a prepared message\, prayers\, and a period of open worship.
URL:https://www.klamathfallsfriendschurch.org/event/programmed-worship-89/
LOCATION:Klamath Falls Friends Church\, 1918 Oregon Ave\, Klamath Falls\, OR 97601\, USA
END:VEVENT
BEGIN:VEVENT
DTSTART;TZID=America/Los_Angeles:20261122T140000
DTEND;TZID=America/Los_Angeles:20261122T150000
DTSTAMP:20260423T072325
CREATED:20260301T034058Z
LAST-MODIFIED:20260301T034058Z
UID:3447-1795356000-1795359600@www.klamathfallsfriendschurch.org
SUMMARY:Singing Resistance
DESCRIPTION:
URL:https://www.klamathfallsfriendschurch.org/event/singing-resistance-30/
END:VEVENT
END:VCALENDAR