BEGIN:VCALENDAR
VERSION:2.0
PRODID:-//Klamath Falls Friends - ECPv6.15.20//NONSGML v1.0//EN
CALSCALE:GREGORIAN
METHOD:PUBLISH
X-WR-CALNAME:Klamath Falls Friends
X-ORIGINAL-URL:https://www.klamathfallsfriendschurch.org
X-WR-CALDESC:Events for Klamath Falls Friends
REFRESH-INTERVAL;VALUE=DURATION:PT1H
X-Robots-Tag:noindex
X-PUBLISHED-TTL:PT1H
BEGIN:VTIMEZONE
TZID:America/Los_Angeles
BEGIN:DAYLIGHT
TZOFFSETFROM:-0800
TZOFFSETTO:-0700
TZNAME:PDT
DTSTART:20240310T100000
END:DAYLIGHT
BEGIN:STANDARD
TZOFFSETFROM:-0700
TZOFFSETTO:-0800
TZNAME:PST
DTSTART:20241103T090000
END:STANDARD
BEGIN:DAYLIGHT
TZOFFSETFROM:-0800
TZOFFSETTO:-0700
TZNAME:PDT
DTSTART:20250309T100000
END:DAYLIGHT
BEGIN:STANDARD
TZOFFSETFROM:-0700
TZOFFSETTO:-0800
TZNAME:PST
DTSTART:20251102T090000
END:STANDARD
BEGIN:DAYLIGHT
TZOFFSETFROM:-0800
TZOFFSETTO:-0700
TZNAME:PDT
DTSTART:20260308T100000
END:DAYLIGHT
BEGIN:STANDARD
TZOFFSETFROM:-0700
TZOFFSETTO:-0800
TZNAME:PST
DTSTART:20261101T090000
END:STANDARD
BEGIN:DAYLIGHT
TZOFFSETFROM:-0800
TZOFFSETTO:-0700
TZNAME:PDT
DTSTART:20270314T100000
END:DAYLIGHT
BEGIN:STANDARD
TZOFFSETFROM:-0700
TZOFFSETTO:-0800
TZNAME:PST
DTSTART:20271107T090000
END:STANDARD
END:VTIMEZONE
BEGIN:VTIMEZONE
TZID:UTC
BEGIN:STANDARD
TZOFFSETFROM:+0000
TZOFFSETTO:+0000
TZNAME:UTC
DTSTART:20240101T000000
END:STANDARD
END:VTIMEZONE
BEGIN:VEVENT
DTSTART;TZID=America/Los_Angeles:20260127T163000
DTEND;TZID=America/Los_Angeles:20260127T183000
DTSTAMP:20260423T172343
CREATED:20251227T032923Z
LAST-MODIFIED:20251227T032923Z
UID:3202-1769531400-1769538600@www.klamathfallsfriendschurch.org
SUMMARY:Interfaith Food Pantry
DESCRIPTION:Food is available free of charge. Check with the county food bank for eligibility guidelines.
URL:https://www.klamathfallsfriendschurch.org/event/interfaith-food-pantry-45/
END:VEVENT
BEGIN:VEVENT
DTSTART;TZID=America/Los_Angeles:20260125T110000
DTEND;TZID=America/Los_Angeles:20260125T120000
DTSTAMP:20260423T172343
CREATED:20251227T032922Z
LAST-MODIFIED:20251227T032922Z
UID:3201-1769338800-1769342400@www.klamathfallsfriendschurch.org
SUMMARY:Monthly Business Meeting
DESCRIPTION:All are welcome to have their voices heard and listen to reports of what is currently going on at the meeting.
URL:https://www.klamathfallsfriendschurch.org/event/monthly-business-meeting-13/
LOCATION:Klamath Falls Friends Church\, 1918 Oregon Ave\, Klamath Falls\, OR 97601\, USA
END:VEVENT
BEGIN:VEVENT
DTSTART;TZID=America/Los_Angeles:20260125T100000
DTEND;TZID=America/Los_Angeles:20260125T110000
DTSTAMP:20260423T172343
CREATED:20250303T022944Z
LAST-MODIFIED:20250303T022944Z
UID:1880-1769335200-1769338800@www.klamathfallsfriendschurch.org
SUMMARY:Programmed Worship
DESCRIPTION:A typical Sunday worship includes reading from scripture\, songs\, a prepared message\, prayers\, and a period of open worship.
URL:https://www.klamathfallsfriendschurch.org/event/programmed-worship-54/
LOCATION:Klamath Falls Friends Church\, 1918 Oregon Ave\, Klamath Falls\, OR 97601\, USA
END:VEVENT
BEGIN:VEVENT
DTSTART;TZID=America/Los_Angeles:20260125T094500
DTEND;TZID=America/Los_Angeles:20260125T100000
DTSTAMP:20260423T172343
CREATED:20251011T224000Z
LAST-MODIFIED:20251011T224000Z
UID:2841-1769334300-1769335200@www.klamathfallsfriendschurch.org
SUMMARY:Fellowship and Gathering Time
DESCRIPTION:
URL:https://www.klamathfallsfriendschurch.org/event/fellowship-and-gathering-time-16/
END:VEVENT
BEGIN:VEVENT
DTSTART;TZID=America/Los_Angeles:20260120T163000
DTEND;TZID=America/Los_Angeles:20260120T183000
DTSTAMP:20260423T172343
CREATED:20251227T032922Z
LAST-MODIFIED:20251227T032922Z
UID:3200-1768926600-1768933800@www.klamathfallsfriendschurch.org
SUMMARY:Interfaith Food Pantry
DESCRIPTION:Food is available free of charge. Check with the county food bank for eligibility guidelines.
URL:https://www.klamathfallsfriendschurch.org/event/interfaith-food-pantry-44/
LOCATION:Klamath Lutheran Church-ELCA\, 1175 Crescent Ave\, Klamath Falls\, OR 97601\, USA
END:VEVENT
BEGIN:VEVENT
DTSTART;TZID=America/Los_Angeles:20260118T110000
DTEND;TZID=America/Los_Angeles:20260118T120000
DTSTAMP:20260423T172343
CREATED:20251227T032922Z
LAST-MODIFIED:20251227T032922Z
UID:3199-1768734000-1768737600@www.klamathfallsfriendschurch.org
SUMMARY:Potluck
DESCRIPTION:
URL:https://www.klamathfallsfriendschurch.org/event/potluck-5/
END:VEVENT
BEGIN:VEVENT
DTSTART;TZID=America/Los_Angeles:20260118T100000
DTEND;TZID=America/Los_Angeles:20260118T110000
DTSTAMP:20260423T172343
CREATED:20250118T211000Z
LAST-MODIFIED:20250118T211000Z
UID:1765-1768730400-1768734000@www.klamathfallsfriendschurch.org
SUMMARY:Programmed Worship
DESCRIPTION:A typical Sunday worship includes reading from scripture\, songs\, a prepared message\, prayers\, and a period of open worship.
URL:https://www.klamathfallsfriendschurch.org/event/programmed-worship-52/
LOCATION:Klamath Falls Friends Church\, 1918 Oregon Ave\, Klamath Falls\, OR 97601\, USA
END:VEVENT
BEGIN:VEVENT
DTSTART;TZID=America/Los_Angeles:20260118T094500
DTEND;TZID=America/Los_Angeles:20260118T100000
DTSTAMP:20260423T172343
CREATED:20251011T224000Z
LAST-MODIFIED:20251011T224000Z
UID:2840-1768729500-1768730400@www.klamathfallsfriendschurch.org
SUMMARY:Fellowship and Gathering Time
DESCRIPTION:
URL:https://www.klamathfallsfriendschurch.org/event/fellowship-and-gathering-time-15/
END:VEVENT
BEGIN:VEVENT
DTSTART;TZID=America/Los_Angeles:20260118T090000
DTEND;TZID=America/Los_Angeles:20260118T100000
DTSTAMP:20260423T172343
CREATED:20250118T210959Z
LAST-MODIFIED:20250118T210959Z
UID:1764-1768726800-1768730400@www.klamathfallsfriendschurch.org
SUMMARY:Peace and Social Concerns Committee Meeting
DESCRIPTION:Come to share your ideas and hear what’s going on with our meeting around peace and social justice.
URL:https://www.klamathfallsfriendschurch.org/event/peace-and-social-concerns-committee-meeting-6/
LOCATION:Klamath Falls Friends Church\, 1918 Oregon Ave\, Klamath Falls\, OR 97601\, USA
END:VEVENT
BEGIN:VEVENT
DTSTART;TZID=America/Los_Angeles:20260117T090000
DTEND;TZID=America/Los_Angeles:20260117T100000
DTSTAMP:20260423T172343
CREATED:20251227T032922Z
LAST-MODIFIED:20251227T032922Z
UID:3198-1768640400-1768644000@www.klamathfallsfriendschurch.org
SUMMARY:Cleaning Day at the Church
DESCRIPTION:
URL:https://www.klamathfallsfriendschurch.org/event/cleaning-day-at-the-church-7/
END:VEVENT
BEGIN:VEVENT
DTSTART;TZID=America/Los_Angeles:20260111T110000
DTEND;TZID=America/Los_Angeles:20260111T120000
DTSTAMP:20260423T172343
CREATED:20251011T224000Z
LAST-MODIFIED:20251011T224000Z
UID:2839-1768129200-1768132800@www.klamathfallsfriendschurch.org
SUMMARY:Book Group
DESCRIPTION:
URL:https://www.klamathfallsfriendschurch.org/event/book-group-3/
END:VEVENT
BEGIN:VEVENT
DTSTART;TZID=America/Los_Angeles:20260111T100000
DTEND;TZID=America/Los_Angeles:20260111T110000
DTSTAMP:20260423T172343
CREATED:20250112T230156Z
LAST-MODIFIED:20250112T230156Z
UID:1743-1768125600-1768129200@www.klamathfallsfriendschurch.org
SUMMARY:Programmed Worship
DESCRIPTION:A typical Sunday worship includes reading from scripture\, songs\, a prepared message\, prayers\, and a period of open worship.
URL:https://www.klamathfallsfriendschurch.org/event/programmed-worship-51/
LOCATION:Klamath Falls Friends Church\, 1918 Oregon Ave\, Klamath Falls\, OR 97601\, USA
END:VEVENT
BEGIN:VEVENT
DTSTART;TZID=America/Los_Angeles:20260111T094500
DTEND;TZID=America/Los_Angeles:20260111T100000
DTSTAMP:20260423T172343
CREATED:20251011T224000Z
LAST-MODIFIED:20251011T224000Z
UID:2838-1768124700-1768125600@www.klamathfallsfriendschurch.org
SUMMARY:Fellowship and Gathering Time
DESCRIPTION:
URL:https://www.klamathfallsfriendschurch.org/event/fellowship-and-gathering-time-14/
END:VEVENT
BEGIN:VEVENT
DTSTART;TZID=America/Los_Angeles:20260107T173000
DTEND;TZID=America/Los_Angeles:20260107T183000
DTSTAMP:20260423T172343
CREATED:20251227T032922Z
LAST-MODIFIED:20251227T032922Z
UID:3197-1767807000-1767810600@www.klamathfallsfriendschurch.org
SUMMARY:M&C
DESCRIPTION:
URL:https://www.klamathfallsfriendschurch.org/event/mc-10/
END:VEVENT
BEGIN:VEVENT
DTSTART;TZID=America/Los_Angeles:20260104T100000
DTEND;TZID=America/Los_Angeles:20260104T110000
DTSTAMP:20260423T172343
CREATED:20250112T230155Z
LAST-MODIFIED:20250112T230155Z
UID:1741-1767520800-1767524400@www.klamathfallsfriendschurch.org
SUMMARY:Unprogrammed Worship
DESCRIPTION:Worship on the first Sunday of the month is an extended period of open/waiting worship.
URL:https://www.klamathfallsfriendschurch.org/event/unprogrammed-worship-17/
END:VEVENT
BEGIN:VEVENT
DTSTART;TZID=America/Los_Angeles:20260104T094500
DTEND;TZID=America/Los_Angeles:20260104T100000
DTSTAMP:20260423T172343
CREATED:20251011T223959Z
LAST-MODIFIED:20251011T223959Z
UID:2837-1767519900-1767520800@www.klamathfallsfriendschurch.org
SUMMARY:Fellowship and Gathering Time
DESCRIPTION:
URL:https://www.klamathfallsfriendschurch.org/event/fellowship-and-gathering-time-13/
END:VEVENT
BEGIN:VEVENT
DTSTART;TZID=America/Los_Angeles:20260104T090000
DTEND;TZID=America/Los_Angeles:20260104T100000
DTSTAMP:20260423T172343
CREATED:20251011T223959Z
LAST-MODIFIED:20251011T223959Z
UID:2836-1767517200-1767520800@www.klamathfallsfriendschurch.org
SUMMARY:Bible Study
DESCRIPTION:
URL:https://www.klamathfallsfriendschurch.org/event/bible-study-11/
END:VEVENT
BEGIN:VEVENT
DTSTART;TZID=America/Los_Angeles:20251230T170000
DTEND;TZID=America/Los_Angeles:20251230T190000
DTSTAMP:20260423T172343
CREATED:20250112T230155Z
LAST-MODIFIED:20250112T230155Z
UID:1740-1767114000-1767121200@www.klamathfallsfriendschurch.org
SUMMARY:Interfaith Food Pantry
DESCRIPTION:Food is available free of charge. Check with the county food bank for eligibility guidelines.
URL:https://www.klamathfallsfriendschurch.org/event/interfaith-food-pantry-30/
LOCATION:Klamath Lutheran Church-ELCA\, 1175 Crescent Ave\, Klamath Falls\, OR 97601\, USA
END:VEVENT
BEGIN:VEVENT
DTSTART;VALUE=DATE:20251229
DTEND;VALUE=DATE:20260103
DTSTAMP:20260423T172343
CREATED:20251011T223959Z
LAST-MODIFIED:20251011T223959Z
UID:2834-1766966400-1767398399@www.klamathfallsfriendschurch.org
SUMMARY:Vacation in Michigan
DESCRIPTION:
URL:https://www.klamathfallsfriendschurch.org/event/vacation-in-michigan/
LOCATION:Michigan
END:VEVENT
BEGIN:VEVENT
DTSTART;TZID=America/Los_Angeles:20251228T100000
DTEND;TZID=America/Los_Angeles:20251228T110000
DTSTAMP:20260423T172343
CREATED:20250112T230155Z
LAST-MODIFIED:20250112T230155Z
UID:1739-1766916000-1766919600@www.klamathfallsfriendschurch.org
SUMMARY:Programmed Worship
DESCRIPTION:A typical Sunday worship includes reading from scripture\, songs\, a prepared message\, prayers\, and a period of open worship.
URL:https://www.klamathfallsfriendschurch.org/event/programmed-worship-50/
LOCATION:Klamath Falls Friends Church\, 1918 Oregon Ave\, Klamath Falls\, OR 97601\, USA
END:VEVENT
BEGIN:VEVENT
DTSTART;TZID=America/Los_Angeles:20251228T094500
DTEND;TZID=America/Los_Angeles:20251228T100000
DTSTAMP:20260423T172343
CREATED:20251011T223959Z
LAST-MODIFIED:20251011T223959Z
UID:2833-1766915100-1766916000@www.klamathfallsfriendschurch.org
SUMMARY:Fellowship and Gathering Time
DESCRIPTION:
URL:https://www.klamathfallsfriendschurch.org/event/fellowship-and-gathering-time-12/
END:VEVENT
BEGIN:VEVENT
DTSTART;TZID=America/Los_Angeles:20251223T170000
DTEND;TZID=America/Los_Angeles:20251223T190000
DTSTAMP:20260423T172343
CREATED:20251122T235630Z
LAST-MODIFIED:20251122T235630Z
UID:3025-1766509200-1766516400@www.klamathfallsfriendschurch.org
SUMMARY:Interfaith Food Pantry
DESCRIPTION:Food is available free of charge. Check with the county food bank for eligibility guidelines.
URL:https://www.klamathfallsfriendschurch.org/event/interfaith-food-pantry-42/
LOCATION:Klamath Lutheran Church-ELCA\, 1175 Crescent Ave\, Klamath Falls\, OR 97601\, USA
END:VEVENT
BEGIN:VEVENT
DTSTART;TZID=America/Los_Angeles:20251221T100000
DTEND;TZID=America/Los_Angeles:20251221T110000
DTSTAMP:20260423T172343
CREATED:20250112T230155Z
LAST-MODIFIED:20250112T230155Z
UID:1738-1766311200-1766314800@www.klamathfallsfriendschurch.org
SUMMARY:Programmed Worship
DESCRIPTION:A typical Sunday worship includes reading from scripture\, songs\, a prepared message\, prayers\, and a period of open worship.
URL:https://www.klamathfallsfriendschurch.org/event/programmed-worship-49/
LOCATION:Klamath Falls Friends Church\, 1918 Oregon Ave\, Klamath Falls\, OR 97601\, USA
END:VEVENT
BEGIN:VEVENT
DTSTART;TZID=America/Los_Angeles:20251221T094500
DTEND;TZID=America/Los_Angeles:20251221T100000
DTSTAMP:20260423T172343
CREATED:20251011T223959Z
LAST-MODIFIED:20251011T223959Z
UID:2832-1766310300-1766311200@www.klamathfallsfriendschurch.org
SUMMARY:Fellowship and Gathering Time
DESCRIPTION:
URL:https://www.klamathfallsfriendschurch.org/event/fellowship-and-gathering-time-11/
END:VEVENT
BEGIN:VEVENT
DTSTART;TZID=America/Los_Angeles:20251221T090000
DTEND;TZID=America/Los_Angeles:20251221T100000
DTSTAMP:20260423T172343
CREATED:20250112T230155Z
LAST-MODIFIED:20250112T230155Z
UID:1737-1766307600-1766311200@www.klamathfallsfriendschurch.org
SUMMARY:Peace and Social Concerns Committee Meeting
DESCRIPTION:Come to share your ideas and hear what’s going on with our meeting around peace and social justice.
URL:https://www.klamathfallsfriendschurch.org/event/peace-and-social-concerns-committee-meeting-5/
LOCATION:Klamath Falls Friends Church\, 1918 Oregon Ave\, Klamath Falls\, OR 97601\, USA
END:VEVENT
BEGIN:VEVENT
DTSTART;TZID=America/Los_Angeles:20251215T090000
DTEND;TZID=America/Los_Angeles:20251215T100000
DTSTAMP:20260423T172343
CREATED:20251122T235630Z
LAST-MODIFIED:20251122T235630Z
UID:3024-1765789200-1765792800@www.klamathfallsfriendschurch.org
SUMMARY:Cleaning Day at the Church
DESCRIPTION:
URL:https://www.klamathfallsfriendschurch.org/event/cleaning-day-at-the-church-6/
END:VEVENT
BEGIN:VEVENT
DTSTART;TZID=America/Los_Angeles:20251214T110000
DTEND;TZID=America/Los_Angeles:20251214T120000
DTSTAMP:20260423T172343
CREATED:20251011T223959Z
LAST-MODIFIED:20251011T223959Z
UID:2831-1765710000-1765713600@www.klamathfallsfriendschurch.org
SUMMARY:Book Group
DESCRIPTION:
URL:https://www.klamathfallsfriendschurch.org/event/book-group-2/
END:VEVENT
BEGIN:VEVENT
DTSTART;TZID=America/Los_Angeles:20251214T100000
DTEND;TZID=America/Los_Angeles:20251214T110000
DTSTAMP:20260423T172343
CREATED:20250112T230155Z
LAST-MODIFIED:20250112T230155Z
UID:1736-1765706400-1765710000@www.klamathfallsfriendschurch.org
SUMMARY:Programmed Worship
DESCRIPTION:A typical Sunday worship includes reading from scripture\, songs\, a prepared message\, prayers\, and a period of open worship.
URL:https://www.klamathfallsfriendschurch.org/event/programmed-worship-48/
LOCATION:Klamath Falls Friends Church\, 1918 Oregon Ave\, Klamath Falls\, OR 97601\, USA
END:VEVENT
BEGIN:VEVENT
DTSTART;TZID=America/Los_Angeles:20251214T094500
DTEND;TZID=America/Los_Angeles:20251214T100000
DTSTAMP:20260423T172343
CREATED:20251011T223959Z
LAST-MODIFIED:20251011T223959Z
UID:2830-1765705500-1765706400@www.klamathfallsfriendschurch.org
SUMMARY:Fellowship and Gathering Time
DESCRIPTION:
URL:https://www.klamathfallsfriendschurch.org/event/fellowship-and-gathering-time-10/
END:VEVENT
BEGIN:VEVENT
DTSTART;TZID=America/Los_Angeles:20251207T110000
DTEND;TZID=America/Los_Angeles:20251207T120000
DTSTAMP:20260423T172343
CREATED:20251122T235630Z
LAST-MODIFIED:20251122T235630Z
UID:3023-1765105200-1765108800@www.klamathfallsfriendschurch.org
SUMMARY:Hanging of the Greens
DESCRIPTION:
URL:https://www.klamathfallsfriendschurch.org/event/hanging-of-the-greens/
END:VEVENT
END:VCALENDAR