BEGIN:VCALENDAR
VERSION:2.0
PRODID:-//Klamath Falls Friends - ECPv6.15.20//NONSGML v1.0//EN
CALSCALE:GREGORIAN
METHOD:PUBLISH
X-ORIGINAL-URL:https://www.klamathfallsfriendschurch.org
X-WR-CALDESC:Events for Klamath Falls Friends
REFRESH-INTERVAL;VALUE=DURATION:PT1H
X-Robots-Tag:noindex
X-PUBLISHED-TTL:PT1H
BEGIN:VTIMEZONE
TZID:America/Los_Angeles
BEGIN:DAYLIGHT
TZOFFSETFROM:-0800
TZOFFSETTO:-0700
TZNAME:PDT
DTSTART:20260308T100000
END:DAYLIGHT
BEGIN:STANDARD
TZOFFSETFROM:-0700
TZOFFSETTO:-0800
TZNAME:PST
DTSTART:20261101T090000
END:STANDARD
BEGIN:DAYLIGHT
TZOFFSETFROM:-0800
TZOFFSETTO:-0700
TZNAME:PDT
DTSTART:20270314T100000
END:DAYLIGHT
BEGIN:STANDARD
TZOFFSETFROM:-0700
TZOFFSETTO:-0800
TZNAME:PST
DTSTART:20271107T090000
END:STANDARD
BEGIN:DAYLIGHT
TZOFFSETFROM:-0800
TZOFFSETTO:-0700
TZNAME:PDT
DTSTART:20280312T100000
END:DAYLIGHT
BEGIN:STANDARD
TZOFFSETFROM:-0700
TZOFFSETTO:-0800
TZNAME:PST
DTSTART:20281105T090000
END:STANDARD
END:VTIMEZONE
BEGIN:VEVENT
DTSTART;TZID=America/Los_Angeles:20270214T100000
DTEND;TZID=America/Los_Angeles:20270214T110000
DTSTAMP:20260423T154012
CREATED:20260301T034107Z
LAST-MODIFIED:20260301T034107Z
UID:3476-1802599200-1802602800@www.klamathfallsfriendschurch.org
SUMMARY:Programmed Worship
DESCRIPTION:A typical Sunday worship includes reading from scripture\, songs\, a prepared message\, prayers\, and a period of open worship.
URL:https://www.klamathfallsfriendschurch.org/event/programmed-worship-96/
LOCATION:Klamath Falls Friends Church\, 1918 Oregon Ave\, Klamath Falls\, OR 97601\, USA
END:VEVENT
BEGIN:VEVENT
DTSTART;TZID=America/Los_Angeles:20270214T140000
DTEND;TZID=America/Los_Angeles:20270214T150000
DTSTAMP:20260423T154012
CREATED:20260301T034108Z
LAST-MODIFIED:20260301T034108Z
UID:3477-1802613600-1802617200@www.klamathfallsfriendschurch.org
SUMMARY:Singing Resistance
DESCRIPTION:
URL:https://www.klamathfallsfriendschurch.org/event/singing-resistance-40/
END:VEVENT
BEGIN:VEVENT
DTSTART;TZID=America/Los_Angeles:20270221T090000
DTEND;TZID=America/Los_Angeles:20270221T100000
DTSTAMP:20260423T154012
CREATED:20260301T034108Z
LAST-MODIFIED:20260301T034108Z
UID:3478-1803200400-1803204000@www.klamathfallsfriendschurch.org
SUMMARY:Peace and Social Concerns Committee Meeting
DESCRIPTION:Come to share your ideas and hear what’s going on with our meeting around peace and social justice.
URL:https://www.klamathfallsfriendschurch.org/event/peace-and-social-concerns-committee-meeting-31/
LOCATION:Klamath Falls Friends Church\, 1918 Oregon Ave\, Klamath Falls\, OR 97601\, USA
END:VEVENT
BEGIN:VEVENT
DTSTART;TZID=America/Los_Angeles:20270221T094500
DTEND;TZID=America/Los_Angeles:20270221T100000
DTSTAMP:20260423T154012
CREATED:20260301T034108Z
LAST-MODIFIED:20260301T034108Z
UID:3479-1803203100-1803204000@www.klamathfallsfriendschurch.org
SUMMARY:Fellowship and Gathering Time
DESCRIPTION:
URL:https://www.klamathfallsfriendschurch.org/event/fellowship-and-gathering-time-72/
END:VEVENT
BEGIN:VEVENT
DTSTART;TZID=America/Los_Angeles:20270221T100000
DTEND;TZID=America/Los_Angeles:20270221T110000
DTSTAMP:20260423T154012
CREATED:20260301T034108Z
LAST-MODIFIED:20260301T034108Z
UID:3480-1803204000-1803207600@www.klamathfallsfriendschurch.org
SUMMARY:Programmed Worship
DESCRIPTION:A typical Sunday worship includes reading from scripture\, songs\, a prepared message\, prayers\, and a period of open worship.
URL:https://www.klamathfallsfriendschurch.org/event/programmed-worship-97/
LOCATION:Klamath Falls Friends Church\, 1918 Oregon Ave\, Klamath Falls\, OR 97601\, USA
END:VEVENT
BEGIN:VEVENT
DTSTART;TZID=America/Los_Angeles:20270223T163000
DTEND;TZID=America/Los_Angeles:20270223T183000
DTSTAMP:20260423T154012
CREATED:20260301T034109Z
LAST-MODIFIED:20260301T034109Z
UID:3481-1803400200-1803407400@www.klamathfallsfriendschurch.org
SUMMARY:Interfaith Food Pantry
DESCRIPTION:Food is available free of charge. Check with the county food bank for eligibility guidelines.
URL:https://www.klamathfallsfriendschurch.org/event/interfaith-food-pantry-62/
END:VEVENT
BEGIN:VEVENT
DTSTART;TZID=America/Los_Angeles:20270223T170000
DTEND;TZID=America/Los_Angeles:20270223T190000
DTSTAMP:20260423T154012
CREATED:20260301T034109Z
LAST-MODIFIED:20260301T034109Z
UID:3482-1803402000-1803409200@www.klamathfallsfriendschurch.org
SUMMARY:Interfaith Food Pantry
DESCRIPTION:Food is available free of charge. Check with eligibility”>https://www.klamathfoodbank.org/food-pantry-schedule-income-eligibility-guidelines-cloned/”>eligibility guidelines.
URL:https://www.klamathfallsfriendschurch.org/event/interfaith-food-pantry-63/
LOCATION:Klamath Lutheran Church-ELCA\, 1175 Crescent Ave\, Klamath Falls\, OR 97601\, USA
END:VEVENT
BEGIN:VEVENT
DTSTART;TZID=America/Los_Angeles:20270228T094500
DTEND;TZID=America/Los_Angeles:20270228T100000
DTSTAMP:20260423T154012
CREATED:20260301T034109Z
LAST-MODIFIED:20260301T034109Z
UID:3483-1803807900-1803808800@www.klamathfallsfriendschurch.org
SUMMARY:Fellowship and Gathering Time
DESCRIPTION:
URL:https://www.klamathfallsfriendschurch.org/event/fellowship-and-gathering-time-73/
END:VEVENT
BEGIN:VEVENT
DTSTART;TZID=America/Los_Angeles:20270228T100000
DTEND;TZID=America/Los_Angeles:20270228T110000
DTSTAMP:20260423T154012
CREATED:20260301T034109Z
LAST-MODIFIED:20260301T034109Z
UID:3484-1803808800-1803812400@www.klamathfallsfriendschurch.org
SUMMARY:Programmed Worship
DESCRIPTION:A typical Sunday worship includes reading from scripture\, songs\, a prepared message\, prayers\, and a period of open worship.
URL:https://www.klamathfallsfriendschurch.org/event/programmed-worship-98/
LOCATION:Klamath Falls Friends Church\, 1918 Oregon Ave\, Klamath Falls\, OR 97601\, USA
END:VEVENT
BEGIN:VEVENT
DTSTART;TZID=America/Los_Angeles:20270228T140000
DTEND;TZID=America/Los_Angeles:20270228T150000
DTSTAMP:20260423T154012
CREATED:20260301T034110Z
LAST-MODIFIED:20260301T034110Z
UID:3485-1803823200-1803826800@www.klamathfallsfriendschurch.org
SUMMARY:Singing Resistance
DESCRIPTION:
URL:https://www.klamathfallsfriendschurch.org/event/singing-resistance-41/
END:VEVENT
BEGIN:VEVENT
DTSTART;TZID=America/Los_Angeles:20270307T090000
DTEND;TZID=America/Los_Angeles:20270307T100000
DTSTAMP:20260423T154012
CREATED:20260411T180132Z
LAST-MODIFIED:20260411T180132Z
UID:3606-1804410000-1804413600@www.klamathfallsfriendschurch.org
SUMMARY:Bible Study
DESCRIPTION:
URL:https://www.klamathfallsfriendschurch.org/event/bible-study-25/
END:VEVENT
BEGIN:VEVENT
DTSTART;TZID=America/Los_Angeles:20270307T094500
DTEND;TZID=America/Los_Angeles:20270307T100000
DTSTAMP:20260423T154012
CREATED:20260411T180132Z
LAST-MODIFIED:20260411T180132Z
UID:3607-1804412700-1804413600@www.klamathfallsfriendschurch.org
SUMMARY:Fellowship and Gathering Time
DESCRIPTION:
URL:https://www.klamathfallsfriendschurch.org/event/fellowship-and-gathering-time-74/
END:VEVENT
BEGIN:VEVENT
DTSTART;TZID=America/Los_Angeles:20270307T100000
DTEND;TZID=America/Los_Angeles:20270307T110000
DTSTAMP:20260423T154012
CREATED:20260411T180132Z
LAST-MODIFIED:20260411T180132Z
UID:3608-1804413600-1804417200@www.klamathfallsfriendschurch.org
SUMMARY:Unprogrammed Worship
DESCRIPTION:Worship on the first Sunday of the month is an extended period of open/waiting worship.
URL:https://www.klamathfallsfriendschurch.org/event/unprogrammed-worship-32/
END:VEVENT
BEGIN:VEVENT
DTSTART;TZID=America/Los_Angeles:20270307T140000
DTEND;TZID=America/Los_Angeles:20270307T150000
DTSTAMP:20260423T154012
CREATED:20260411T180133Z
LAST-MODIFIED:20260411T180133Z
UID:3609-1804428000-1804431600@www.klamathfallsfriendschurch.org
SUMMARY:Singing Resistance
DESCRIPTION:
URL:https://www.klamathfallsfriendschurch.org/event/singing-resistance-42/
END:VEVENT
BEGIN:VEVENT
DTSTART;TZID=America/Los_Angeles:20270314T094500
DTEND;TZID=America/Los_Angeles:20270314T100000
DTSTAMP:20260423T154012
CREATED:20260411T180133Z
LAST-MODIFIED:20260411T180133Z
UID:3610-1805017500-1805018400@www.klamathfallsfriendschurch.org
SUMMARY:Fellowship and Gathering Time
DESCRIPTION:
URL:https://www.klamathfallsfriendschurch.org/event/fellowship-and-gathering-time-75/
END:VEVENT
BEGIN:VEVENT
DTSTART;TZID=America/Los_Angeles:20270314T100000
DTEND;TZID=America/Los_Angeles:20270314T110000
DTSTAMP:20260423T154012
CREATED:20260411T180133Z
LAST-MODIFIED:20260411T180133Z
UID:3611-1805018400-1805022000@www.klamathfallsfriendschurch.org
SUMMARY:Programmed Worship
DESCRIPTION:A typical Sunday worship includes reading from scripture\, songs\, a prepared message\, prayers\, and a period of open worship.
URL:https://www.klamathfallsfriendschurch.org/event/programmed-worship-99/
LOCATION:Klamath Falls Friends Church\, 1918 Oregon Ave\, Klamath Falls\, OR 97601\, USA
END:VEVENT
BEGIN:VEVENT
DTSTART;TZID=America/Los_Angeles:20270314T140000
DTEND;TZID=America/Los_Angeles:20270314T150000
DTSTAMP:20260423T154012
CREATED:20260411T180133Z
LAST-MODIFIED:20260411T180133Z
UID:3612-1805032800-1805036400@www.klamathfallsfriendschurch.org
SUMMARY:Singing Resistance
DESCRIPTION:
URL:https://www.klamathfallsfriendschurch.org/event/singing-resistance-43/
END:VEVENT
BEGIN:VEVENT
DTSTART;TZID=America/Los_Angeles:20270321T090000
DTEND;TZID=America/Los_Angeles:20270321T100000
DTSTAMP:20260423T154012
CREATED:20260411T180134Z
LAST-MODIFIED:20260411T180134Z
UID:3613-1805619600-1805623200@www.klamathfallsfriendschurch.org
SUMMARY:Peace and Social Concerns Committee Meeting
DESCRIPTION:Come to share your ideas and hear what’s going on with our meeting around peace and social justice.
URL:https://www.klamathfallsfriendschurch.org/event/peace-and-social-concerns-committee-meeting-32/
LOCATION:Klamath Falls Friends Church\, 1918 Oregon Ave\, Klamath Falls\, OR 97601\, USA
END:VEVENT
BEGIN:VEVENT
DTSTART;TZID=America/Los_Angeles:20270321T094500
DTEND;TZID=America/Los_Angeles:20270321T100000
DTSTAMP:20260423T154012
CREATED:20260411T180134Z
LAST-MODIFIED:20260411T180134Z
UID:3614-1805622300-1805623200@www.klamathfallsfriendschurch.org
SUMMARY:Fellowship and Gathering Time
DESCRIPTION:
URL:https://www.klamathfallsfriendschurch.org/event/fellowship-and-gathering-time-76/
END:VEVENT
BEGIN:VEVENT
DTSTART;TZID=America/Los_Angeles:20270321T100000
DTEND;TZID=America/Los_Angeles:20270321T110000
DTSTAMP:20260423T154012
CREATED:20260411T180134Z
LAST-MODIFIED:20260411T180134Z
UID:3615-1805623200-1805626800@www.klamathfallsfriendschurch.org
SUMMARY:Programmed Worship
DESCRIPTION:A typical Sunday worship includes reading from scripture\, songs\, a prepared message\, prayers\, and a period of open worship.
URL:https://www.klamathfallsfriendschurch.org/event/programmed-worship-100/
LOCATION:Klamath Falls Friends Church\, 1918 Oregon Ave\, Klamath Falls\, OR 97601\, USA
END:VEVENT
BEGIN:VEVENT
DTSTART;TZID=America/Los_Angeles:20270328T094500
DTEND;TZID=America/Los_Angeles:20270328T100000
DTSTAMP:20260423T154012
CREATED:20260411T180135Z
LAST-MODIFIED:20260411T180135Z
UID:3616-1806227100-1806228000@www.klamathfallsfriendschurch.org
SUMMARY:Fellowship and Gathering Time
DESCRIPTION:
URL:https://www.klamathfallsfriendschurch.org/event/fellowship-and-gathering-time-77/
END:VEVENT
BEGIN:VEVENT
DTSTART;TZID=America/Los_Angeles:20270328T100000
DTEND;TZID=America/Los_Angeles:20270328T110000
DTSTAMP:20260423T154012
CREATED:20260411T180135Z
LAST-MODIFIED:20260411T180135Z
UID:3617-1806228000-1806231600@www.klamathfallsfriendschurch.org
SUMMARY:Programmed Worship
DESCRIPTION:A typical Sunday worship includes reading from scripture\, songs\, a prepared message\, prayers\, and a period of open worship.
URL:https://www.klamathfallsfriendschurch.org/event/programmed-worship-101/
LOCATION:Klamath Falls Friends Church\, 1918 Oregon Ave\, Klamath Falls\, OR 97601\, USA
END:VEVENT
BEGIN:VEVENT
DTSTART;TZID=America/Los_Angeles:20270328T140000
DTEND;TZID=America/Los_Angeles:20270328T150000
DTSTAMP:20260423T154012
CREATED:20260411T180136Z
LAST-MODIFIED:20260411T180136Z
UID:3618-1806242400-1806246000@www.klamathfallsfriendschurch.org
SUMMARY:Singing Resistance
DESCRIPTION:
URL:https://www.klamathfallsfriendschurch.org/event/singing-resistance-44/
END:VEVENT
BEGIN:VEVENT
DTSTART;TZID=America/Los_Angeles:20270330T163000
DTEND;TZID=America/Los_Angeles:20270330T183000
DTSTAMP:20260423T154012
CREATED:20260411T180136Z
LAST-MODIFIED:20260411T180136Z
UID:3619-1806424200-1806431400@www.klamathfallsfriendschurch.org
SUMMARY:Interfaith Food Pantry
DESCRIPTION:Food is available free of charge. Check with the county food bank for eligibility guidelines.
URL:https://www.klamathfallsfriendschurch.org/event/interfaith-food-pantry-65/
END:VEVENT
BEGIN:VEVENT
DTSTART;TZID=America/Los_Angeles:20270330T170000
DTEND;TZID=America/Los_Angeles:20270330T190000
DTSTAMP:20260423T154012
CREATED:20260411T180136Z
LAST-MODIFIED:20260411T180136Z
UID:3620-1806426000-1806433200@www.klamathfallsfriendschurch.org
SUMMARY:Interfaith Food Pantry
DESCRIPTION:Food is available free of charge. Check with eligibility”>https://www.klamathfoodbank.org/food-pantry-schedule-income-eligibility-guidelines-cloned/”>eligibility guidelines.
URL:https://www.klamathfallsfriendschurch.org/event/interfaith-food-pantry-66/
LOCATION:Klamath Lutheran Church-ELCA\, 1175 Crescent Ave\, Klamath Falls\, OR 97601\, USA
END:VEVENT
BEGIN:VEVENT
DTSTART;TZID=America/Los_Angeles:20270404T090000
DTEND;TZID=America/Los_Angeles:20270404T100000
DTSTAMP:20260423T154012
CREATED:20260411T180137Z
LAST-MODIFIED:20260411T180137Z
UID:3621-1806829200-1806832800@www.klamathfallsfriendschurch.org
SUMMARY:Bible Study
DESCRIPTION:
URL:https://www.klamathfallsfriendschurch.org/event/bible-study-26/
END:VEVENT
BEGIN:VEVENT
DTSTART;TZID=America/Los_Angeles:20270404T094500
DTEND;TZID=America/Los_Angeles:20270404T100000
DTSTAMP:20260423T154012
CREATED:20260411T180137Z
LAST-MODIFIED:20260411T180137Z
UID:3622-1806831900-1806832800@www.klamathfallsfriendschurch.org
SUMMARY:Fellowship and Gathering Time
DESCRIPTION:
URL:https://www.klamathfallsfriendschurch.org/event/fellowship-and-gathering-time-78/
END:VEVENT
BEGIN:VEVENT
DTSTART;TZID=America/Los_Angeles:20270404T100000
DTEND;TZID=America/Los_Angeles:20270404T110000
DTSTAMP:20260423T154012
CREATED:20260411T180138Z
LAST-MODIFIED:20260411T180138Z
UID:3623-1806832800-1806836400@www.klamathfallsfriendschurch.org
SUMMARY:Unprogrammed Worship
DESCRIPTION:Worship on the first Sunday of the month is an extended period of open/waiting worship.
URL:https://www.klamathfallsfriendschurch.org/event/unprogrammed-worship-33/
END:VEVENT
BEGIN:VEVENT
DTSTART;TZID=America/Los_Angeles:20270404T140000
DTEND;TZID=America/Los_Angeles:20270404T150000
DTSTAMP:20260423T154012
CREATED:20260411T180138Z
LAST-MODIFIED:20260411T180138Z
UID:3624-1806847200-1806850800@www.klamathfallsfriendschurch.org
SUMMARY:Singing Resistance
DESCRIPTION:
URL:https://www.klamathfallsfriendschurch.org/event/singing-resistance-45/
END:VEVENT
BEGIN:VEVENT
DTSTART;TZID=America/Los_Angeles:20270411T094500
DTEND;TZID=America/Los_Angeles:20270411T100000
DTSTAMP:20260423T154012
CREATED:20260411T180138Z
LAST-MODIFIED:20260411T180138Z
UID:3625-1807436700-1807437600@www.klamathfallsfriendschurch.org
SUMMARY:Fellowship and Gathering Time
DESCRIPTION:
URL:https://www.klamathfallsfriendschurch.org/event/fellowship-and-gathering-time-79/
END:VEVENT
END:VCALENDAR