BEGIN:VCALENDAR
VERSION:2.0
PRODID:-//Klamath Falls Friends - ECPv6.15.20//NONSGML v1.0//EN
CALSCALE:GREGORIAN
METHOD:PUBLISH
X-WR-CALNAME:Klamath Falls Friends
X-ORIGINAL-URL:https://www.klamathfallsfriendschurch.org
X-WR-CALDESC:Events for Klamath Falls Friends
REFRESH-INTERVAL;VALUE=DURATION:PT1H
X-Robots-Tag:noindex
X-PUBLISHED-TTL:PT1H
BEGIN:VTIMEZONE
TZID:America/Los_Angeles
BEGIN:DAYLIGHT
TZOFFSETFROM:-0800
TZOFFSETTO:-0700
TZNAME:PDT
DTSTART:20250309T100000
END:DAYLIGHT
BEGIN:STANDARD
TZOFFSETFROM:-0700
TZOFFSETTO:-0800
TZNAME:PST
DTSTART:20251102T090000
END:STANDARD
BEGIN:DAYLIGHT
TZOFFSETFROM:-0800
TZOFFSETTO:-0700
TZNAME:PDT
DTSTART:20260308T100000
END:DAYLIGHT
BEGIN:STANDARD
TZOFFSETFROM:-0700
TZOFFSETTO:-0800
TZNAME:PST
DTSTART:20261101T090000
END:STANDARD
BEGIN:DAYLIGHT
TZOFFSETFROM:-0800
TZOFFSETTO:-0700
TZNAME:PDT
DTSTART:20270314T100000
END:DAYLIGHT
BEGIN:STANDARD
TZOFFSETFROM:-0700
TZOFFSETTO:-0800
TZNAME:PST
DTSTART:20271107T090000
END:STANDARD
BEGIN:DAYLIGHT
TZOFFSETFROM:-0800
TZOFFSETTO:-0700
TZNAME:PDT
DTSTART:20280312T100000
END:DAYLIGHT
BEGIN:STANDARD
TZOFFSETFROM:-0700
TZOFFSETTO:-0800
TZNAME:PST
DTSTART:20281105T090000
END:STANDARD
END:VTIMEZONE
BEGIN:VEVENT
DTSTART;TZID=America/Los_Angeles:20261229T163000
DTEND;TZID=America/Los_Angeles:20261229T183000
DTSTAMP:20260423T124813
CREATED:20260301T034059Z
LAST-MODIFIED:20260301T034059Z
UID:3452-1798561800-1798569000@www.klamathfallsfriendschurch.org
SUMMARY:Interfaith Food Pantry
DESCRIPTION:Food is available free of charge. Check with the county food bank for eligibility guidelines.
URL:https://www.klamathfallsfriendschurch.org/event/interfaith-food-pantry-58/
END:VEVENT
BEGIN:VEVENT
DTSTART;TZID=America/Los_Angeles:20261229T170000
DTEND;TZID=America/Los_Angeles:20261229T190000
DTSTAMP:20260423T124813
CREATED:20260301T034101Z
LAST-MODIFIED:20260301T034101Z
UID:3453-1798563600-1798570800@www.klamathfallsfriendschurch.org
SUMMARY:Interfaith Food Pantry
DESCRIPTION:Food is available free of charge. Check with eligibility”>https://www.klamathfoodbank.org/food-pantry-schedule-income-eligibility-guidelines-cloned/”>eligibility guidelines.
URL:https://www.klamathfallsfriendschurch.org/event/interfaith-food-pantry-59/
LOCATION:Klamath Lutheran Church-ELCA\, 1175 Crescent Ave\, Klamath Falls\, OR 97601\, USA
END:VEVENT
BEGIN:VEVENT
DTSTART;TZID=America/Los_Angeles:20270103T090000
DTEND;TZID=America/Los_Angeles:20270103T100000
DTSTAMP:20260423T124813
CREATED:20260301T034101Z
LAST-MODIFIED:20260301T034101Z
UID:3454-1798966800-1798970400@www.klamathfallsfriendschurch.org
SUMMARY:Bible Study
DESCRIPTION:
URL:https://www.klamathfallsfriendschurch.org/event/bible-study-23/
END:VEVENT
BEGIN:VEVENT
DTSTART;TZID=America/Los_Angeles:20270103T094500
DTEND;TZID=America/Los_Angeles:20270103T100000
DTSTAMP:20260423T124813
CREATED:20260301T034101Z
LAST-MODIFIED:20260301T034101Z
UID:3455-1798969500-1798970400@www.klamathfallsfriendschurch.org
SUMMARY:Fellowship and Gathering Time
DESCRIPTION:
URL:https://www.klamathfallsfriendschurch.org/event/fellowship-and-gathering-time-65/
END:VEVENT
BEGIN:VEVENT
DTSTART;TZID=America/Los_Angeles:20270103T100000
DTEND;TZID=America/Los_Angeles:20270103T110000
DTSTAMP:20260423T124813
CREATED:20260301T034102Z
LAST-MODIFIED:20260301T034102Z
UID:3456-1798970400-1798974000@www.klamathfallsfriendschurch.org
SUMMARY:Unprogrammed Worship
DESCRIPTION:Worship on the first Sunday of the month is an extended period of open/waiting worship.
URL:https://www.klamathfallsfriendschurch.org/event/unprogrammed-worship-30/
END:VEVENT
BEGIN:VEVENT
DTSTART;TZID=America/Los_Angeles:20270103T140000
DTEND;TZID=America/Los_Angeles:20270103T150000
DTSTAMP:20260423T124813
CREATED:20260301T034102Z
LAST-MODIFIED:20260301T034102Z
UID:3457-1798984800-1798988400@www.klamathfallsfriendschurch.org
SUMMARY:Singing Resistance
DESCRIPTION:
URL:https://www.klamathfallsfriendschurch.org/event/singing-resistance-35/
END:VEVENT
BEGIN:VEVENT
DTSTART;TZID=America/Los_Angeles:20270110T094500
DTEND;TZID=America/Los_Angeles:20270110T100000
DTSTAMP:20260423T124813
CREATED:20260301T034102Z
LAST-MODIFIED:20260301T034102Z
UID:3458-1799574300-1799575200@www.klamathfallsfriendschurch.org
SUMMARY:Fellowship and Gathering Time
DESCRIPTION:
URL:https://www.klamathfallsfriendschurch.org/event/fellowship-and-gathering-time-66/
END:VEVENT
BEGIN:VEVENT
DTSTART;TZID=America/Los_Angeles:20270110T100000
DTEND;TZID=America/Los_Angeles:20270110T110000
DTSTAMP:20260423T124813
CREATED:20260301T034103Z
LAST-MODIFIED:20260301T034103Z
UID:3459-1799575200-1799578800@www.klamathfallsfriendschurch.org
SUMMARY:Programmed Worship
DESCRIPTION:A typical Sunday worship includes reading from scripture\, songs\, a prepared message\, prayers\, and a period of open worship.
URL:https://www.klamathfallsfriendschurch.org/event/programmed-worship-93/
LOCATION:Klamath Falls Friends Church\, 1918 Oregon Ave\, Klamath Falls\, OR 97601\, USA
END:VEVENT
BEGIN:VEVENT
DTSTART;TZID=America/Los_Angeles:20270110T140000
DTEND;TZID=America/Los_Angeles:20270110T150000
DTSTAMP:20260423T124813
CREATED:20260301T034103Z
LAST-MODIFIED:20260301T034103Z
UID:3460-1799589600-1799593200@www.klamathfallsfriendschurch.org
SUMMARY:Singing Resistance
DESCRIPTION:
URL:https://www.klamathfallsfriendschurch.org/event/singing-resistance-36/
END:VEVENT
BEGIN:VEVENT
DTSTART;TZID=America/Los_Angeles:20270117T090000
DTEND;TZID=America/Los_Angeles:20270117T100000
DTSTAMP:20260423T124813
CREATED:20260301T034103Z
LAST-MODIFIED:20260301T034103Z
UID:3461-1800176400-1800180000@www.klamathfallsfriendschurch.org
SUMMARY:Peace and Social Concerns Committee Meeting
DESCRIPTION:Come to share your ideas and hear what’s going on with our meeting around peace and social justice.
URL:https://www.klamathfallsfriendschurch.org/event/peace-and-social-concerns-committee-meeting-30/
LOCATION:Klamath Falls Friends Church\, 1918 Oregon Ave\, Klamath Falls\, OR 97601\, USA
END:VEVENT
BEGIN:VEVENT
DTSTART;TZID=America/Los_Angeles:20270117T094500
DTEND;TZID=America/Los_Angeles:20270117T100000
DTSTAMP:20260423T124813
CREATED:20260301T034103Z
LAST-MODIFIED:20260301T034103Z
UID:3462-1800179100-1800180000@www.klamathfallsfriendschurch.org
SUMMARY:Fellowship and Gathering Time
DESCRIPTION:
URL:https://www.klamathfallsfriendschurch.org/event/fellowship-and-gathering-time-67/
END:VEVENT
BEGIN:VEVENT
DTSTART;TZID=America/Los_Angeles:20270117T100000
DTEND;TZID=America/Los_Angeles:20270117T110000
DTSTAMP:20260423T124813
CREATED:20260301T034104Z
LAST-MODIFIED:20260301T034104Z
UID:3463-1800180000-1800183600@www.klamathfallsfriendschurch.org
SUMMARY:Programmed Worship
DESCRIPTION:A typical Sunday worship includes reading from scripture\, songs\, a prepared message\, prayers\, and a period of open worship.
URL:https://www.klamathfallsfriendschurch.org/event/programmed-worship-94/
LOCATION:Klamath Falls Friends Church\, 1918 Oregon Ave\, Klamath Falls\, OR 97601\, USA
END:VEVENT
BEGIN:VEVENT
DTSTART;TZID=America/Los_Angeles:20270124T094500
DTEND;TZID=America/Los_Angeles:20270124T100000
DTSTAMP:20260423T124813
CREATED:20260301T034104Z
LAST-MODIFIED:20260301T034104Z
UID:3464-1800783900-1800784800@www.klamathfallsfriendschurch.org
SUMMARY:Fellowship and Gathering Time
DESCRIPTION:
URL:https://www.klamathfallsfriendschurch.org/event/fellowship-and-gathering-time-68/
END:VEVENT
BEGIN:VEVENT
DTSTART;TZID=America/Los_Angeles:20270124T100000
DTEND;TZID=America/Los_Angeles:20270124T110000
DTSTAMP:20260423T124813
CREATED:20260301T034104Z
LAST-MODIFIED:20260301T034104Z
UID:3465-1800784800-1800788400@www.klamathfallsfriendschurch.org
SUMMARY:Programmed Worship
DESCRIPTION:A typical Sunday worship includes reading from scripture\, songs\, a prepared message\, prayers\, and a period of open worship.
URL:https://www.klamathfallsfriendschurch.org/event/programmed-worship-95/
LOCATION:Klamath Falls Friends Church\, 1918 Oregon Ave\, Klamath Falls\, OR 97601\, USA
END:VEVENT
BEGIN:VEVENT
DTSTART;TZID=America/Los_Angeles:20270124T140000
DTEND;TZID=America/Los_Angeles:20270124T150000
DTSTAMP:20260423T124813
CREATED:20260301T034105Z
LAST-MODIFIED:20260301T034105Z
UID:3466-1800799200-1800802800@www.klamathfallsfriendschurch.org
SUMMARY:Singing Resistance
DESCRIPTION:
URL:https://www.klamathfallsfriendschurch.org/event/singing-resistance-37/
END:VEVENT
BEGIN:VEVENT
DTSTART;TZID=America/Los_Angeles:20270126T163000
DTEND;TZID=America/Los_Angeles:20270126T183000
DTSTAMP:20260423T124813
CREATED:20260301T034105Z
LAST-MODIFIED:20260301T034105Z
UID:3467-1800981000-1800988200@www.klamathfallsfriendschurch.org
SUMMARY:Interfaith Food Pantry
DESCRIPTION:Food is available free of charge. Check with the county food bank for eligibility guidelines.
URL:https://www.klamathfallsfriendschurch.org/event/interfaith-food-pantry-60/
END:VEVENT
BEGIN:VEVENT
DTSTART;TZID=America/Los_Angeles:20270126T170000
DTEND;TZID=America/Los_Angeles:20270126T190000
DTSTAMP:20260423T124813
CREATED:20260301T034105Z
LAST-MODIFIED:20260301T034105Z
UID:3468-1800982800-1800990000@www.klamathfallsfriendschurch.org
SUMMARY:Interfaith Food Pantry
DESCRIPTION:Food is available free of charge. Check with eligibility”>https://www.klamathfoodbank.org/food-pantry-schedule-income-eligibility-guidelines-cloned/”>eligibility guidelines.
URL:https://www.klamathfallsfriendschurch.org/event/interfaith-food-pantry-61/
LOCATION:Klamath Lutheran Church-ELCA\, 1175 Crescent Ave\, Klamath Falls\, OR 97601\, USA
END:VEVENT
BEGIN:VEVENT
DTSTART;TZID=America/Los_Angeles:20270131T094500
DTEND;TZID=America/Los_Angeles:20270131T100000
DTSTAMP:20260423T124813
CREATED:20260301T034106Z
LAST-MODIFIED:20260301T034106Z
UID:3469-1801388700-1801389600@www.klamathfallsfriendschurch.org
SUMMARY:Fellowship and Gathering Time
DESCRIPTION:
URL:https://www.klamathfallsfriendschurch.org/event/fellowship-and-gathering-time-69/
END:VEVENT
BEGIN:VEVENT
DTSTART;TZID=America/Los_Angeles:20270131T140000
DTEND;TZID=America/Los_Angeles:20270131T150000
DTSTAMP:20260423T124813
CREATED:20260301T034106Z
LAST-MODIFIED:20260301T034106Z
UID:3470-1801404000-1801407600@www.klamathfallsfriendschurch.org
SUMMARY:Singing Resistance
DESCRIPTION:
URL:https://www.klamathfallsfriendschurch.org/event/singing-resistance-38/
END:VEVENT
BEGIN:VEVENT
DTSTART;TZID=America/Los_Angeles:20270207T090000
DTEND;TZID=America/Los_Angeles:20270207T100000
DTSTAMP:20260423T124813
CREATED:20260301T034106Z
LAST-MODIFIED:20260301T034106Z
UID:3471-1801990800-1801994400@www.klamathfallsfriendschurch.org
SUMMARY:Bible Study
DESCRIPTION:
URL:https://www.klamathfallsfriendschurch.org/event/bible-study-24/
END:VEVENT
BEGIN:VEVENT
DTSTART;TZID=America/Los_Angeles:20270207T094500
DTEND;TZID=America/Los_Angeles:20270207T100000
DTSTAMP:20260423T124813
CREATED:20260301T034106Z
LAST-MODIFIED:20260301T034106Z
UID:3472-1801993500-1801994400@www.klamathfallsfriendschurch.org
SUMMARY:Fellowship and Gathering Time
DESCRIPTION:
URL:https://www.klamathfallsfriendschurch.org/event/fellowship-and-gathering-time-70/
END:VEVENT
BEGIN:VEVENT
DTSTART;TZID=America/Los_Angeles:20270207T100000
DTEND;TZID=America/Los_Angeles:20270207T110000
DTSTAMP:20260423T124813
CREATED:20260301T034107Z
LAST-MODIFIED:20260301T034107Z
UID:3473-1801994400-1801998000@www.klamathfallsfriendschurch.org
SUMMARY:Unprogrammed Worship
DESCRIPTION:Worship on the first Sunday of the month is an extended period of open/waiting worship.
URL:https://www.klamathfallsfriendschurch.org/event/unprogrammed-worship-31/
END:VEVENT
BEGIN:VEVENT
DTSTART;TZID=America/Los_Angeles:20270207T140000
DTEND;TZID=America/Los_Angeles:20270207T150000
DTSTAMP:20260423T124813
CREATED:20260301T034107Z
LAST-MODIFIED:20260301T034107Z
UID:3474-1802008800-1802012400@www.klamathfallsfriendschurch.org
SUMMARY:Singing Resistance
DESCRIPTION:
URL:https://www.klamathfallsfriendschurch.org/event/singing-resistance-39/
END:VEVENT
BEGIN:VEVENT
DTSTART;TZID=America/Los_Angeles:20270214T094500
DTEND;TZID=America/Los_Angeles:20270214T100000
DTSTAMP:20260423T124813
CREATED:20260301T034107Z
LAST-MODIFIED:20260301T034107Z
UID:3475-1802598300-1802599200@www.klamathfallsfriendschurch.org
SUMMARY:Fellowship and Gathering Time
DESCRIPTION:
URL:https://www.klamathfallsfriendschurch.org/event/fellowship-and-gathering-time-71/
END:VEVENT
BEGIN:VEVENT
DTSTART;TZID=America/Los_Angeles:20270214T100000
DTEND;TZID=America/Los_Angeles:20270214T110000
DTSTAMP:20260423T124813
CREATED:20260301T034107Z
LAST-MODIFIED:20260301T034107Z
UID:3476-1802599200-1802602800@www.klamathfallsfriendschurch.org
SUMMARY:Programmed Worship
DESCRIPTION:A typical Sunday worship includes reading from scripture\, songs\, a prepared message\, prayers\, and a period of open worship.
URL:https://www.klamathfallsfriendschurch.org/event/programmed-worship-96/
LOCATION:Klamath Falls Friends Church\, 1918 Oregon Ave\, Klamath Falls\, OR 97601\, USA
END:VEVENT
BEGIN:VEVENT
DTSTART;TZID=America/Los_Angeles:20270214T140000
DTEND;TZID=America/Los_Angeles:20270214T150000
DTSTAMP:20260423T124813
CREATED:20260301T034108Z
LAST-MODIFIED:20260301T034108Z
UID:3477-1802613600-1802617200@www.klamathfallsfriendschurch.org
SUMMARY:Singing Resistance
DESCRIPTION:
URL:https://www.klamathfallsfriendschurch.org/event/singing-resistance-40/
END:VEVENT
BEGIN:VEVENT
DTSTART;TZID=America/Los_Angeles:20270221T090000
DTEND;TZID=America/Los_Angeles:20270221T100000
DTSTAMP:20260423T124813
CREATED:20260301T034108Z
LAST-MODIFIED:20260301T034108Z
UID:3478-1803200400-1803204000@www.klamathfallsfriendschurch.org
SUMMARY:Peace and Social Concerns Committee Meeting
DESCRIPTION:Come to share your ideas and hear what’s going on with our meeting around peace and social justice.
URL:https://www.klamathfallsfriendschurch.org/event/peace-and-social-concerns-committee-meeting-31/
LOCATION:Klamath Falls Friends Church\, 1918 Oregon Ave\, Klamath Falls\, OR 97601\, USA
END:VEVENT
BEGIN:VEVENT
DTSTART;TZID=America/Los_Angeles:20270221T094500
DTEND;TZID=America/Los_Angeles:20270221T100000
DTSTAMP:20260423T124813
CREATED:20260301T034108Z
LAST-MODIFIED:20260301T034108Z
UID:3479-1803203100-1803204000@www.klamathfallsfriendschurch.org
SUMMARY:Fellowship and Gathering Time
DESCRIPTION:
URL:https://www.klamathfallsfriendschurch.org/event/fellowship-and-gathering-time-72/
END:VEVENT
BEGIN:VEVENT
DTSTART;TZID=America/Los_Angeles:20270221T100000
DTEND;TZID=America/Los_Angeles:20270221T110000
DTSTAMP:20260423T124813
CREATED:20260301T034108Z
LAST-MODIFIED:20260301T034108Z
UID:3480-1803204000-1803207600@www.klamathfallsfriendschurch.org
SUMMARY:Programmed Worship
DESCRIPTION:A typical Sunday worship includes reading from scripture\, songs\, a prepared message\, prayers\, and a period of open worship.
URL:https://www.klamathfallsfriendschurch.org/event/programmed-worship-97/
LOCATION:Klamath Falls Friends Church\, 1918 Oregon Ave\, Klamath Falls\, OR 97601\, USA
END:VEVENT
BEGIN:VEVENT
DTSTART;TZID=America/Los_Angeles:20270223T163000
DTEND;TZID=America/Los_Angeles:20270223T183000
DTSTAMP:20260423T124813
CREATED:20260301T034109Z
LAST-MODIFIED:20260301T034109Z
UID:3481-1803400200-1803407400@www.klamathfallsfriendschurch.org
SUMMARY:Interfaith Food Pantry
DESCRIPTION:Food is available free of charge. Check with the county food bank for eligibility guidelines.
URL:https://www.klamathfallsfriendschurch.org/event/interfaith-food-pantry-62/
END:VEVENT
END:VCALENDAR