BEGIN:VCALENDAR
VERSION:2.0
PRODID:-//Klamath Falls Friends - ECPv6.15.20//NONSGML v1.0//EN
CALSCALE:GREGORIAN
METHOD:PUBLISH
X-WR-CALNAME:Klamath Falls Friends
X-ORIGINAL-URL:https://www.klamathfallsfriendschurch.org
X-WR-CALDESC:Events for Klamath Falls Friends
REFRESH-INTERVAL;VALUE=DURATION:PT1H
X-Robots-Tag:noindex
X-PUBLISHED-TTL:PT1H
BEGIN:VTIMEZONE
TZID:America/Los_Angeles
BEGIN:DAYLIGHT
TZOFFSETFROM:-0800
TZOFFSETTO:-0700
TZNAME:PDT
DTSTART:20240310T100000
END:DAYLIGHT
BEGIN:STANDARD
TZOFFSETFROM:-0700
TZOFFSETTO:-0800
TZNAME:PST
DTSTART:20241103T090000
END:STANDARD
BEGIN:DAYLIGHT
TZOFFSETFROM:-0800
TZOFFSETTO:-0700
TZNAME:PDT
DTSTART:20250309T100000
END:DAYLIGHT
BEGIN:STANDARD
TZOFFSETFROM:-0700
TZOFFSETTO:-0800
TZNAME:PST
DTSTART:20251102T090000
END:STANDARD
BEGIN:DAYLIGHT
TZOFFSETFROM:-0800
TZOFFSETTO:-0700
TZNAME:PDT
DTSTART:20260308T100000
END:DAYLIGHT
BEGIN:STANDARD
TZOFFSETFROM:-0700
TZOFFSETTO:-0800
TZNAME:PST
DTSTART:20261101T090000
END:STANDARD
END:VTIMEZONE
BEGIN:VEVENT
DTSTART;TZID=America/Los_Angeles:20250323T110000
DTEND;TZID=America/Los_Angeles:20250323T120000
DTSTAMP:20260424T084852
CREATED:20250303T022942Z
LAST-MODIFIED:20250303T022942Z
UID:1875-1742727600-1742731200@www.klamathfallsfriendschurch.org
SUMMARY:Potluck
DESCRIPTION:
URL:https://www.klamathfallsfriendschurch.org/event/potluck-4/
END:VEVENT
BEGIN:VEVENT
DTSTART;TZID=America/Los_Angeles:20250323T100000
DTEND;TZID=America/Los_Angeles:20250323T110000
DTSTAMP:20260424T084852
CREATED:20240812T015110Z
LAST-MODIFIED:20240812T015110Z
UID:1174-1742724000-1742727600@www.klamathfallsfriendschurch.org
SUMMARY:Programmed Worship
DESCRIPTION:A typical Sunday worship includes reading from scripture\, songs\, a prepared message\, prayers\, and a period of open worship.
URL:https://www.klamathfallsfriendschurch.org/event/programmed-worship-23/
LOCATION:Klamath Falls Friends Church\, 1918 Oregon Ave\, Klamath Falls\, OR 97601\, USA
END:VEVENT
BEGIN:VEVENT
DTSTART;TZID=America/Los_Angeles:20250320T173000
DTEND;TZID=America/Los_Angeles:20250320T183000
DTSTAMP:20260424T084852
CREATED:20250303T022942Z
LAST-MODIFIED:20250303T022942Z
UID:1874-1742491800-1742495400@www.klamathfallsfriendschurch.org
SUMMARY:Admin Team Meeting
DESCRIPTION:
URL:https://www.klamathfallsfriendschurch.org/event/admin-team-meeting-5/
END:VEVENT
BEGIN:VEVENT
DTSTART;TZID=America/Los_Angeles:20250319T173000
DTEND;TZID=America/Los_Angeles:20250319T183000
DTSTAMP:20260424T084852
CREATED:20250303T022942Z
LAST-MODIFIED:20250303T022942Z
UID:1873-1742405400-1742409000@www.klamathfallsfriendschurch.org
SUMMARY:M&C
DESCRIPTION:
URL:https://www.klamathfallsfriendschurch.org/event/mc-4/
END:VEVENT
BEGIN:VEVENT
DTSTART;TZID=America/Los_Angeles:20250318T170000
DTEND;TZID=America/Los_Angeles:20250318T190000
DTSTAMP:20260424T084852
CREATED:20240812T015110Z
LAST-MODIFIED:20240812T015110Z
UID:1172-1742317200-1742324400@www.klamathfallsfriendschurch.org
SUMMARY:Interfaith Food Pantry
DESCRIPTION:Food is available free of charge. Check with the county food bank for eligibility guidelines.
URL:https://www.klamathfallsfriendschurch.org/event/interfaith-food-pantry-15/
LOCATION:Klamath Lutheran Church-ELCA\, 1175 Crescent Ave\, Klamath Falls\, OR 97601\, USA
END:VEVENT
BEGIN:VEVENT
DTSTART;TZID=America/Los_Angeles:20250316T110000
DTEND;TZID=America/Los_Angeles:20250316T120000
DTSTAMP:20260424T084852
CREATED:20250112T230152Z
LAST-MODIFIED:20250112T230152Z
UID:1720-1742122800-1742126400@www.klamathfallsfriendschurch.org
SUMMARY:A Quaker Ecology
DESCRIPTION:
URL:https://www.klamathfallsfriendschurch.org/event/a-quaker-ecology-3/
END:VEVENT
BEGIN:VEVENT
DTSTART;TZID=America/Los_Angeles:20250316T100000
DTEND;TZID=America/Los_Angeles:20250316T110000
DTSTAMP:20260424T084852
CREATED:20240812T015110Z
LAST-MODIFIED:20240812T015110Z
UID:1170-1742119200-1742122800@www.klamathfallsfriendschurch.org
SUMMARY:Programmed Worship
DESCRIPTION:A typical Sunday worship includes reading from scripture\, songs\, a prepared message\, prayers\, and a period of open worship.
URL:https://www.klamathfallsfriendschurch.org/event/programmed-worship-22/
LOCATION:Klamath Falls Friends Church\, 1918 Oregon Ave\, Klamath Falls\, OR 97601\, USA
END:VEVENT
BEGIN:VEVENT
DTSTART;TZID=America/Los_Angeles:20250316T090000
DTEND;TZID=America/Los_Angeles:20250316T100000
DTSTAMP:20260424T084852
CREATED:20240824T154736Z
LAST-MODIFIED:20240824T154736Z
UID:1260-1742115600-1742119200@www.klamathfallsfriendschurch.org
SUMMARY:Peace and Social Concerns Committee Meeting
DESCRIPTION:Come to share your ideas and hear what’s going on with our meeting around peace and social justice.
URL:https://www.klamathfallsfriendschurch.org/event/peace-and-social-concerns-committee-meeting-19/
LOCATION:Klamath Falls Friends Church\, 1918 Oregon Ave\, Klamath Falls\, OR 97601\, USA
END:VEVENT
BEGIN:VEVENT
DTSTART;TZID=America/Los_Angeles:20250309T100000
DTEND;TZID=America/Los_Angeles:20250309T110000
DTSTAMP:20260424T084852
CREATED:20240812T015109Z
LAST-MODIFIED:20240812T015109Z
UID:1168-1741514400-1741518000@www.klamathfallsfriendschurch.org
SUMMARY:Programmed Worship
DESCRIPTION:A typical Sunday worship includes reading from scripture\, songs\, a prepared message\, prayers\, and a period of open worship.
URL:https://www.klamathfallsfriendschurch.org/event/programmed-worship-21/
LOCATION:Klamath Falls Friends Church\, 1918 Oregon Ave\, Klamath Falls\, OR 97601\, USA
END:VEVENT
BEGIN:VEVENT
DTSTART;TZID=America/Los_Angeles:20250309T090000
DTEND;TZID=America/Los_Angeles:20250309T100000
DTSTAMP:20260424T084852
CREATED:20250112T230151Z
LAST-MODIFIED:20250112T230151Z
UID:1719-1741510800-1741514400@www.klamathfallsfriendschurch.org
SUMMARY:Bible Study
DESCRIPTION:
URL:https://www.klamathfallsfriendschurch.org/event/bible-study-2/
END:VEVENT
BEGIN:VEVENT
DTSTART;TZID=America/Los_Angeles:20250302T100000
DTEND;TZID=America/Los_Angeles:20250302T110000
DTSTAMP:20260424T084852
CREATED:20240812T015109Z
LAST-MODIFIED:20240812T015109Z
UID:1166-1740909600-1740913200@www.klamathfallsfriendschurch.org
SUMMARY:Unprogrammed Worship
DESCRIPTION:Worship on the first Sunday of the month is an extended period of open/waiting worship.
URL:https://www.klamathfallsfriendschurch.org/event/unprogrammed-worship-7/
END:VEVENT
BEGIN:VEVENT
DTSTART;TZID=America/Los_Angeles:20250225T170000
DTEND;TZID=America/Los_Angeles:20250225T190000
DTSTAMP:20260424T084852
CREATED:20240812T015108Z
LAST-MODIFIED:20240812T015108Z
UID:1164-1740502800-1740510000@www.klamathfallsfriendschurch.org
SUMMARY:Interfaith Food Pantry
DESCRIPTION:Food is available free of charge. Check with the county food bank for eligibility guidelines.
URL:https://www.klamathfallsfriendschurch.org/event/interfaith-food-pantry-14/
LOCATION:Klamath Lutheran Church-ELCA\, 1175 Crescent Ave\, Klamath Falls\, OR 97601\, USA
END:VEVENT
BEGIN:VEVENT
DTSTART;TZID=America/Los_Angeles:20250223T110000
DTEND;TZID=America/Los_Angeles:20250223T120000
DTSTAMP:20260424T084852
CREATED:20250118T210957Z
LAST-MODIFIED:20250118T210957Z
UID:1763-1740308400-1740312000@www.klamathfallsfriendschurch.org
SUMMARY:Monthly Business Meeting
DESCRIPTION:All are welcome to have their voices heard and listen to reports of what is currently going on at the meeting.
URL:https://www.klamathfallsfriendschurch.org/event/monthly-business-meeting-4/
LOCATION:Klamath Falls Friends Church\, 1918 Oregon Ave\, Klamath Falls\, OR 97601\, USA
END:VEVENT
BEGIN:VEVENT
DTSTART;TZID=America/Los_Angeles:20250223T100000
DTEND;TZID=America/Los_Angeles:20250223T110000
DTSTAMP:20260424T084852
CREATED:20240812T015108Z
LAST-MODIFIED:20240812T015108Z
UID:1163-1740304800-1740308400@www.klamathfallsfriendschurch.org
SUMMARY:Programmed Worship
DESCRIPTION:A typical Sunday worship includes reading from scripture\, songs\, a prepared message\, prayers\, and a period of open worship.
URL:https://www.klamathfallsfriendschurch.org/event/programmed-worship-20/
LOCATION:Klamath Falls Friends Church\, 1918 Oregon Ave\, Klamath Falls\, OR 97601\, USA
END:VEVENT
BEGIN:VEVENT
DTSTART;TZID=America/Los_Angeles:20250219T173000
DTEND;TZID=America/Los_Angeles:20250219T183000
DTSTAMP:20260424T084852
CREATED:20250118T210957Z
LAST-MODIFIED:20250118T210957Z
UID:1762-1739986200-1739989800@www.klamathfallsfriendschurch.org
SUMMARY:Admin Team Meeting
DESCRIPTION:
URL:https://www.klamathfallsfriendschurch.org/event/admin-team-meeting-4/
END:VEVENT
BEGIN:VEVENT
DTSTART;TZID=America/Los_Angeles:20250218T170000
DTEND;TZID=America/Los_Angeles:20250218T190000
DTSTAMP:20260424T084852
CREATED:20240812T015108Z
LAST-MODIFIED:20240812T015108Z
UID:1161-1739898000-1739905200@www.klamathfallsfriendschurch.org
SUMMARY:Interfaith Food Pantry
DESCRIPTION:Food is available free of charge. Check with the county food bank for eligibility guidelines.
URL:https://www.klamathfallsfriendschurch.org/event/interfaith-food-pantry-13/
LOCATION:Klamath Lutheran Church-ELCA\, 1175 Crescent Ave\, Klamath Falls\, OR 97601\, USA
END:VEVENT
BEGIN:VEVENT
DTSTART;TZID=America/Los_Angeles:20250216T110000
DTEND;TZID=America/Los_Angeles:20250216T120000
DTSTAMP:20260424T084852
CREATED:20250112T230151Z
LAST-MODIFIED:20250112T230151Z
UID:1718-1739703600-1739707200@www.klamathfallsfriendschurch.org
SUMMARY:A Quaker Ecology
DESCRIPTION:
URL:https://www.klamathfallsfriendschurch.org/event/a-quaker-ecology-2/
END:VEVENT
BEGIN:VEVENT
DTSTART;TZID=America/Los_Angeles:20250216T100000
DTEND;TZID=America/Los_Angeles:20250216T110000
DTSTAMP:20260424T084852
CREATED:20240812T015108Z
LAST-MODIFIED:20240812T015108Z
UID:1159-1739700000-1739703600@www.klamathfallsfriendschurch.org
SUMMARY:Programmed Worship
DESCRIPTION:A typical Sunday worship includes reading from scripture\, songs\, a prepared message\, prayers\, and a period of open worship.
URL:https://www.klamathfallsfriendschurch.org/event/programmed-worship-19/
LOCATION:Klamath Falls Friends Church\, 1918 Oregon Ave\, Klamath Falls\, OR 97601\, USA
END:VEVENT
BEGIN:VEVENT
DTSTART;TZID=America/Los_Angeles:20250216T090000
DTEND;TZID=America/Los_Angeles:20250216T100000
DTSTAMP:20260424T084852
CREATED:20240824T154736Z
LAST-MODIFIED:20240824T154736Z
UID:1259-1739696400-1739700000@www.klamathfallsfriendschurch.org
SUMMARY:Peace and Social Concerns Committee Meeting
DESCRIPTION:Come to share your ideas and hear what’s going on with our meeting around peace and social justice.
URL:https://www.klamathfallsfriendschurch.org/event/peace-and-social-concerns-committee-meeting-18/
LOCATION:Klamath Falls Friends Church\, 1918 Oregon Ave\, Klamath Falls\, OR 97601\, USA
END:VEVENT
BEGIN:VEVENT
DTSTART;TZID=America/Los_Angeles:20250211T173000
DTEND;TZID=America/Los_Angeles:20250211T183000
DTSTAMP:20260424T084852
CREATED:20250118T210956Z
LAST-MODIFIED:20250118T210956Z
UID:1761-1739295000-1739298600@www.klamathfallsfriendschurch.org
SUMMARY:M&C
DESCRIPTION:
URL:https://www.klamathfallsfriendschurch.org/event/mc-3/
END:VEVENT
BEGIN:VEVENT
DTSTART;TZID=America/Los_Angeles:20250209T110000
DTEND;TZID=America/Los_Angeles:20250209T120000
DTSTAMP:20260424T084852
CREATED:20250118T210955Z
LAST-MODIFIED:20250118T210955Z
UID:1760-1739098800-1739102400@www.klamathfallsfriendschurch.org
SUMMARY:Potluck
DESCRIPTION:
URL:https://www.klamathfallsfriendschurch.org/event/potluck-3/
END:VEVENT
BEGIN:VEVENT
DTSTART;TZID=America/Los_Angeles:20250209T100000
DTEND;TZID=America/Los_Angeles:20250209T110000
DTSTAMP:20260424T084852
CREATED:20240812T015107Z
LAST-MODIFIED:20240812T015107Z
UID:1157-1739095200-1739098800@www.klamathfallsfriendschurch.org
SUMMARY:Programmed Worship
DESCRIPTION:A typical Sunday worship includes reading from scripture\, songs\, a prepared message\, prayers\, and a period of open worship.
URL:https://www.klamathfallsfriendschurch.org/event/programmed-worship-18/
LOCATION:Klamath Falls Friends Church\, 1918 Oregon Ave\, Klamath Falls\, OR 97601\, USA
END:VEVENT
BEGIN:VEVENT
DTSTART;TZID=America/Los_Angeles:20250209T090000
DTEND;TZID=America/Los_Angeles:20250209T100000
DTSTAMP:20260424T084852
CREATED:20250112T230151Z
LAST-MODIFIED:20250112T230151Z
UID:1717-1739091600-1739095200@www.klamathfallsfriendschurch.org
SUMMARY:Bible Study
DESCRIPTION:
URL:https://www.klamathfallsfriendschurch.org/event/bible-study/
END:VEVENT
BEGIN:VEVENT
DTSTART;TZID=America/Los_Angeles:20250208T090001
DTEND;TZID=America/Los_Angeles:20250208T170001
DTSTAMP:20260424T084852
CREATED:20250118T210954Z
LAST-MODIFIED:20250118T210954Z
UID:1759-1739005201-1739034001@www.klamathfallsfriendschurch.org
SUMMARY:Sierra Cascades Yearly Meeting Quarterly Session
DESCRIPTION:
URL:https://www.klamathfallsfriendschurch.org/event/sierra-cascades-yearly-meeting-quarterly-session-2/
END:VEVENT
BEGIN:VEVENT
DTSTART;TZID=America/Los_Angeles:20250202T100000
DTEND;TZID=America/Los_Angeles:20250202T110000
DTSTAMP:20260424T084852
CREATED:20240812T015107Z
LAST-MODIFIED:20250202T180421Z
UID:1155-1738490400-1738494000@www.klamathfallsfriendschurch.org
SUMMARY:Unprogrammed Worship - in-person worship called of due to weather
DESCRIPTION:Worship on the first Sunday of the month is an extended period of open/waiting worship.
URL:https://www.klamathfallsfriendschurch.org/event/unprogrammed-worship-6/
END:VEVENT
BEGIN:VEVENT
DTSTART;TZID=America/Los_Angeles:20250128T170000
DTEND;TZID=America/Los_Angeles:20250128T190000
DTSTAMP:20260424T084852
CREATED:20240812T015106Z
LAST-MODIFIED:20240812T015106Z
UID:1153-1738083600-1738090800@www.klamathfallsfriendschurch.org
SUMMARY:Interfaith Food Pantry
DESCRIPTION:Food is available free of charge. Check with the county food bank for eligibility guidelines.
URL:https://www.klamathfallsfriendschurch.org/event/interfaith-food-pantry-12/
END:VEVENT
BEGIN:VEVENT
DTSTART;TZID=America/Los_Angeles:20250126T110000
DTEND;TZID=America/Los_Angeles:20250126T120000
DTSTAMP:20260424T084852
CREATED:20250112T230151Z
LAST-MODIFIED:20250112T230151Z
UID:1716-1737889200-1737892800@www.klamathfallsfriendschurch.org
SUMMARY:Monthly Business Meeting
DESCRIPTION:All are welcome to have their voices heard and listen to reports of what is currently going on at the meeting.
URL:https://www.klamathfallsfriendschurch.org/event/monthly-business-meeting-3/
LOCATION:Klamath Falls Friends Church\, 1918 Oregon Ave\, Klamath Falls\, OR 97601\, USA
END:VEVENT
BEGIN:VEVENT
DTSTART;TZID=America/Los_Angeles:20250126T100000
DTEND;TZID=America/Los_Angeles:20250126T110000
DTSTAMP:20260424T084852
CREATED:20240812T015106Z
LAST-MODIFIED:20240812T015106Z
UID:1152-1737885600-1737889200@www.klamathfallsfriendschurch.org
SUMMARY:Programmed Worship
DESCRIPTION:A typical Sunday worship includes reading from scripture\, songs\, a prepared message\, prayers\, and a period of open worship.
URL:https://www.klamathfallsfriendschurch.org/event/programmed-worship-17/
LOCATION:Klamath Falls Friends Church\, 1918 Oregon Ave\, Klamath Falls\, OR 97601\, USA
END:VEVENT
BEGIN:VEVENT
DTSTART;TZID=America/Los_Angeles:20250121T183000
DTEND;TZID=America/Los_Angeles:20250121T193000
DTSTAMP:20260424T084852
CREATED:20240812T015106Z
LAST-MODIFIED:20240812T015106Z
UID:1150-1737484200-1737487800@www.klamathfallsfriendschurch.org
SUMMARY:Interfaith Food Pantry
DESCRIPTION:Food is available free of charge. Check with the county food bank for eligibility guidelines.
URL:https://www.klamathfallsfriendschurch.org/event/interfaith-food-pantry-11/
LOCATION:Klamath Lutheran Church-ELCA\, 1175 Crescent Ave\, Klamath Falls\, OR 97601\, USA
END:VEVENT
BEGIN:VEVENT
DTSTART;TZID=America/Los_Angeles:20250120T173000
DTEND;TZID=America/Los_Angeles:20250120T183000
DTSTAMP:20260424T084852
CREATED:20250112T230151Z
LAST-MODIFIED:20250112T230151Z
UID:1715-1737394200-1737397800@www.klamathfallsfriendschurch.org
SUMMARY:Admin Team Meeting
DESCRIPTION:
URL:https://www.klamathfallsfriendschurch.org/event/admin-team-meeting-3/
END:VEVENT
END:VCALENDAR