BEGIN:VCALENDAR
VERSION:2.0
PRODID:-//Klamath Falls Friends - ECPv6.15.20//NONSGML v1.0//EN
CALSCALE:GREGORIAN
METHOD:PUBLISH
X-WR-CALNAME:Klamath Falls Friends
X-ORIGINAL-URL:https://www.klamathfallsfriendschurch.org
X-WR-CALDESC:Events for Klamath Falls Friends
REFRESH-INTERVAL;VALUE=DURATION:PT1H
X-Robots-Tag:noindex
X-PUBLISHED-TTL:PT1H
BEGIN:VTIMEZONE
TZID:America/Los_Angeles
BEGIN:DAYLIGHT
TZOFFSETFROM:-0800
TZOFFSETTO:-0700
TZNAME:PDT
DTSTART:20250309T100000
END:DAYLIGHT
BEGIN:STANDARD
TZOFFSETFROM:-0700
TZOFFSETTO:-0800
TZNAME:PST
DTSTART:20251102T090000
END:STANDARD
BEGIN:DAYLIGHT
TZOFFSETFROM:-0800
TZOFFSETTO:-0700
TZNAME:PDT
DTSTART:20260308T100000
END:DAYLIGHT
BEGIN:STANDARD
TZOFFSETFROM:-0700
TZOFFSETTO:-0800
TZNAME:PST
DTSTART:20261101T090000
END:STANDARD
BEGIN:DAYLIGHT
TZOFFSETFROM:-0800
TZOFFSETTO:-0700
TZNAME:PDT
DTSTART:20270314T100000
END:DAYLIGHT
BEGIN:STANDARD
TZOFFSETFROM:-0700
TZOFFSETTO:-0800
TZNAME:PST
DTSTART:20271107T090000
END:STANDARD
BEGIN:DAYLIGHT
TZOFFSETFROM:-0800
TZOFFSETTO:-0700
TZNAME:PDT
DTSTART:20280312T100000
END:DAYLIGHT
BEGIN:STANDARD
TZOFFSETFROM:-0700
TZOFFSETTO:-0800
TZNAME:PST
DTSTART:20281105T090000
END:STANDARD
END:VTIMEZONE
BEGIN:VEVENT
DTSTART;TZID=America/Los_Angeles:20261115T090000
DTEND;TZID=America/Los_Angeles:20261115T100000
DTSTAMP:20260423T100728
CREATED:20251122T235633Z
LAST-MODIFIED:20251122T235633Z
UID:3038-1794733200-1794736800@www.klamathfallsfriendschurch.org
SUMMARY:Peace and Social Concerns Committee Meeting
DESCRIPTION:Come to share your ideas and hear what’s going on with our meeting around peace and social justice.
URL:https://www.klamathfallsfriendschurch.org/event/peace-and-social-concerns-committee-meeting-28/
LOCATION:Klamath Falls Friends Church\, 1918 Oregon Ave\, Klamath Falls\, OR 97601\, USA
END:VEVENT
BEGIN:VEVENT
DTSTART;TZID=America/Los_Angeles:20261115T094500
DTEND;TZID=America/Los_Angeles:20261115T100000
DTSTAMP:20260423T100728
CREATED:20251122T235634Z
LAST-MODIFIED:20251122T235634Z
UID:3039-1794735900-1794736800@www.klamathfallsfriendschurch.org
SUMMARY:Fellowship and Gathering Time
DESCRIPTION:
URL:https://www.klamathfallsfriendschurch.org/event/fellowship-and-gathering-time-58/
END:VEVENT
BEGIN:VEVENT
DTSTART;TZID=America/Los_Angeles:20261115T100000
DTEND;TZID=America/Los_Angeles:20261115T110000
DTSTAMP:20260423T100728
CREATED:20251122T235634Z
LAST-MODIFIED:20251122T235634Z
UID:3040-1794736800-1794740400@www.klamathfallsfriendschurch.org
SUMMARY:Programmed Worship
DESCRIPTION:A typical Sunday worship includes reading from scripture\, songs\, a prepared message\, prayers\, and a period of open worship.
URL:https://www.klamathfallsfriendschurch.org/event/programmed-worship-88/
LOCATION:Klamath Falls Friends Church\, 1918 Oregon Ave\, Klamath Falls\, OR 97601\, USA
END:VEVENT
BEGIN:VEVENT
DTSTART;TZID=America/Los_Angeles:20261122T094500
DTEND;TZID=America/Los_Angeles:20261122T100000
DTSTAMP:20260423T100728
CREATED:20251122T235634Z
LAST-MODIFIED:20251122T235634Z
UID:3041-1795340700-1795341600@www.klamathfallsfriendschurch.org
SUMMARY:Fellowship and Gathering Time
DESCRIPTION:
URL:https://www.klamathfallsfriendschurch.org/event/fellowship-and-gathering-time-59/
END:VEVENT
BEGIN:VEVENT
DTSTART;TZID=America/Los_Angeles:20261122T100000
DTEND;TZID=America/Los_Angeles:20261122T110000
DTSTAMP:20260423T100728
CREATED:20251122T235634Z
LAST-MODIFIED:20251122T235634Z
UID:3042-1795341600-1795345200@www.klamathfallsfriendschurch.org
SUMMARY:Programmed Worship
DESCRIPTION:A typical Sunday worship includes reading from scripture\, songs\, a prepared message\, prayers\, and a period of open worship.
URL:https://www.klamathfallsfriendschurch.org/event/programmed-worship-89/
LOCATION:Klamath Falls Friends Church\, 1918 Oregon Ave\, Klamath Falls\, OR 97601\, USA
END:VEVENT
BEGIN:VEVENT
DTSTART;TZID=America/Los_Angeles:20261122T140000
DTEND;TZID=America/Los_Angeles:20261122T150000
DTSTAMP:20260423T100728
CREATED:20260301T034058Z
LAST-MODIFIED:20260301T034058Z
UID:3447-1795356000-1795359600@www.klamathfallsfriendschurch.org
SUMMARY:Singing Resistance
DESCRIPTION:
URL:https://www.klamathfallsfriendschurch.org/event/singing-resistance-30/
END:VEVENT
BEGIN:VEVENT
DTSTART;TZID=America/Los_Angeles:20261124T163000
DTEND;TZID=America/Los_Angeles:20261124T183000
DTSTAMP:20260423T100728
CREATED:20251227T032925Z
LAST-MODIFIED:20251227T032925Z
UID:3212-1795537800-1795545000@www.klamathfallsfriendschurch.org
SUMMARY:Interfaith Food Pantry
DESCRIPTION:Food is available free of charge. Check with the county food bank for eligibility guidelines.
URL:https://www.klamathfallsfriendschurch.org/event/interfaith-food-pantry-55/
END:VEVENT
BEGIN:VEVENT
DTSTART;TZID=America/Los_Angeles:20261124T170000
DTEND;TZID=America/Los_Angeles:20261124T190000
DTSTAMP:20260423T100728
CREATED:20251227T032925Z
LAST-MODIFIED:20251227T032925Z
UID:3213-1795539600-1795546800@www.klamathfallsfriendschurch.org
SUMMARY:Interfaith Food Pantry
DESCRIPTION:Food is available free of charge. Check with eligibility”>https://www.klamathfoodbank.org/food-pantry-schedule-income-eligibility-guidelines-cloned/”>eligibility guidelines.
URL:https://www.klamathfallsfriendschurch.org/event/interfaith-food-pantry-56/
LOCATION:Klamath Lutheran Church-ELCA\, 1175 Crescent Ave\, Klamath Falls\, OR 97601\, USA
END:VEVENT
BEGIN:VEVENT
DTSTART;TZID=America/Los_Angeles:20261129T094500
DTEND;TZID=America/Los_Angeles:20261129T100000
DTSTAMP:20260423T100728
CREATED:20251227T032925Z
LAST-MODIFIED:20251227T032925Z
UID:3214-1795945500-1795946400@www.klamathfallsfriendschurch.org
SUMMARY:Fellowship and Gathering Time
DESCRIPTION:
URL:https://www.klamathfallsfriendschurch.org/event/fellowship-and-gathering-time-60/
END:VEVENT
BEGIN:VEVENT
DTSTART;TZID=America/Los_Angeles:20261129T140000
DTEND;TZID=America/Los_Angeles:20261129T150000
DTSTAMP:20260423T100728
CREATED:20260301T034058Z
LAST-MODIFIED:20260301T034058Z
UID:3448-1795960800-1795964400@www.klamathfallsfriendschurch.org
SUMMARY:Singing Resistance
DESCRIPTION:
URL:https://www.klamathfallsfriendschurch.org/event/singing-resistance-31/
END:VEVENT
BEGIN:VEVENT
DTSTART;TZID=America/Los_Angeles:20261206T090000
DTEND;TZID=America/Los_Angeles:20261206T100000
DTSTAMP:20260423T100728
CREATED:20251227T032925Z
LAST-MODIFIED:20251227T032925Z
UID:3215-1796547600-1796551200@www.klamathfallsfriendschurch.org
SUMMARY:Bible Study
DESCRIPTION:
URL:https://www.klamathfallsfriendschurch.org/event/bible-study-22/
END:VEVENT
BEGIN:VEVENT
DTSTART;TZID=America/Los_Angeles:20261206T094500
DTEND;TZID=America/Los_Angeles:20261206T100000
DTSTAMP:20260423T100728
CREATED:20251227T032925Z
LAST-MODIFIED:20251227T032925Z
UID:3216-1796550300-1796551200@www.klamathfallsfriendschurch.org
SUMMARY:Fellowship and Gathering Time
DESCRIPTION:
URL:https://www.klamathfallsfriendschurch.org/event/fellowship-and-gathering-time-61/
END:VEVENT
BEGIN:VEVENT
DTSTART;TZID=America/Los_Angeles:20261206T100000
DTEND;TZID=America/Los_Angeles:20261206T110000
DTSTAMP:20260423T100728
CREATED:20251227T032926Z
LAST-MODIFIED:20251227T032926Z
UID:3217-1796551200-1796554800@www.klamathfallsfriendschurch.org
SUMMARY:Unprogrammed Worship
DESCRIPTION:Worship on the first Sunday of the month is an extended period of open/waiting worship.
URL:https://www.klamathfallsfriendschurch.org/event/unprogrammed-worship-29/
END:VEVENT
BEGIN:VEVENT
DTSTART;TZID=America/Los_Angeles:20261206T140000
DTEND;TZID=America/Los_Angeles:20261206T150000
DTSTAMP:20260423T100728
CREATED:20260301T034058Z
LAST-MODIFIED:20260301T034058Z
UID:3449-1796565600-1796569200@www.klamathfallsfriendschurch.org
SUMMARY:Singing Resistance
DESCRIPTION:
URL:https://www.klamathfallsfriendschurch.org/event/singing-resistance-32/
END:VEVENT
BEGIN:VEVENT
DTSTART;TZID=America/Los_Angeles:20261213T094500
DTEND;TZID=America/Los_Angeles:20261213T100000
DTSTAMP:20260423T100728
CREATED:20251227T032926Z
LAST-MODIFIED:20251227T032926Z
UID:3218-1797155100-1797156000@www.klamathfallsfriendschurch.org
SUMMARY:Fellowship and Gathering Time
DESCRIPTION:
URL:https://www.klamathfallsfriendschurch.org/event/fellowship-and-gathering-time-62/
END:VEVENT
BEGIN:VEVENT
DTSTART;TZID=America/Los_Angeles:20261213T100000
DTEND;TZID=America/Los_Angeles:20261213T110000
DTSTAMP:20260423T100728
CREATED:20251227T032926Z
LAST-MODIFIED:20251227T032926Z
UID:3219-1797156000-1797159600@www.klamathfallsfriendschurch.org
SUMMARY:Programmed Worship
DESCRIPTION:A typical Sunday worship includes reading from scripture\, songs\, a prepared message\, prayers\, and a period of open worship.
URL:https://www.klamathfallsfriendschurch.org/event/programmed-worship-90/
LOCATION:Klamath Falls Friends Church\, 1918 Oregon Ave\, Klamath Falls\, OR 97601\, USA
END:VEVENT
BEGIN:VEVENT
DTSTART;TZID=America/Los_Angeles:20261213T110000
DTEND;TZID=America/Los_Angeles:20261213T120000
DTSTAMP:20260423T100728
CREATED:20251227T032926Z
LAST-MODIFIED:20251227T032926Z
UID:3220-1797159600-1797163200@www.klamathfallsfriendschurch.org
SUMMARY:Book Group
DESCRIPTION:
URL:https://www.klamathfallsfriendschurch.org/event/book-group-14/
END:VEVENT
BEGIN:VEVENT
DTSTART;TZID=America/Los_Angeles:20261213T140000
DTEND;TZID=America/Los_Angeles:20261213T150000
DTSTAMP:20260423T100728
CREATED:20260301T034059Z
LAST-MODIFIED:20260301T034059Z
UID:3450-1797170400-1797174000@www.klamathfallsfriendschurch.org
SUMMARY:Singing Resistance
DESCRIPTION:
URL:https://www.klamathfallsfriendschurch.org/event/singing-resistance-33/
END:VEVENT
BEGIN:VEVENT
DTSTART;TZID=America/Los_Angeles:20261220T090000
DTEND;TZID=America/Los_Angeles:20261220T100000
DTSTAMP:20260423T100728
CREATED:20251227T032927Z
LAST-MODIFIED:20251227T032927Z
UID:3221-1797757200-1797760800@www.klamathfallsfriendschurch.org
SUMMARY:Peace and Social Concerns Committee Meeting
DESCRIPTION:Come to share your ideas and hear what’s going on with our meeting around peace and social justice.
URL:https://www.klamathfallsfriendschurch.org/event/peace-and-social-concerns-committee-meeting-29/
LOCATION:Klamath Falls Friends Church\, 1918 Oregon Ave\, Klamath Falls\, OR 97601\, USA
END:VEVENT
BEGIN:VEVENT
DTSTART;TZID=America/Los_Angeles:20261220T094500
DTEND;TZID=America/Los_Angeles:20261220T100000
DTSTAMP:20260423T100728
CREATED:20251227T032927Z
LAST-MODIFIED:20251227T032927Z
UID:3222-1797759900-1797760800@www.klamathfallsfriendschurch.org
SUMMARY:Fellowship and Gathering Time
DESCRIPTION:
URL:https://www.klamathfallsfriendschurch.org/event/fellowship-and-gathering-time-63/
END:VEVENT
BEGIN:VEVENT
DTSTART;TZID=America/Los_Angeles:20261220T100000
DTEND;TZID=America/Los_Angeles:20261220T110000
DTSTAMP:20260423T100728
CREATED:20251227T032927Z
LAST-MODIFIED:20251227T032927Z
UID:3223-1797760800-1797764400@www.klamathfallsfriendschurch.org
SUMMARY:Programmed Worship
DESCRIPTION:A typical Sunday worship includes reading from scripture\, songs\, a prepared message\, prayers\, and a period of open worship.
URL:https://www.klamathfallsfriendschurch.org/event/programmed-worship-91/
LOCATION:Klamath Falls Friends Church\, 1918 Oregon Ave\, Klamath Falls\, OR 97601\, USA
END:VEVENT
BEGIN:VEVENT
DTSTART;TZID=America/Los_Angeles:20261227T094500
DTEND;TZID=America/Los_Angeles:20261227T100000
DTSTAMP:20260423T100728
CREATED:20251227T032927Z
LAST-MODIFIED:20251227T032927Z
UID:3224-1798364700-1798365600@www.klamathfallsfriendschurch.org
SUMMARY:Fellowship and Gathering Time
DESCRIPTION:
URL:https://www.klamathfallsfriendschurch.org/event/fellowship-and-gathering-time-64/
END:VEVENT
BEGIN:VEVENT
DTSTART;TZID=America/Los_Angeles:20261227T100000
DTEND;TZID=America/Los_Angeles:20261227T110000
DTSTAMP:20260423T100728
CREATED:20251227T032927Z
LAST-MODIFIED:20251227T032927Z
UID:3225-1798365600-1798369200@www.klamathfallsfriendschurch.org
SUMMARY:Programmed Worship
DESCRIPTION:A typical Sunday worship includes reading from scripture\, songs\, a prepared message\, prayers\, and a period of open worship.
URL:https://www.klamathfallsfriendschurch.org/event/programmed-worship-92/
LOCATION:Klamath Falls Friends Church\, 1918 Oregon Ave\, Klamath Falls\, OR 97601\, USA
END:VEVENT
BEGIN:VEVENT
DTSTART;TZID=America/Los_Angeles:20261227T140000
DTEND;TZID=America/Los_Angeles:20261227T150000
DTSTAMP:20260423T100728
CREATED:20260301T034059Z
LAST-MODIFIED:20260301T034059Z
UID:3451-1798380000-1798383600@www.klamathfallsfriendschurch.org
SUMMARY:Singing Resistance
DESCRIPTION:
URL:https://www.klamathfallsfriendschurch.org/event/singing-resistance-34/
END:VEVENT
BEGIN:VEVENT
DTSTART;TZID=America/Los_Angeles:20261229T163000
DTEND;TZID=America/Los_Angeles:20261229T183000
DTSTAMP:20260423T100728
CREATED:20260301T034059Z
LAST-MODIFIED:20260301T034059Z
UID:3452-1798561800-1798569000@www.klamathfallsfriendschurch.org
SUMMARY:Interfaith Food Pantry
DESCRIPTION:Food is available free of charge. Check with the county food bank for eligibility guidelines.
URL:https://www.klamathfallsfriendschurch.org/event/interfaith-food-pantry-58/
END:VEVENT
BEGIN:VEVENT
DTSTART;TZID=America/Los_Angeles:20261229T170000
DTEND;TZID=America/Los_Angeles:20261229T190000
DTSTAMP:20260423T100728
CREATED:20260301T034101Z
LAST-MODIFIED:20260301T034101Z
UID:3453-1798563600-1798570800@www.klamathfallsfriendschurch.org
SUMMARY:Interfaith Food Pantry
DESCRIPTION:Food is available free of charge. Check with eligibility”>https://www.klamathfoodbank.org/food-pantry-schedule-income-eligibility-guidelines-cloned/”>eligibility guidelines.
URL:https://www.klamathfallsfriendschurch.org/event/interfaith-food-pantry-59/
LOCATION:Klamath Lutheran Church-ELCA\, 1175 Crescent Ave\, Klamath Falls\, OR 97601\, USA
END:VEVENT
BEGIN:VEVENT
DTSTART;TZID=America/Los_Angeles:20270103T090000
DTEND;TZID=America/Los_Angeles:20270103T100000
DTSTAMP:20260423T100728
CREATED:20260301T034101Z
LAST-MODIFIED:20260301T034101Z
UID:3454-1798966800-1798970400@www.klamathfallsfriendschurch.org
SUMMARY:Bible Study
DESCRIPTION:
URL:https://www.klamathfallsfriendschurch.org/event/bible-study-23/
END:VEVENT
BEGIN:VEVENT
DTSTART;TZID=America/Los_Angeles:20270103T094500
DTEND;TZID=America/Los_Angeles:20270103T100000
DTSTAMP:20260423T100728
CREATED:20260301T034101Z
LAST-MODIFIED:20260301T034101Z
UID:3455-1798969500-1798970400@www.klamathfallsfriendschurch.org
SUMMARY:Fellowship and Gathering Time
DESCRIPTION:
URL:https://www.klamathfallsfriendschurch.org/event/fellowship-and-gathering-time-65/
END:VEVENT
BEGIN:VEVENT
DTSTART;TZID=America/Los_Angeles:20270103T100000
DTEND;TZID=America/Los_Angeles:20270103T110000
DTSTAMP:20260423T100728
CREATED:20260301T034102Z
LAST-MODIFIED:20260301T034102Z
UID:3456-1798970400-1798974000@www.klamathfallsfriendschurch.org
SUMMARY:Unprogrammed Worship
DESCRIPTION:Worship on the first Sunday of the month is an extended period of open/waiting worship.
URL:https://www.klamathfallsfriendschurch.org/event/unprogrammed-worship-30/
END:VEVENT
BEGIN:VEVENT
DTSTART;TZID=America/Los_Angeles:20270103T140000
DTEND;TZID=America/Los_Angeles:20270103T150000
DTSTAMP:20260423T100728
CREATED:20260301T034102Z
LAST-MODIFIED:20260301T034102Z
UID:3457-1798984800-1798988400@www.klamathfallsfriendschurch.org
SUMMARY:Singing Resistance
DESCRIPTION:
URL:https://www.klamathfallsfriendschurch.org/event/singing-resistance-35/
END:VEVENT
END:VCALENDAR