BEGIN:VCALENDAR
VERSION:2.0
PRODID:-//Klamath Falls Friends - ECPv6.15.20//NONSGML v1.0//EN
CALSCALE:GREGORIAN
METHOD:PUBLISH
X-WR-CALNAME:Klamath Falls Friends
X-ORIGINAL-URL:https://www.klamathfallsfriendschurch.org
X-WR-CALDESC:Events for Klamath Falls Friends
REFRESH-INTERVAL;VALUE=DURATION:PT1H
X-Robots-Tag:noindex
X-PUBLISHED-TTL:PT1H
BEGIN:VTIMEZONE
TZID:America/Los_Angeles
BEGIN:DAYLIGHT
TZOFFSETFROM:-0800
TZOFFSETTO:-0700
TZNAME:PDT
DTSTART:20240310T100000
END:DAYLIGHT
BEGIN:STANDARD
TZOFFSETFROM:-0700
TZOFFSETTO:-0800
TZNAME:PST
DTSTART:20241103T090000
END:STANDARD
BEGIN:DAYLIGHT
TZOFFSETFROM:-0800
TZOFFSETTO:-0700
TZNAME:PDT
DTSTART:20250309T100000
END:DAYLIGHT
BEGIN:STANDARD
TZOFFSETFROM:-0700
TZOFFSETTO:-0800
TZNAME:PST
DTSTART:20251102T090000
END:STANDARD
BEGIN:DAYLIGHT
TZOFFSETFROM:-0800
TZOFFSETTO:-0700
TZNAME:PDT
DTSTART:20260308T100000
END:DAYLIGHT
BEGIN:STANDARD
TZOFFSETFROM:-0700
TZOFFSETTO:-0800
TZNAME:PST
DTSTART:20261101T090000
END:STANDARD
END:VTIMEZONE
BEGIN:VTIMEZONE
TZID:America/Los_Angeles
BEGIN:DAYLIGHT
TZOFFSETFROM:-0800
TZOFFSETTO:-0700
TZNAME:PDT
DTSTART:20240310T100000
END:DAYLIGHT
BEGIN:STANDARD
TZOFFSETFROM:-0700
TZOFFSETTO:-0800
TZNAME:PST
DTSTART:20241103T090000
END:STANDARD
BEGIN:DAYLIGHT
TZOFFSETFROM:-0800
TZOFFSETTO:-0700
TZNAME:PDT
DTSTART:20250309T100000
END:DAYLIGHT
BEGIN:STANDARD
TZOFFSETFROM:-0700
TZOFFSETTO:-0800
TZNAME:PST
DTSTART:20251102T090000
END:STANDARD
BEGIN:DAYLIGHT
TZOFFSETFROM:-0800
TZOFFSETTO:-0700
TZNAME:PDT
DTSTART:20260308T100000
END:DAYLIGHT
BEGIN:STANDARD
TZOFFSETFROM:-0700
TZOFFSETTO:-0800
TZNAME:PST
DTSTART:20261101T090000
END:STANDARD
END:VTIMEZONE
BEGIN:VEVENT
DTSTART;TZID=America/Los_Angeles:20250928T100000
DTEND;TZID=America/Los_Angeles:20250928T110000
DTSTAMP:20260424T022419
CREATED:20241112T015714Z
LAST-MODIFIED:20241112T015714Z
UID:1567-1759053600-1759057200@www.klamathfallsfriendschurch.org
SUMMARY:Programmed Worship
DESCRIPTION:A typical Sunday worship includes reading from scripture\, songs\, a prepared message\, prayers\, and a period of open worship.
URL:https://www.klamathfallsfriendschurch.org/event/programmed-worship-41/
LOCATION:Klamath Falls Friends Church\, 1918 Oregon Ave\, Klamath Falls\, OR 97601\, USA
END:VEVENT
BEGIN:VEVENT
DTSTART;TZID=America/Los_Angeles:20250921T100000
DTEND;TZID=America/Los_Angeles:20250921T110000
DTSTAMP:20260424T022419
CREATED:20240921T175856Z
LAST-MODIFIED:20240921T175856Z
UID:1382-1758448800-1758452400@www.klamathfallsfriendschurch.org
SUMMARY:Programmed Worship
DESCRIPTION:A typical Sunday worship includes reading from scripture\, songs\, a prepared message\, prayers\, and a period of open worship.
URL:https://www.klamathfallsfriendschurch.org/event/programmed-worship-40/
LOCATION:Klamath Falls Friends Church\, 1918 Oregon Ave\, Klamath Falls\, OR 97601\, USA
END:VEVENT
BEGIN:VEVENT
DTSTART;TZID=America/Los_Angeles:20250921T090000
DTEND;TZID=America/Los_Angeles:20250921T100000
DTSTAMP:20260424T022419
CREATED:20240921T175856Z
LAST-MODIFIED:20240921T175856Z
UID:1381-1758445200-1758448800@www.klamathfallsfriendschurch.org
SUMMARY:Peace and Social Concerns Committee Meeting
DESCRIPTION:Come to share your ideas and hear what’s going on with our meeting around peace and social justice.
URL:https://www.klamathfallsfriendschurch.org/event/peace-and-social-concerns-committee-meeting/
LOCATION:Klamath Falls Friends Church\, 1918 Oregon Ave\, Klamath Falls\, OR 97601\, USA
END:VEVENT
BEGIN:VEVENT
DTSTART;TZID=America/Los_Angeles:20250920T090000
DTEND;TZID=America/Los_Angeles:20250920T100000
DTSTAMP:20260424T022419
CREATED:20250913T194019Z
LAST-MODIFIED:20250913T194019Z
UID:2701-1758358800-1758362400@www.klamathfallsfriendschurch.org
SUMMARY:Cleaning Day at the Church
DESCRIPTION:Typically takes an hour to an hour and a half. It can be much faster with plenty of help.
URL:https://www.klamathfallsfriendschurch.org/event/cleaning-day-at-the-church-4/
LOCATION:Klamath Falls Friends Church\, 1918 Oregon Ave\, Klamath Falls\, OR 97601\, USA
END:VEVENT
BEGIN:VEVENT
DTSTART;TZID=America/Los_Angeles:20250914T100000
DTEND;TZID=America/Los_Angeles:20250914T110000
DTSTAMP:20260424T022419
CREATED:20240921T175856Z
LAST-MODIFIED:20240921T175856Z
UID:1379-1757844000-1757847600@www.klamathfallsfriendschurch.org
SUMMARY:Programmed Worship
DESCRIPTION:A typical Sunday worship includes reading from scripture\, songs\, a prepared message\, prayers\, and a period of open worship.
URL:https://www.klamathfallsfriendschurch.org/event/programmed-worship-39/
LOCATION:Klamath Falls Friends Church\, 1918 Oregon Ave\, Klamath Falls\, OR 97601\, USA
END:VEVENT
BEGIN:VEVENT
DTSTART;TZID=America/Los_Angeles:20250914T090000
DTEND;TZID=America/Los_Angeles:20250914T100000
DTSTAMP:20260424T022419
CREATED:20250112T230153Z
LAST-MODIFIED:20250112T230153Z
UID:1727-1757840400-1757844000@www.klamathfallsfriendschurch.org
SUMMARY:Bible Study
DESCRIPTION:
URL:https://www.klamathfallsfriendschurch.org/event/bible-study-8/
END:VEVENT
BEGIN:VEVENT
DTSTART;TZID=America/Los_Angeles:20250907T100000
DTEND;TZID=America/Los_Angeles:20250907T110000
DTSTAMP:20260424T022419
CREATED:20240921T175855Z
LAST-MODIFIED:20240921T175855Z
UID:1377-1757239200-1757242800@www.klamathfallsfriendschurch.org
SUMMARY:Unprogrammed Worship
DESCRIPTION:Worship on the first Sunday of the month is an extended period of open/waiting worship.
URL:https://www.klamathfallsfriendschurch.org/event/unprogrammed-worship-13/
END:VEVENT
BEGIN:VEVENT
DTSTART;TZID=America/Los_Angeles:20250831T100000
DTEND;TZID=America/Los_Angeles:20250831T110000
DTSTAMP:20260424T022419
CREATED:20250804T011350Z
LAST-MODIFIED:20250804T011350Z
UID:2501-1756634400-1756638000@www.klamathfallsfriendschurch.org
SUMMARY:Programmed Worship
DESCRIPTION:A typical Sunday worship includes reading from scripture\, songs\, a prepared message\, prayers\, and a period of open worship.
URL:https://www.klamathfallsfriendschurch.org/event/programmed-worship-72/
LOCATION:Klamath Falls Friends Church\, 1918 Oregon Ave\, Klamath Falls\, OR 97601\, USA
END:VEVENT
BEGIN:VEVENT
DTSTART;TZID=America/Los_Angeles:20250826T170000
DTEND;TZID=America/Los_Angeles:20250826T190000
DTSTAMP:20260424T022419
CREATED:20240921T175855Z
LAST-MODIFIED:20240921T175855Z
UID:1374-1756227600-1756234800@www.klamathfallsfriendschurch.org
SUMMARY:Interfaith Food Pantry
DESCRIPTION:Food is available free of charge. Check with the county food bank for eligibility guidelines.
URL:https://www.klamathfallsfriendschurch.org/event/interfaith-food-pantry-28/
LOCATION:Klamath Lutheran Church-ELCA\, 1175 Crescent Ave\, Klamath Falls\, OR 97601\, USA
END:VEVENT
BEGIN:VEVENT
DTSTART;TZID=America/Los_Angeles:20250824T110000
DTEND;TZID=America/Los_Angeles:20250824T120000
DTSTAMP:20260424T022419
CREATED:20250804T011350Z
LAST-MODIFIED:20250804T011350Z
UID:2500-1756033200-1756036800@www.klamathfallsfriendschurch.org
SUMMARY:Monthly Business Meeting
DESCRIPTION:All are welcome to have their voices heard and listen to reports of what is currently going on at the meeting.
URL:https://www.klamathfallsfriendschurch.org/event/monthly-business-meeting-10/
LOCATION:Klamath Falls Friends Church\, 1918 Oregon Ave\, Klamath Falls\, OR 97601\, USA
END:VEVENT
BEGIN:VEVENT
DTSTART;TZID=America/Los_Angeles:20250824T100000
DTEND;TZID=America/Los_Angeles:20250824T110000
DTSTAMP:20260424T022419
CREATED:20240824T154738Z
LAST-MODIFIED:20240824T154738Z
UID:1270-1756029600-1756033200@www.klamathfallsfriendschurch.org
SUMMARY:Programmed Worship
DESCRIPTION:A typical Sunday worship includes reading from scripture\, songs\, a prepared message\, prayers\, and a period of open worship.
URL:https://www.klamathfallsfriendschurch.org/event/programmed-worship-38/
LOCATION:Klamath Falls Friends Church\, 1918 Oregon Ave\, Klamath Falls\, OR 97601\, USA
END:VEVENT
BEGIN:VEVENT
DTSTART;TZID=America/Los_Angeles:20250819T170000
DTEND;TZID=America/Los_Angeles:20250819T190000
DTSTAMP:20260424T022419
CREATED:20240824T154738Z
LAST-MODIFIED:20240824T154738Z
UID:1268-1755622800-1755630000@www.klamathfallsfriendschurch.org
SUMMARY:Interfaith Food Pantry
DESCRIPTION:Food is available free of charge. Check with the county food bank for eligibility guidelines.
URL:https://www.klamathfallsfriendschurch.org/event/interfaith-food-pantry-25/
LOCATION:Klamath Lutheran Church-ELCA\, 1175 Crescent Ave\, Klamath Falls\, OR 97601\, USA
END:VEVENT
BEGIN:VEVENT
DTSTART;TZID=America/Los_Angeles:20250817T100000
DTEND;TZID=America/Los_Angeles:20250817T110000
DTSTAMP:20260424T022419
CREATED:20240824T154738Z
LAST-MODIFIED:20240824T154738Z
UID:1267-1755424800-1755428400@www.klamathfallsfriendschurch.org
SUMMARY:Programmed Worship
DESCRIPTION:A typical Sunday worship includes reading from scripture\, songs\, a prepared message\, prayers\, and a period of open worship.
URL:https://www.klamathfallsfriendschurch.org/event/programmed-worship-37/
LOCATION:Klamath Falls Friends Church\, 1918 Oregon Ave\, Klamath Falls\, OR 97601\, USA
END:VEVENT
BEGIN:VEVENT
DTSTART;TZID=America/Los_Angeles:20250817T090000
DTEND;TZID=America/Los_Angeles:20250817T100000
DTSTAMP:20260424T022419
CREATED:20240824T154737Z
LAST-MODIFIED:20240824T154737Z
UID:1266-1755421200-1755424800@www.klamathfallsfriendschurch.org
SUMMARY:Peace and Social Concerns Committee Meeting
DESCRIPTION:Come to share your ideas and hear what’s going on with our meeting around peace and social justice.
URL:https://www.klamathfallsfriendschurch.org/event/peace-and-social-concerns-committee-meeting-24/
LOCATION:Klamath Falls Friends Church\, 1918 Oregon Ave\, Klamath Falls\, OR 97601\, USA
END:VEVENT
BEGIN:VEVENT
DTSTART;TZID=America/Los_Angeles:20250812T173000
DTEND;TZID=America/Los_Angeles:20250812T183000
DTSTAMP:20260424T022419
CREATED:20250804T011350Z
LAST-MODIFIED:20250806T013237Z
UID:2499-1755019800-1755023400@www.klamathfallsfriendschurch.org
SUMMARY:M&C
DESCRIPTION:
URL:https://www.klamathfallsfriendschurch.org/event/mc-9/
END:VEVENT
BEGIN:VEVENT
DTSTART;TZID=America/Los_Angeles:20250811T090000
DTEND;TZID=America/Los_Angeles:20250811T100000
DTSTAMP:20260424T022419
CREATED:20250804T011350Z
LAST-MODIFIED:20250804T011350Z
UID:2498-1754902800-1754906400@www.klamathfallsfriendschurch.org
SUMMARY:Cleaning Day at the Church
DESCRIPTION:
URL:https://www.klamathfallsfriendschurch.org/event/cleaning-day-at-the-church-3/
END:VEVENT
BEGIN:VEVENT
DTSTART;TZID=America/Los_Angeles:20250810T100000
DTEND;TZID=America/Los_Angeles:20250810T110000
DTSTAMP:20260424T022419
CREATED:20240812T015120Z
LAST-MODIFIED:20240812T015120Z
UID:1225-1754820000-1754823600@www.klamathfallsfriendschurch.org
SUMMARY:Programmed Worship
DESCRIPTION:A typical Sunday worship includes reading from scripture\, songs\, a prepared message\, prayers\, and a period of open worship.
URL:https://www.klamathfallsfriendschurch.org/event/programmed-worship-36/
LOCATION:Klamath Falls Friends Church\, 1918 Oregon Ave\, Klamath Falls\, OR 97601\, USA
END:VEVENT
BEGIN:VEVENT
DTSTART;TZID=America/Los_Angeles:20250810T090000
DTEND;TZID=America/Los_Angeles:20250810T100000
DTSTAMP:20260424T022419
CREATED:20250112T230153Z
LAST-MODIFIED:20250112T230153Z
UID:1726-1754816400-1754820000@www.klamathfallsfriendschurch.org
SUMMARY:Bible Study
DESCRIPTION:
URL:https://www.klamathfallsfriendschurch.org/event/bible-study-7/
END:VEVENT
BEGIN:VEVENT
DTSTART;TZID=America/Los_Angeles:20250803T100000
DTEND;TZID=America/Los_Angeles:20250803T110000
DTSTAMP:20260424T022419
CREATED:20240812T015120Z
LAST-MODIFIED:20240812T015120Z
UID:1223-1754215200-1754218800@www.klamathfallsfriendschurch.org
SUMMARY:Unprogrammed Worship
DESCRIPTION:Worship on the first Sunday of the month is an extended period of open/waiting worship.
URL:https://www.klamathfallsfriendschurch.org/event/unprogrammed-worship-12/
END:VEVENT
BEGIN:VEVENT
DTSTART;TZID=America/Los_Angeles:20250729T170000
DTEND;TZID=America/Los_Angeles:20250729T190000
DTSTAMP:20260424T022419
CREATED:20240812T015119Z
LAST-MODIFIED:20240812T015119Z
UID:1221-1753808400-1753815600@www.klamathfallsfriendschurch.org
SUMMARY:Interfaith Food Pantry
DESCRIPTION:Food is available free of charge. Check with the county food bank for eligibility guidelines.
URL:https://www.klamathfallsfriendschurch.org/event/interfaith-food-pantry-24/
LOCATION:Klamath Lutheran Church-ELCA\, 1175 Crescent Ave\, Klamath Falls\, OR 97601\, USA
END:VEVENT
BEGIN:VEVENT
DTSTART;TZID=America/Los_Angeles:20250727T110000
DTEND;TZID=America/Los_Angeles:20250727T120000
DTSTAMP:20260424T022420
CREATED:20250531T192122Z
LAST-MODIFIED:20250531T192122Z
UID:2203-1753614000-1753617600@www.klamathfallsfriendschurch.org
SUMMARY:Monthly Business Meeting
DESCRIPTION:All are welcome to have their voices heard and listen to reports of what is currently going on at the meeting.
URL:https://www.klamathfallsfriendschurch.org/event/monthly-business-meeting-9/
LOCATION:Klamath Falls Friends Church\, 1918 Oregon Ave\, Klamath Falls\, OR 97601\, USA
END:VEVENT
BEGIN:VEVENT
DTSTART;TZID=America/Los_Angeles:20250727T100000
DTEND;TZID=America/Los_Angeles:20250727T110000
DTSTAMP:20260424T022420
CREATED:20240812T015119Z
LAST-MODIFIED:20240812T015119Z
UID:1220-1753610400-1753614000@www.klamathfallsfriendschurch.org
SUMMARY:Programmed Worship
DESCRIPTION:A typical Sunday worship includes reading from scripture\, songs\, a prepared message\, prayers\, and a period of open worship.
URL:https://www.klamathfallsfriendschurch.org/event/programmed-worship-35/
LOCATION:Klamath Falls Friends Church\, 1918 Oregon Ave\, Klamath Falls\, OR 97601\, USA
END:VEVENT
BEGIN:VEVENT
DTSTART;TZID=America/Los_Angeles:20250722T170000
DTEND;TZID=America/Los_Angeles:20250722T190000
DTSTAMP:20260424T022420
CREATED:20240812T015119Z
LAST-MODIFIED:20240812T015119Z
UID:1218-1753203600-1753210800@www.klamathfallsfriendschurch.org
SUMMARY:Interfaith Food Pantry
DESCRIPTION:Food is available free of charge. Check with the county food bank for eligibility guidelines.
URL:https://www.klamathfallsfriendschurch.org/event/interfaith-food-pantry-23/
LOCATION:Klamath Lutheran Church-ELCA\, 1175 Crescent Ave\, Klamath Falls\, OR 97601\, USA
END:VEVENT
BEGIN:VEVENT
DTSTART;TZID=America/Los_Angeles:20250720T110000
DTEND;TZID=America/Los_Angeles:20250720T120000
DTSTAMP:20260424T022420
CREATED:20250705T231645Z
LAST-MODIFIED:20250705T231645Z
UID:2397-1753009200-1753012800@www.klamathfallsfriendschurch.org
SUMMARY:Dance Experience
DESCRIPTION:
URL:https://www.klamathfallsfriendschurch.org/event/dance-experience/
END:VEVENT
BEGIN:VEVENT
DTSTART;TZID=America/Los_Angeles:20250720T100000
DTEND;TZID=America/Los_Angeles:20250720T110000
DTSTAMP:20260424T022420
CREATED:20240812T015119Z
LAST-MODIFIED:20240812T015119Z
UID:1216-1753005600-1753009200@www.klamathfallsfriendschurch.org
SUMMARY:Programmed Worship
DESCRIPTION:A typical Sunday worship includes reading from scripture\, songs\, a prepared message\, prayers\, and a period of open worship.
URL:https://www.klamathfallsfriendschurch.org/event/programmed-worship-34/
LOCATION:Klamath Falls Friends Church\, 1918 Oregon Ave\, Klamath Falls\, OR 97601\, USA
END:VEVENT
BEGIN:VEVENT
DTSTART;TZID=America/Los_Angeles:20250720T090000
DTEND;TZID=America/Los_Angeles:20250720T100000
DTSTAMP:20260424T022420
CREATED:20240824T154737Z
LAST-MODIFIED:20240824T154737Z
UID:1264-1753002000-1753005600@www.klamathfallsfriendschurch.org
SUMMARY:Peace and Social Concerns Committee Meeting
DESCRIPTION:Come to share your ideas and hear what’s going on with our meeting around peace and social justice.
URL:https://www.klamathfallsfriendschurch.org/event/peace-and-social-concerns-committee-meeting-23/
LOCATION:Klamath Falls Friends Church\, 1918 Oregon Ave\, Klamath Falls\, OR 97601\, USA
END:VEVENT
BEGIN:VEVENT
DTSTART;TZID=America/Los_Angeles:20250714T173000
DTEND;TZID=America/Los_Angeles:20250714T183000
DTSTAMP:20260424T022420
CREATED:20250705T231645Z
LAST-MODIFIED:20250705T231645Z
UID:2396-1752514200-1752517800@www.klamathfallsfriendschurch.org
SUMMARY:M&C
DESCRIPTION:
URL:https://www.klamathfallsfriendschurch.org/event/mc-8/
END:VEVENT
BEGIN:VEVENT
DTSTART;TZID=America/Los_Angeles:20250713T110000
DTEND;TZID=America/Los_Angeles:20250713T120000
DTSTAMP:20260424T022420
CREATED:20250705T231644Z
LAST-MODIFIED:20250705T231644Z
UID:2395-1752404400-1752408000@www.klamathfallsfriendschurch.org
SUMMARY:Circle of Friends
DESCRIPTION:Building and Growing our community
URL:https://www.klamathfallsfriendschurch.org/event/circle-of-friends-3/
LOCATION:Klamath Falls Friends Church\, 1918 Oregon Ave\, Klamath Falls\, OR 97601\, USA
END:VEVENT
BEGIN:VEVENT
DTSTART;TZID=America/Los_Angeles:20250713T100000
DTEND;TZID=America/Los_Angeles:20250713T110000
DTSTAMP:20260424T022420
CREATED:20240812T015118Z
LAST-MODIFIED:20240812T015118Z
UID:1214-1752400800-1752404400@www.klamathfallsfriendschurch.org
SUMMARY:Programmed Worship
DESCRIPTION:A typical Sunday worship includes reading from scripture\, songs\, a prepared message\, prayers\, and a period of open worship.
URL:https://www.klamathfallsfriendschurch.org/event/programmed-worship-33/
LOCATION:Klamath Falls Friends Church\, 1918 Oregon Ave\, Klamath Falls\, OR 97601\, USA
END:VEVENT
BEGIN:VEVENT
DTSTART;TZID=America/Los_Angeles:20250713T090000
DTEND;TZID=America/Los_Angeles:20250713T100000
DTSTAMP:20260424T022420
CREATED:20250112T230153Z
LAST-MODIFIED:20250112T230153Z
UID:1725-1752397200-1752400800@www.klamathfallsfriendschurch.org
SUMMARY:Bible Study
DESCRIPTION:
URL:https://www.klamathfallsfriendschurch.org/event/bible-study-6/
END:VEVENT
END:VCALENDAR