BEGIN:VCALENDAR
VERSION:2.0
PRODID:-//Klamath Falls Friends - ECPv6.15.20//NONSGML v1.0//EN
CALSCALE:GREGORIAN
METHOD:PUBLISH
X-ORIGINAL-URL:https://www.klamathfallsfriendschurch.org
X-WR-CALDESC:Events for Klamath Falls Friends
REFRESH-INTERVAL;VALUE=DURATION:PT1H
X-Robots-Tag:noindex
X-PUBLISHED-TTL:PT1H
BEGIN:VTIMEZONE
TZID:America/Los_Angeles
BEGIN:DAYLIGHT
TZOFFSETFROM:-0800
TZOFFSETTO:-0700
TZNAME:PDT
DTSTART:20250309T100000
END:DAYLIGHT
BEGIN:STANDARD
TZOFFSETFROM:-0700
TZOFFSETTO:-0800
TZNAME:PST
DTSTART:20251102T090000
END:STANDARD
BEGIN:DAYLIGHT
TZOFFSETFROM:-0800
TZOFFSETTO:-0700
TZNAME:PDT
DTSTART:20260308T100000
END:DAYLIGHT
BEGIN:STANDARD
TZOFFSETFROM:-0700
TZOFFSETTO:-0800
TZNAME:PST
DTSTART:20261101T090000
END:STANDARD
BEGIN:DAYLIGHT
TZOFFSETFROM:-0800
TZOFFSETTO:-0700
TZNAME:PDT
DTSTART:20270314T100000
END:DAYLIGHT
BEGIN:STANDARD
TZOFFSETFROM:-0700
TZOFFSETTO:-0800
TZNAME:PST
DTSTART:20271107T090000
END:STANDARD
END:VTIMEZONE
BEGIN:VEVENT
DTSTART;TZID=America/Los_Angeles:20260411T090000
DTEND;TZID=America/Los_Angeles:20260411T100000
DTSTAMP:20260423T125052
CREATED:20260411T180128Z
LAST-MODIFIED:20260411T180128Z
UID:3594-1775898000-1775901600@www.klamathfallsfriendschurch.org
SUMMARY:Cleaning Day at the Church
DESCRIPTION:
URL:https://www.klamathfallsfriendschurch.org/event/cleaning-day-at-the-church-9/
END:VEVENT
BEGIN:VEVENT
DTSTART;TZID=America/Los_Angeles:20260412T094500
DTEND;TZID=America/Los_Angeles:20260412T100000
DTSTAMP:20260423T125052
CREATED:20251011T224003Z
LAST-MODIFIED:20251011T224003Z
UID:2857-1775987100-1775988000@www.klamathfallsfriendschurch.org
SUMMARY:Fellowship and Gathering Time
DESCRIPTION:
URL:https://www.klamathfallsfriendschurch.org/event/fellowship-and-gathering-time-27/
END:VEVENT
BEGIN:VEVENT
DTSTART;TZID=America/Los_Angeles:20260412T100000
DTEND;TZID=America/Los_Angeles:20260412T110000
DTSTAMP:20260423T125052
CREATED:20250414T002650Z
LAST-MODIFIED:20260404T185625Z
UID:2031-1775988000-1775991600@www.klamathfallsfriendschurch.org
SUMMARY:Unprogrammed Worship
DESCRIPTION:Due to the first Sunday of the month being Easter\, unprogrammed worship has been moved to the second Sunday. This service includes an extended period of waiting/open worship in addition to joys and concerns.
URL:https://www.klamathfallsfriendschurch.org/event/programmed-worship-62/
LOCATION:Klamath Falls Friends Church\, 1918 Oregon Ave\, Klamath Falls\, OR 97601\, USA
END:VEVENT
BEGIN:VEVENT
DTSTART;TZID=America/Los_Angeles:20260412T110000
DTEND;TZID=America/Los_Angeles:20260412T120000
DTSTAMP:20260423T125052
CREATED:20251011T224003Z
LAST-MODIFIED:20251011T224003Z
UID:2858-1775991600-1775995200@www.klamathfallsfriendschurch.org
SUMMARY:Book Group
DESCRIPTION:
URL:https://www.klamathfallsfriendschurch.org/event/book-group-6/
END:VEVENT
BEGIN:VEVENT
DTSTART;TZID=America/Los_Angeles:20260412T140000
DTEND;TZID=America/Los_Angeles:20260412T150000
DTSTAMP:20260423T125052
CREATED:20260301T034051Z
LAST-MODIFIED:20260301T034051Z
UID:3423-1776002400-1776006000@www.klamathfallsfriendschurch.org
SUMMARY:Singing Resistance
DESCRIPTION:
URL:https://www.klamathfallsfriendschurch.org/event/singing-resistance-6/
END:VEVENT
BEGIN:VEVENT
DTSTART;TZID=America/Los_Angeles:20260414T173000
DTEND;TZID=America/Los_Angeles:20260414T183000
DTSTAMP:20260423T125052
CREATED:20260411T180128Z
LAST-MODIFIED:20260411T180128Z
UID:3595-1776187800-1776191400@www.klamathfallsfriendschurch.org
SUMMARY:Music Committee
DESCRIPTION:
URL:https://www.klamathfallsfriendschurch.org/event/music-committee/
END:VEVENT
BEGIN:VEVENT
DTSTART;TZID=America/Los_Angeles:20260419T090000
DTEND;TZID=America/Los_Angeles:20260419T100000
DTSTAMP:20260423T125052
CREATED:20250531T192124Z
LAST-MODIFIED:20250531T192124Z
UID:2204-1776589200-1776592800@www.klamathfallsfriendschurch.org
SUMMARY:Peace and Social Concerns Committee Meeting
DESCRIPTION:Come to share your ideas and hear what’s going on with our meeting around peace and social justice.
URL:https://www.klamathfallsfriendschurch.org/event/peace-and-social-concerns-committee-meeting-9/
LOCATION:Klamath Falls Friends Church\, 1918 Oregon Ave\, Klamath Falls\, OR 97601\, USA
END:VEVENT
BEGIN:VEVENT
DTSTART;TZID=America/Los_Angeles:20260419T094500
DTEND;TZID=America/Los_Angeles:20260419T100000
DTSTAMP:20260423T125052
CREATED:20251011T224003Z
LAST-MODIFIED:20251011T224003Z
UID:2859-1776591900-1776592800@www.klamathfallsfriendschurch.org
SUMMARY:Fellowship and Gathering Time
DESCRIPTION:
URL:https://www.klamathfallsfriendschurch.org/event/fellowship-and-gathering-time-28/
END:VEVENT
BEGIN:VEVENT
DTSTART;TZID=America/Los_Angeles:20260419T100000
DTEND;TZID=America/Los_Angeles:20260419T110000
DTSTAMP:20260423T125052
CREATED:20250531T192125Z
LAST-MODIFIED:20250531T192125Z
UID:2205-1776592800-1776596400@www.klamathfallsfriendschurch.org
SUMMARY:Programmed Worship
DESCRIPTION:A typical Sunday worship includes reading from scripture\, songs\, a prepared message\, prayers\, and a period of open worship.
URL:https://www.klamathfallsfriendschurch.org/event/programmed-worship-64/
LOCATION:Klamath Falls Friends Church\, 1918 Oregon Ave\, Klamath Falls\, OR 97601\, USA
END:VEVENT
BEGIN:VEVENT
DTSTART;TZID=America/Los_Angeles:20260419T110000
DTEND;TZID=America/Los_Angeles:20260419T120000
DTSTAMP:20260423T125052
CREATED:20260411T180129Z
LAST-MODIFIED:20260411T180129Z
UID:3596-1776596400-1776600000@www.klamathfallsfriendschurch.org
SUMMARY:Potluck
DESCRIPTION:
URL:https://www.klamathfallsfriendschurch.org/event/potluck-6/
END:VEVENT
BEGIN:VEVENT
DTSTART;TZID=America/Los_Angeles:20260421T163000
DTEND;TZID=America/Los_Angeles:20260421T190000
DTSTAMP:20260423T125052
CREATED:20260411T180129Z
LAST-MODIFIED:20260411T180129Z
UID:3597-1776789000-1776798000@www.klamathfallsfriendschurch.org
SUMMARY:Interfaith Food Pantry
DESCRIPTION:Food is available free of charge. Check with the county food bank for eligibility guidelines.
URL:https://www.klamathfallsfriendschurch.org/event/interfaith-food-pantry-64/
END:VEVENT
BEGIN:VEVENT
DTSTART;TZID=America/Los_Angeles:20260422T173000
DTEND;TZID=America/Los_Angeles:20260422T183000
DTSTAMP:20260423T125052
CREATED:20260411T180129Z
LAST-MODIFIED:20260411T180129Z
UID:3598-1776879000-1776882600@www.klamathfallsfriendschurch.org
SUMMARY:Music Committee
DESCRIPTION:
URL:https://www.klamathfallsfriendschurch.org/event/music-committee-2/
END:VEVENT
BEGIN:VEVENT
DTSTART;TZID=America/Los_Angeles:20260426T094500
DTEND;TZID=America/Los_Angeles:20260426T100000
DTSTAMP:20260423T125052
CREATED:20251011T224003Z
LAST-MODIFIED:20251011T224003Z
UID:2860-1777196700-1777197600@www.klamathfallsfriendschurch.org
SUMMARY:Fellowship and Gathering Time
DESCRIPTION:
URL:https://www.klamathfallsfriendschurch.org/event/fellowship-and-gathering-time-29/
END:VEVENT
BEGIN:VEVENT
DTSTART;TZID=America/Los_Angeles:20260426T100000
DTEND;TZID=America/Los_Angeles:20260426T110000
DTSTAMP:20260423T125052
CREATED:20250531T192126Z
LAST-MODIFIED:20250531T192126Z
UID:2206-1777197600-1777201200@www.klamathfallsfriendschurch.org
SUMMARY:Programmed Worship
DESCRIPTION:A typical Sunday worship includes reading from scripture\, songs\, a prepared message\, prayers\, and a period of open worship.
URL:https://www.klamathfallsfriendschurch.org/event/programmed-worship-65/
LOCATION:Klamath Falls Friends Church\, 1918 Oregon Ave\, Klamath Falls\, OR 97601\, USA
END:VEVENT
BEGIN:VEVENT
DTSTART;TZID=America/Los_Angeles:20260426T110000
DTEND;TZID=America/Los_Angeles:20260426T120000
DTSTAMP:20260423T125052
CREATED:20260411T180129Z
LAST-MODIFIED:20260411T180129Z
UID:3599-1777201200-1777204800@www.klamathfallsfriendschurch.org
SUMMARY:Monthly Business Meeting
DESCRIPTION:All are welcome to have their voices heard and listen to reports of what is currently going on at the meeting.
URL:https://www.klamathfallsfriendschurch.org/event/monthly-business-meeting-15/
LOCATION:Klamath Falls Friends Church\, 1918 Oregon Ave\, Klamath Falls\, OR 97601\, USA
END:VEVENT
BEGIN:VEVENT
DTSTART;TZID=America/Los_Angeles:20260426T140000
DTEND;TZID=America/Los_Angeles:20260426T150000
DTSTAMP:20260423T125052
CREATED:20260301T034052Z
LAST-MODIFIED:20260301T034052Z
UID:3424-1777212000-1777215600@www.klamathfallsfriendschurch.org
SUMMARY:Singing Resistance
DESCRIPTION:
URL:https://www.klamathfallsfriendschurch.org/event/singing-resistance-7/
END:VEVENT
BEGIN:VEVENT
DTSTART;TZID=America/Los_Angeles:20260428T163000
DTEND;TZID=America/Los_Angeles:20260428T183000
DTSTAMP:20260423T125052
CREATED:20251227T032923Z
LAST-MODIFIED:20251227T032923Z
UID:3205-1777393800-1777401000@www.klamathfallsfriendschurch.org
SUMMARY:Interfaith Food Pantry
DESCRIPTION:Food is available free of charge. Check with the county food bank for eligibility guidelines.
URL:https://www.klamathfallsfriendschurch.org/event/interfaith-food-pantry-48/
END:VEVENT
BEGIN:VEVENT
DTSTART;TZID=America/Los_Angeles:20260428T170000
DTEND;TZID=America/Los_Angeles:20260428T190000
DTSTAMP:20260423T125052
CREATED:20250531T192128Z
LAST-MODIFIED:20250531T192128Z
UID:2207-1777395600-1777402800@www.klamathfallsfriendschurch.org
SUMMARY:Interfaith Food Pantry
DESCRIPTION:Food is available free of charge. Check with the county food bank for eligibility guidelines.
URL:https://www.klamathfallsfriendschurch.org/event/interfaith-food-pantry-34/
LOCATION:Klamath Lutheran Church-ELCA\, 1175 Crescent Ave\, Klamath Falls\, OR 97601\, USA
END:VEVENT
BEGIN:VEVENT
DTSTART;TZID=America/Los_Angeles:20260503T090000
DTEND;TZID=America/Los_Angeles:20260503T100000
DTSTAMP:20260423T125052
CREATED:20251011T224003Z
LAST-MODIFIED:20251011T224003Z
UID:2861-1777798800-1777802400@www.klamathfallsfriendschurch.org
SUMMARY:Bible Study
DESCRIPTION:
URL:https://www.klamathfallsfriendschurch.org/event/bible-study-15/
END:VEVENT
BEGIN:VEVENT
DTSTART;TZID=America/Los_Angeles:20260503T094500
DTEND;TZID=America/Los_Angeles:20260503T100000
DTSTAMP:20260423T125052
CREATED:20251011T224003Z
LAST-MODIFIED:20251011T224003Z
UID:2862-1777801500-1777802400@www.klamathfallsfriendschurch.org
SUMMARY:Fellowship and Gathering Time
DESCRIPTION:
URL:https://www.klamathfallsfriendschurch.org/event/fellowship-and-gathering-time-30/
END:VEVENT
BEGIN:VEVENT
DTSTART;TZID=America/Los_Angeles:20260503T100000
DTEND;TZID=America/Los_Angeles:20260503T110000
DTSTAMP:20260423T125052
CREATED:20250531T192129Z
LAST-MODIFIED:20250531T192129Z
UID:2208-1777802400-1777806000@www.klamathfallsfriendschurch.org
SUMMARY:Unprogrammed Worship
DESCRIPTION:Worship on the first Sunday of the month is an extended period of open/waiting worship.
URL:https://www.klamathfallsfriendschurch.org/event/unprogrammed-worship-22/
END:VEVENT
BEGIN:VEVENT
DTSTART;TZID=America/Los_Angeles:20260503T140000
DTEND;TZID=America/Los_Angeles:20260503T150000
DTSTAMP:20260423T125052
CREATED:20260301T034052Z
LAST-MODIFIED:20260301T034052Z
UID:3425-1777816800-1777820400@www.klamathfallsfriendschurch.org
SUMMARY:Singing Resistance
DESCRIPTION:
URL:https://www.klamathfallsfriendschurch.org/event/singing-resistance-8/
END:VEVENT
BEGIN:VEVENT
DTSTART;TZID=America/Los_Angeles:20260506T173000
DTEND;TZID=America/Los_Angeles:20260506T183000
DTSTAMP:20260423T125052
CREATED:20260411T180130Z
LAST-MODIFIED:20260411T180130Z
UID:3600-1778088600-1778092200@www.klamathfallsfriendschurch.org
SUMMARY:Music Committee
DESCRIPTION:
URL:https://www.klamathfallsfriendschurch.org/event/music-committee-3/
END:VEVENT
BEGIN:VEVENT
DTSTART;TZID=America/Los_Angeles:20260509T090000
DTEND;TZID=America/Los_Angeles:20260509T100000
DTSTAMP:20260423T125052
CREATED:20260411T180130Z
LAST-MODIFIED:20260411T180130Z
UID:3601-1778317200-1778320800@www.klamathfallsfriendschurch.org
SUMMARY:Cleaning Day at the Church
DESCRIPTION:
URL:https://www.klamathfallsfriendschurch.org/event/cleaning-day-at-the-church-10/
END:VEVENT
BEGIN:VEVENT
DTSTART;TZID=America/Los_Angeles:20260510T094500
DTEND;TZID=America/Los_Angeles:20260510T100000
DTSTAMP:20260423T125052
CREATED:20251011T224004Z
LAST-MODIFIED:20251011T224004Z
UID:2863-1778406300-1778407200@www.klamathfallsfriendschurch.org
SUMMARY:Fellowship and Gathering Time
DESCRIPTION:
URL:https://www.klamathfallsfriendschurch.org/event/fellowship-and-gathering-time-31/
END:VEVENT
BEGIN:VEVENT
DTSTART;TZID=America/Los_Angeles:20260510T100000
DTEND;TZID=America/Los_Angeles:20260510T110000
DTSTAMP:20260423T125052
CREATED:20250531T192131Z
LAST-MODIFIED:20250531T192131Z
UID:2210-1778407200-1778410800@www.klamathfallsfriendschurch.org
SUMMARY:Programmed Worship
DESCRIPTION:A typical Sunday worship includes reading from scripture\, songs\, a prepared message\, prayers\, and a period of open worship.
URL:https://www.klamathfallsfriendschurch.org/event/programmed-worship-66/
LOCATION:Klamath Falls Friends Church\, 1918 Oregon Ave\, Klamath Falls\, OR 97601\, USA
END:VEVENT
BEGIN:VEVENT
DTSTART;TZID=America/Los_Angeles:20260510T110000
DTEND;TZID=America/Los_Angeles:20260510T120000
DTSTAMP:20260423T125052
CREATED:20251011T224004Z
LAST-MODIFIED:20251011T224004Z
UID:2864-1778410800-1778414400@www.klamathfallsfriendschurch.org
SUMMARY:Book Group
DESCRIPTION:
URL:https://www.klamathfallsfriendschurch.org/event/book-group-7/
END:VEVENT
BEGIN:VEVENT
DTSTART;TZID=America/Los_Angeles:20260510T140000
DTEND;TZID=America/Los_Angeles:20260510T150000
DTSTAMP:20260423T125052
CREATED:20260301T034052Z
LAST-MODIFIED:20260301T034052Z
UID:3426-1778421600-1778425200@www.klamathfallsfriendschurch.org
SUMMARY:Singing Resistance
DESCRIPTION:
URL:https://www.klamathfallsfriendschurch.org/event/singing-resistance-9/
END:VEVENT
BEGIN:VEVENT
DTSTART;TZID=America/Los_Angeles:20260517T090000
DTEND;TZID=America/Los_Angeles:20260517T100000
DTSTAMP:20260423T125052
CREATED:20250531T192133Z
LAST-MODIFIED:20250531T192133Z
UID:2211-1779008400-1779012000@www.klamathfallsfriendschurch.org
SUMMARY:Peace and Social Concerns Committee Meeting
DESCRIPTION:Come to share your ideas and hear what’s going on with our meeting around peace and social justice.
URL:https://www.klamathfallsfriendschurch.org/event/peace-and-social-concerns-committee-meeting-10/
LOCATION:Klamath Falls Friends Church\, 1918 Oregon Ave\, Klamath Falls\, OR 97601\, USA
END:VEVENT
BEGIN:VEVENT
DTSTART;TZID=America/Los_Angeles:20260517T094500
DTEND;TZID=America/Los_Angeles:20260517T100000
DTSTAMP:20260423T125052
CREATED:20251011T224004Z
LAST-MODIFIED:20251011T224004Z
UID:2865-1779011100-1779012000@www.klamathfallsfriendschurch.org
SUMMARY:Fellowship and Gathering Time
DESCRIPTION:
URL:https://www.klamathfallsfriendschurch.org/event/fellowship-and-gathering-time-32/
END:VEVENT
END:VCALENDAR