BEGIN:VCALENDAR
VERSION:2.0
PRODID:-//Klamath Falls Friends - ECPv6.15.20//NONSGML v1.0//EN
CALSCALE:GREGORIAN
METHOD:PUBLISH
X-WR-CALNAME:Klamath Falls Friends
X-ORIGINAL-URL:https://www.klamathfallsfriendschurch.org
X-WR-CALDESC:Events for Klamath Falls Friends
REFRESH-INTERVAL;VALUE=DURATION:PT1H
X-Robots-Tag:noindex
X-PUBLISHED-TTL:PT1H
BEGIN:VTIMEZONE
TZID:UTC
BEGIN:STANDARD
TZOFFSETFROM:+0000
TZOFFSETTO:+0000
TZNAME:UTC
DTSTART:20250101T000000
END:STANDARD
END:VTIMEZONE
BEGIN:VTIMEZONE
TZID:America/Los_Angeles
BEGIN:DAYLIGHT
TZOFFSETFROM:-0800
TZOFFSETTO:-0700
TZNAME:PDT
DTSTART:20250309T100000
END:DAYLIGHT
BEGIN:STANDARD
TZOFFSETFROM:-0700
TZOFFSETTO:-0800
TZNAME:PST
DTSTART:20251102T090000
END:STANDARD
BEGIN:DAYLIGHT
TZOFFSETFROM:-0800
TZOFFSETTO:-0700
TZNAME:PDT
DTSTART:20260308T100000
END:DAYLIGHT
BEGIN:STANDARD
TZOFFSETFROM:-0700
TZOFFSETTO:-0800
TZNAME:PST
DTSTART:20261101T090000
END:STANDARD
BEGIN:DAYLIGHT
TZOFFSETFROM:-0800
TZOFFSETTO:-0700
TZNAME:PDT
DTSTART:20270314T100000
END:DAYLIGHT
BEGIN:STANDARD
TZOFFSETFROM:-0700
TZOFFSETTO:-0800
TZNAME:PST
DTSTART:20271107T090000
END:STANDARD
END:VTIMEZONE
BEGIN:VEVENT
DTSTART;VALUE=DATE:20260715
DTEND;VALUE=DATE:20260731
DTSTAMP:20260423T171428
CREATED:20260411T180131Z
LAST-MODIFIED:20260411T180131Z
UID:3605-1784073600-1785455999@www.klamathfallsfriendschurch.org
SUMMARY:Bernie on vacation
DESCRIPTION:
URL:https://www.klamathfallsfriendschurch.org/event/bernie-on-vacation/
END:VEVENT
BEGIN:VEVENT
DTSTART;TZID=America/Los_Angeles:20260719T090000
DTEND;TZID=America/Los_Angeles:20260719T100000
DTSTAMP:20260423T171428
CREATED:20250804T011351Z
LAST-MODIFIED:20250804T011351Z
UID:2504-1784451600-1784455200@www.klamathfallsfriendschurch.org
SUMMARY:Peace and Social Concerns Committee Meeting
DESCRIPTION:Come to share your ideas and hear what’s going on with our meeting around peace and social justice.
URL:https://www.klamathfallsfriendschurch.org/event/peace-and-social-concerns-committee-meeting-12/
LOCATION:Klamath Falls Friends Church\, 1918 Oregon Ave\, Klamath Falls\, OR 97601\, USA
END:VEVENT
BEGIN:VEVENT
DTSTART;TZID=America/Los_Angeles:20260719T094500
DTEND;TZID=America/Los_Angeles:20260719T100000
DTSTAMP:20260423T171428
CREATED:20251011T224006Z
LAST-MODIFIED:20251011T224006Z
UID:2878-1784454300-1784455200@www.klamathfallsfriendschurch.org
SUMMARY:Fellowship and Gathering Time
DESCRIPTION:
URL:https://www.klamathfallsfriendschurch.org/event/fellowship-and-gathering-time-41/
END:VEVENT
BEGIN:VEVENT
DTSTART;TZID=America/Los_Angeles:20260719T100000
DTEND;TZID=America/Los_Angeles:20260719T110000
DTSTAMP:20260423T171428
CREATED:20250804T011351Z
LAST-MODIFIED:20250804T011351Z
UID:2505-1784455200-1784458800@www.klamathfallsfriendschurch.org
SUMMARY:Programmed Worship
DESCRIPTION:A typical Sunday worship includes reading from scripture\, songs\, a prepared message\, prayers\, and a period of open worship.
URL:https://www.klamathfallsfriendschurch.org/event/programmed-worship-74/
LOCATION:Klamath Falls Friends Church\, 1918 Oregon Ave\, Klamath Falls\, OR 97601\, USA
END:VEVENT
BEGIN:VEVENT
DTSTART;TZID=America/Los_Angeles:20260726T094500
DTEND;TZID=America/Los_Angeles:20260726T100000
DTSTAMP:20260423T171428
CREATED:20251011T224006Z
LAST-MODIFIED:20251011T224006Z
UID:2879-1785059100-1785060000@www.klamathfallsfriendschurch.org
SUMMARY:Fellowship and Gathering Time
DESCRIPTION:
URL:https://www.klamathfallsfriendschurch.org/event/fellowship-and-gathering-time-42/
END:VEVENT
BEGIN:VEVENT
DTSTART;TZID=America/Los_Angeles:20260726T100000
DTEND;TZID=America/Los_Angeles:20260726T110000
DTSTAMP:20260423T171428
CREATED:20250804T011351Z
LAST-MODIFIED:20250804T011351Z
UID:2506-1785060000-1785063600@www.klamathfallsfriendschurch.org
SUMMARY:Programmed Worship
DESCRIPTION:A typical Sunday worship includes reading from scripture\, songs\, a prepared message\, prayers\, and a period of open worship.
URL:https://www.klamathfallsfriendschurch.org/event/programmed-worship-75/
LOCATION:Klamath Falls Friends Church\, 1918 Oregon Ave\, Klamath Falls\, OR 97601\, USA
END:VEVENT
BEGIN:VEVENT
DTSTART;TZID=America/Los_Angeles:20260726T140000
DTEND;TZID=America/Los_Angeles:20260726T150000
DTSTAMP:20260423T171428
CREATED:20260301T034054Z
LAST-MODIFIED:20260301T034054Z
UID:3434-1785074400-1785078000@www.klamathfallsfriendschurch.org
SUMMARY:Singing Resistance
DESCRIPTION:
URL:https://www.klamathfallsfriendschurch.org/event/singing-resistance-17/
END:VEVENT
BEGIN:VEVENT
DTSTART;TZID=America/Los_Angeles:20260728T163000
DTEND;TZID=America/Los_Angeles:20260728T183000
DTSTAMP:20260423T171428
CREATED:20251227T032924Z
LAST-MODIFIED:20251227T032924Z
UID:3208-1785256200-1785263400@www.klamathfallsfriendschurch.org
SUMMARY:Interfaith Food Pantry
DESCRIPTION:Food is available free of charge. Check with the county food bank for eligibility guidelines.
URL:https://www.klamathfallsfriendschurch.org/event/interfaith-food-pantry-51/
END:VEVENT
BEGIN:VEVENT
DTSTART;TZID=America/Los_Angeles:20260728T170000
DTEND;TZID=America/Los_Angeles:20260728T190000
DTSTAMP:20260423T171428
CREATED:20250804T011352Z
LAST-MODIFIED:20250804T011352Z
UID:2507-1785258000-1785265200@www.klamathfallsfriendschurch.org
SUMMARY:Interfaith Food Pantry
DESCRIPTION:Food is available free of charge. Check with eligibility”>https://www.klamathfoodbank.org/food-pantry-schedule-income-eligibility-guidelines-cloned/”>eligibility guidelines.
URL:https://www.klamathfallsfriendschurch.org/event/interfaith-food-pantry-37/
LOCATION:Klamath Lutheran Church-ELCA\, 1175 Crescent Ave\, Klamath Falls\, OR 97601\, USA
END:VEVENT
BEGIN:VEVENT
DTSTART;TZID=America/Los_Angeles:20260802T090000
DTEND;TZID=America/Los_Angeles:20260802T100000
DTSTAMP:20260423T171428
CREATED:20251011T224006Z
LAST-MODIFIED:20251011T224006Z
UID:2880-1785661200-1785664800@www.klamathfallsfriendschurch.org
SUMMARY:Bible Study
DESCRIPTION:
URL:https://www.klamathfallsfriendschurch.org/event/bible-study-18/
END:VEVENT
BEGIN:VEVENT
DTSTART;TZID=America/Los_Angeles:20260802T094500
DTEND;TZID=America/Los_Angeles:20260802T100000
DTSTAMP:20260423T171428
CREATED:20251011T224007Z
LAST-MODIFIED:20251011T224007Z
UID:2881-1785663900-1785664800@www.klamathfallsfriendschurch.org
SUMMARY:Fellowship and Gathering Time
DESCRIPTION:
URL:https://www.klamathfallsfriendschurch.org/event/fellowship-and-gathering-time-43/
END:VEVENT
BEGIN:VEVENT
DTSTART;TZID=America/Los_Angeles:20260802T100000
DTEND;TZID=America/Los_Angeles:20260802T110000
DTSTAMP:20260423T171428
CREATED:20250804T011352Z
LAST-MODIFIED:20250804T011352Z
UID:2508-1785664800-1785668400@www.klamathfallsfriendschurch.org
SUMMARY:Unprogrammed Worship
DESCRIPTION:Worship on the first Sunday of the month is an extended period of open/waiting worship.
URL:https://www.klamathfallsfriendschurch.org/event/unprogrammed-worship-25/
END:VEVENT
BEGIN:VEVENT
DTSTART;TZID=America/Los_Angeles:20260802T140000
DTEND;TZID=America/Los_Angeles:20260802T150000
DTSTAMP:20260423T171428
CREATED:20260301T034055Z
LAST-MODIFIED:20260301T034055Z
UID:3435-1785679200-1785682800@www.klamathfallsfriendschurch.org
SUMMARY:Singing Resistance
DESCRIPTION:
URL:https://www.klamathfallsfriendschurch.org/event/singing-resistance-18/
END:VEVENT
BEGIN:VEVENT
DTSTART;TZID=America/Los_Angeles:20260809T094500
DTEND;TZID=America/Los_Angeles:20260809T100000
DTSTAMP:20260423T171428
CREATED:20251011T224007Z
LAST-MODIFIED:20251011T224007Z
UID:2882-1786268700-1786269600@www.klamathfallsfriendschurch.org
SUMMARY:Fellowship and Gathering Time
DESCRIPTION:
URL:https://www.klamathfallsfriendschurch.org/event/fellowship-and-gathering-time-44/
END:VEVENT
BEGIN:VEVENT
DTSTART;TZID=America/Los_Angeles:20260809T100000
DTEND;TZID=America/Los_Angeles:20260809T110000
DTSTAMP:20260423T171428
CREATED:20251011T224007Z
LAST-MODIFIED:20251011T224007Z
UID:2883-1786269600-1786273200@www.klamathfallsfriendschurch.org
SUMMARY:Programmed Worship
DESCRIPTION:A typical Sunday worship includes reading from scripture\, songs\, a prepared message\, prayers\, and a period of open worship.
URL:https://www.klamathfallsfriendschurch.org/event/programmed-worship-76/
LOCATION:Klamath Falls Friends Church\, 1918 Oregon Ave\, Klamath Falls\, OR 97601\, USA
END:VEVENT
BEGIN:VEVENT
DTSTART;TZID=America/Los_Angeles:20260809T110000
DTEND;TZID=America/Los_Angeles:20260809T120000
DTSTAMP:20260423T171428
CREATED:20251011T224007Z
LAST-MODIFIED:20251011T224007Z
UID:2884-1786273200-1786276800@www.klamathfallsfriendschurch.org
SUMMARY:Book Group
DESCRIPTION:
URL:https://www.klamathfallsfriendschurch.org/event/book-group-10/
END:VEVENT
BEGIN:VEVENT
DTSTART;TZID=America/Los_Angeles:20260809T140000
DTEND;TZID=America/Los_Angeles:20260809T150000
DTSTAMP:20260423T171428
CREATED:20260301T034055Z
LAST-MODIFIED:20260301T034055Z
UID:3436-1786284000-1786287600@www.klamathfallsfriendschurch.org
SUMMARY:Singing Resistance
DESCRIPTION:
URL:https://www.klamathfallsfriendschurch.org/event/singing-resistance-19/
END:VEVENT
BEGIN:VEVENT
DTSTART;TZID=America/Los_Angeles:20260816T090000
DTEND;TZID=America/Los_Angeles:20260816T100000
DTSTAMP:20260423T171428
CREATED:20251011T224007Z
LAST-MODIFIED:20251011T224007Z
UID:2885-1786870800-1786874400@www.klamathfallsfriendschurch.org
SUMMARY:Peace and Social Concerns Committee Meeting
DESCRIPTION:Come to share your ideas and hear what’s going on with our meeting around peace and social justice.
URL:https://www.klamathfallsfriendschurch.org/event/peace-and-social-concerns-committee-meeting-25/
LOCATION:Klamath Falls Friends Church\, 1918 Oregon Ave\, Klamath Falls\, OR 97601\, USA
END:VEVENT
BEGIN:VEVENT
DTSTART;TZID=America/Los_Angeles:20260816T094500
DTEND;TZID=America/Los_Angeles:20260816T100000
DTSTAMP:20260423T171428
CREATED:20251011T224008Z
LAST-MODIFIED:20251011T224008Z
UID:2886-1786873500-1786874400@www.klamathfallsfriendschurch.org
SUMMARY:Fellowship and Gathering Time
DESCRIPTION:
URL:https://www.klamathfallsfriendschurch.org/event/fellowship-and-gathering-time-45/
END:VEVENT
BEGIN:VEVENT
DTSTART;TZID=America/Los_Angeles:20260816T100000
DTEND;TZID=America/Los_Angeles:20260816T110000
DTSTAMP:20260423T171428
CREATED:20251011T224008Z
LAST-MODIFIED:20251011T224008Z
UID:2887-1786874400-1786878000@www.klamathfallsfriendschurch.org
SUMMARY:Programmed Worship
DESCRIPTION:A typical Sunday worship includes reading from scripture\, songs\, a prepared message\, prayers\, and a period of open worship.
URL:https://www.klamathfallsfriendschurch.org/event/programmed-worship-77/
LOCATION:Klamath Falls Friends Church\, 1918 Oregon Ave\, Klamath Falls\, OR 97601\, USA
END:VEVENT
BEGIN:VEVENT
DTSTART;TZID=America/Los_Angeles:20260823T094500
DTEND;TZID=America/Los_Angeles:20260823T100000
DTSTAMP:20260423T171428
CREATED:20251011T224008Z
LAST-MODIFIED:20251011T224008Z
UID:2888-1787478300-1787479200@www.klamathfallsfriendschurch.org
SUMMARY:Fellowship and Gathering Time
DESCRIPTION:
URL:https://www.klamathfallsfriendschurch.org/event/fellowship-and-gathering-time-46/
END:VEVENT
BEGIN:VEVENT
DTSTART;TZID=America/Los_Angeles:20260823T100000
DTEND;TZID=America/Los_Angeles:20260823T110000
DTSTAMP:20260423T171428
CREATED:20251011T224008Z
LAST-MODIFIED:20251011T224008Z
UID:2889-1787479200-1787482800@www.klamathfallsfriendschurch.org
SUMMARY:Programmed Worship
DESCRIPTION:A typical Sunday worship includes reading from scripture\, songs\, a prepared message\, prayers\, and a period of open worship.
URL:https://www.klamathfallsfriendschurch.org/event/programmed-worship-78/
LOCATION:Klamath Falls Friends Church\, 1918 Oregon Ave\, Klamath Falls\, OR 97601\, USA
END:VEVENT
BEGIN:VEVENT
DTSTART;TZID=America/Los_Angeles:20260823T140000
DTEND;TZID=America/Los_Angeles:20260823T150000
DTSTAMP:20260423T171428
CREATED:20260301T034055Z
LAST-MODIFIED:20260301T034055Z
UID:3437-1787493600-1787497200@www.klamathfallsfriendschurch.org
SUMMARY:Singing Resistance
DESCRIPTION:
URL:https://www.klamathfallsfriendschurch.org/event/singing-resistance-20/
END:VEVENT
BEGIN:VEVENT
DTSTART;TZID=America/Los_Angeles:20260825T163000
DTEND;TZID=America/Los_Angeles:20260825T183000
DTSTAMP:20260423T171428
CREATED:20251227T032924Z
LAST-MODIFIED:20251227T032924Z
UID:3209-1787675400-1787682600@www.klamathfallsfriendschurch.org
SUMMARY:Interfaith Food Pantry
DESCRIPTION:Food is available free of charge. Check with the county food bank for eligibility guidelines.
URL:https://www.klamathfallsfriendschurch.org/event/interfaith-food-pantry-52/
END:VEVENT
BEGIN:VEVENT
DTSTART;TZID=America/Los_Angeles:20260825T170000
DTEND;TZID=America/Los_Angeles:20260825T190000
DTSTAMP:20260423T171428
CREATED:20251011T224008Z
LAST-MODIFIED:20251011T224008Z
UID:2890-1787677200-1787684400@www.klamathfallsfriendschurch.org
SUMMARY:Interfaith Food Pantry
DESCRIPTION:Food is available free of charge. Check with eligibility”>https://www.klamathfoodbank.org/food-pantry-schedule-income-eligibility-guidelines-cloned/”>eligibility guidelines.
URL:https://www.klamathfallsfriendschurch.org/event/interfaith-food-pantry-40/
LOCATION:Klamath Lutheran Church-ELCA\, 1175 Crescent Ave\, Klamath Falls\, OR 97601\, USA
END:VEVENT
BEGIN:VEVENT
DTSTART;TZID=America/Los_Angeles:20260830T094500
DTEND;TZID=America/Los_Angeles:20260830T100000
DTSTAMP:20260423T171428
CREATED:20251011T224009Z
LAST-MODIFIED:20251011T224009Z
UID:2891-1788083100-1788084000@www.klamathfallsfriendschurch.org
SUMMARY:Fellowship and Gathering Time
DESCRIPTION:
URL:https://www.klamathfallsfriendschurch.org/event/fellowship-and-gathering-time-47/
END:VEVENT
BEGIN:VEVENT
DTSTART;TZID=America/Los_Angeles:20260830T140000
DTEND;TZID=America/Los_Angeles:20260830T150000
DTSTAMP:20260423T171428
CREATED:20260301T034056Z
LAST-MODIFIED:20260301T034056Z
UID:3438-1788098400-1788102000@www.klamathfallsfriendschurch.org
SUMMARY:Singing Resistance
DESCRIPTION:
URL:https://www.klamathfallsfriendschurch.org/event/singing-resistance-21/
END:VEVENT
BEGIN:VEVENT
DTSTART;TZID=America/Los_Angeles:20260906T090000
DTEND;TZID=America/Los_Angeles:20260906T100000
DTSTAMP:20260423T171428
CREATED:20251011T224009Z
LAST-MODIFIED:20251011T224009Z
UID:2892-1788685200-1788688800@www.klamathfallsfriendschurch.org
SUMMARY:Bible Study
DESCRIPTION:
URL:https://www.klamathfallsfriendschurch.org/event/bible-study-19/
END:VEVENT
BEGIN:VEVENT
DTSTART;TZID=America/Los_Angeles:20260906T094500
DTEND;TZID=America/Los_Angeles:20260906T100000
DTSTAMP:20260423T171428
CREATED:20251011T224009Z
LAST-MODIFIED:20251011T224009Z
UID:2893-1788687900-1788688800@www.klamathfallsfriendschurch.org
SUMMARY:Fellowship and Gathering Time
DESCRIPTION:
URL:https://www.klamathfallsfriendschurch.org/event/fellowship-and-gathering-time-48/
END:VEVENT
BEGIN:VEVENT
DTSTART;TZID=America/Los_Angeles:20260906T100000
DTEND;TZID=America/Los_Angeles:20260906T110000
DTSTAMP:20260423T171428
CREATED:20251011T224009Z
LAST-MODIFIED:20251011T224009Z
UID:2894-1788688800-1788692400@www.klamathfallsfriendschurch.org
SUMMARY:Unprogrammed Worship
DESCRIPTION:Worship on the first Sunday of the month is an extended period of open/waiting worship.
URL:https://www.klamathfallsfriendschurch.org/event/unprogrammed-worship-26/
END:VEVENT
END:VCALENDAR