BEGIN:VCALENDAR
VERSION:2.0
PRODID:-//Klamath Falls Friends - ECPv6.15.20//NONSGML v1.0//EN
CALSCALE:GREGORIAN
METHOD:PUBLISH
X-WR-CALNAME:Klamath Falls Friends
X-ORIGINAL-URL:https://www.klamathfallsfriendschurch.org
X-WR-CALDESC:Events for Klamath Falls Friends
REFRESH-INTERVAL;VALUE=DURATION:PT1H
X-Robots-Tag:noindex
X-PUBLISHED-TTL:PT1H
BEGIN:VTIMEZONE
TZID:America/Los_Angeles
BEGIN:DAYLIGHT
TZOFFSETFROM:-0800
TZOFFSETTO:-0700
TZNAME:PDT
DTSTART:20240310T100000
END:DAYLIGHT
BEGIN:STANDARD
TZOFFSETFROM:-0700
TZOFFSETTO:-0800
TZNAME:PST
DTSTART:20241103T090000
END:STANDARD
BEGIN:DAYLIGHT
TZOFFSETFROM:-0800
TZOFFSETTO:-0700
TZNAME:PDT
DTSTART:20250309T100000
END:DAYLIGHT
BEGIN:STANDARD
TZOFFSETFROM:-0700
TZOFFSETTO:-0800
TZNAME:PST
DTSTART:20251102T090000
END:STANDARD
BEGIN:DAYLIGHT
TZOFFSETFROM:-0800
TZOFFSETTO:-0700
TZNAME:PDT
DTSTART:20260308T100000
END:DAYLIGHT
BEGIN:STANDARD
TZOFFSETFROM:-0700
TZOFFSETTO:-0800
TZNAME:PST
DTSTART:20261101T090000
END:STANDARD
END:VTIMEZONE
BEGIN:VTIMEZONE
TZID:America/Los_Angeles
BEGIN:DAYLIGHT
TZOFFSETFROM:-0800
TZOFFSETTO:-0700
TZNAME:PDT
DTSTART:20240310T100000
END:DAYLIGHT
BEGIN:STANDARD
TZOFFSETFROM:-0700
TZOFFSETTO:-0800
TZNAME:PST
DTSTART:20241103T090000
END:STANDARD
BEGIN:DAYLIGHT
TZOFFSETFROM:-0800
TZOFFSETTO:-0700
TZNAME:PDT
DTSTART:20250309T100000
END:DAYLIGHT
BEGIN:STANDARD
TZOFFSETFROM:-0700
TZOFFSETTO:-0800
TZNAME:PST
DTSTART:20251102T090000
END:STANDARD
BEGIN:DAYLIGHT
TZOFFSETFROM:-0800
TZOFFSETTO:-0700
TZNAME:PDT
DTSTART:20260308T100000
END:DAYLIGHT
BEGIN:STANDARD
TZOFFSETFROM:-0700
TZOFFSETTO:-0800
TZNAME:PST
DTSTART:20261101T090000
END:STANDARD
END:VTIMEZONE
BEGIN:VEVENT
DTSTART;TZID=America/Los_Angeles:20251230T170000
DTEND;TZID=America/Los_Angeles:20251230T190000
DTSTAMP:20260423T154330
CREATED:20250112T230155Z
LAST-MODIFIED:20250112T230155Z
UID:1740-1767114000-1767121200@www.klamathfallsfriendschurch.org
SUMMARY:Interfaith Food Pantry
DESCRIPTION:Food is available free of charge. Check with the county food bank for eligibility guidelines.
URL:https://www.klamathfallsfriendschurch.org/event/interfaith-food-pantry-30/
LOCATION:Klamath Lutheran Church-ELCA\, 1175 Crescent Ave\, Klamath Falls\, OR 97601\, USA
END:VEVENT
BEGIN:VEVENT
DTSTART;TZID=America/Los_Angeles:20251228T100000
DTEND;TZID=America/Los_Angeles:20251228T110000
DTSTAMP:20260423T154330
CREATED:20250112T230155Z
LAST-MODIFIED:20250112T230155Z
UID:1739-1766916000-1766919600@www.klamathfallsfriendschurch.org
SUMMARY:Programmed Worship
DESCRIPTION:A typical Sunday worship includes reading from scripture\, songs\, a prepared message\, prayers\, and a period of open worship.
URL:https://www.klamathfallsfriendschurch.org/event/programmed-worship-50/
LOCATION:Klamath Falls Friends Church\, 1918 Oregon Ave\, Klamath Falls\, OR 97601\, USA
END:VEVENT
BEGIN:VEVENT
DTSTART;TZID=America/Los_Angeles:20251228T094500
DTEND;TZID=America/Los_Angeles:20251228T100000
DTSTAMP:20260423T154330
CREATED:20251011T223959Z
LAST-MODIFIED:20251011T223959Z
UID:2833-1766915100-1766916000@www.klamathfallsfriendschurch.org
SUMMARY:Fellowship and Gathering Time
DESCRIPTION:
URL:https://www.klamathfallsfriendschurch.org/event/fellowship-and-gathering-time-12/
END:VEVENT
BEGIN:VEVENT
DTSTART;TZID=America/Los_Angeles:20251223T170000
DTEND;TZID=America/Los_Angeles:20251223T190000
DTSTAMP:20260423T154330
CREATED:20251122T235630Z
LAST-MODIFIED:20251122T235630Z
UID:3025-1766509200-1766516400@www.klamathfallsfriendschurch.org
SUMMARY:Interfaith Food Pantry
DESCRIPTION:Food is available free of charge. Check with the county food bank for eligibility guidelines.
URL:https://www.klamathfallsfriendschurch.org/event/interfaith-food-pantry-42/
LOCATION:Klamath Lutheran Church-ELCA\, 1175 Crescent Ave\, Klamath Falls\, OR 97601\, USA
END:VEVENT
BEGIN:VEVENT
DTSTART;TZID=America/Los_Angeles:20251221T100000
DTEND;TZID=America/Los_Angeles:20251221T110000
DTSTAMP:20260423T154330
CREATED:20250112T230155Z
LAST-MODIFIED:20250112T230155Z
UID:1738-1766311200-1766314800@www.klamathfallsfriendschurch.org
SUMMARY:Programmed Worship
DESCRIPTION:A typical Sunday worship includes reading from scripture\, songs\, a prepared message\, prayers\, and a period of open worship.
URL:https://www.klamathfallsfriendschurch.org/event/programmed-worship-49/
LOCATION:Klamath Falls Friends Church\, 1918 Oregon Ave\, Klamath Falls\, OR 97601\, USA
END:VEVENT
BEGIN:VEVENT
DTSTART;TZID=America/Los_Angeles:20251221T094500
DTEND;TZID=America/Los_Angeles:20251221T100000
DTSTAMP:20260423T154330
CREATED:20251011T223959Z
LAST-MODIFIED:20251011T223959Z
UID:2832-1766310300-1766311200@www.klamathfallsfriendschurch.org
SUMMARY:Fellowship and Gathering Time
DESCRIPTION:
URL:https://www.klamathfallsfriendschurch.org/event/fellowship-and-gathering-time-11/
END:VEVENT
BEGIN:VEVENT
DTSTART;TZID=America/Los_Angeles:20251221T090000
DTEND;TZID=America/Los_Angeles:20251221T100000
DTSTAMP:20260423T154330
CREATED:20250112T230155Z
LAST-MODIFIED:20250112T230155Z
UID:1737-1766307600-1766311200@www.klamathfallsfriendschurch.org
SUMMARY:Peace and Social Concerns Committee Meeting
DESCRIPTION:Come to share your ideas and hear what’s going on with our meeting around peace and social justice.
URL:https://www.klamathfallsfriendschurch.org/event/peace-and-social-concerns-committee-meeting-5/
LOCATION:Klamath Falls Friends Church\, 1918 Oregon Ave\, Klamath Falls\, OR 97601\, USA
END:VEVENT
BEGIN:VEVENT
DTSTART;TZID=America/Los_Angeles:20251215T090000
DTEND;TZID=America/Los_Angeles:20251215T100000
DTSTAMP:20260423T154330
CREATED:20251122T235630Z
LAST-MODIFIED:20251122T235630Z
UID:3024-1765789200-1765792800@www.klamathfallsfriendschurch.org
SUMMARY:Cleaning Day at the Church
DESCRIPTION:
URL:https://www.klamathfallsfriendschurch.org/event/cleaning-day-at-the-church-6/
END:VEVENT
BEGIN:VEVENT
DTSTART;TZID=America/Los_Angeles:20251214T110000
DTEND;TZID=America/Los_Angeles:20251214T120000
DTSTAMP:20260423T154330
CREATED:20251011T223959Z
LAST-MODIFIED:20251011T223959Z
UID:2831-1765710000-1765713600@www.klamathfallsfriendschurch.org
SUMMARY:Book Group
DESCRIPTION:
URL:https://www.klamathfallsfriendschurch.org/event/book-group-2/
END:VEVENT
BEGIN:VEVENT
DTSTART;TZID=America/Los_Angeles:20251214T100000
DTEND;TZID=America/Los_Angeles:20251214T110000
DTSTAMP:20260423T154330
CREATED:20250112T230155Z
LAST-MODIFIED:20250112T230155Z
UID:1736-1765706400-1765710000@www.klamathfallsfriendschurch.org
SUMMARY:Programmed Worship
DESCRIPTION:A typical Sunday worship includes reading from scripture\, songs\, a prepared message\, prayers\, and a period of open worship.
URL:https://www.klamathfallsfriendschurch.org/event/programmed-worship-48/
LOCATION:Klamath Falls Friends Church\, 1918 Oregon Ave\, Klamath Falls\, OR 97601\, USA
END:VEVENT
BEGIN:VEVENT
DTSTART;TZID=America/Los_Angeles:20251214T094500
DTEND;TZID=America/Los_Angeles:20251214T100000
DTSTAMP:20260423T154330
CREATED:20251011T223959Z
LAST-MODIFIED:20251011T223959Z
UID:2830-1765705500-1765706400@www.klamathfallsfriendschurch.org
SUMMARY:Fellowship and Gathering Time
DESCRIPTION:
URL:https://www.klamathfallsfriendschurch.org/event/fellowship-and-gathering-time-10/
END:VEVENT
BEGIN:VEVENT
DTSTART;TZID=America/Los_Angeles:20251207T110000
DTEND;TZID=America/Los_Angeles:20251207T120000
DTSTAMP:20260423T154330
CREATED:20251122T235630Z
LAST-MODIFIED:20251122T235630Z
UID:3023-1765105200-1765108800@www.klamathfallsfriendschurch.org
SUMMARY:Hanging of the Greens
DESCRIPTION:
URL:https://www.klamathfallsfriendschurch.org/event/hanging-of-the-greens/
END:VEVENT
BEGIN:VEVENT
DTSTART;TZID=America/Los_Angeles:20251207T100000
DTEND;TZID=America/Los_Angeles:20251207T110000
DTSTAMP:20260423T154330
CREATED:20250112T230154Z
LAST-MODIFIED:20250112T230154Z
UID:1734-1765101600-1765105200@www.klamathfallsfriendschurch.org
SUMMARY:Unprogrammed Worship
DESCRIPTION:Worship on the first Sunday of the month is an extended period of open/waiting worship.
URL:https://www.klamathfallsfriendschurch.org/event/unprogrammed-worship-16/
END:VEVENT
BEGIN:VEVENT
DTSTART;TZID=America/Los_Angeles:20251207T094500
DTEND;TZID=America/Los_Angeles:20251207T100000
DTSTAMP:20260423T154330
CREATED:20251011T223958Z
LAST-MODIFIED:20251011T223958Z
UID:2829-1765100700-1765101600@www.klamathfallsfriendschurch.org
SUMMARY:Fellowship and Gathering Time
DESCRIPTION:
URL:https://www.klamathfallsfriendschurch.org/event/fellowship-and-gathering-time-9/
END:VEVENT
BEGIN:VEVENT
DTSTART;TZID=America/Los_Angeles:20251207T090000
DTEND;TZID=America/Los_Angeles:20251207T100000
DTSTAMP:20260423T154330
CREATED:20251011T223958Z
LAST-MODIFIED:20251011T223958Z
UID:2828-1765098000-1765101600@www.klamathfallsfriendschurch.org
SUMMARY:Bible Study
DESCRIPTION:
URL:https://www.klamathfallsfriendschurch.org/event/bible-study-10/
END:VEVENT
BEGIN:VEVENT
DTSTART;TZID=America/Los_Angeles:20251130T110000
DTEND;TZID=America/Los_Angeles:20251130T120000
DTSTAMP:20260423T154330
CREATED:20251122T235629Z
LAST-MODIFIED:20251122T235629Z
UID:3022-1764500400-1764504000@www.klamathfallsfriendschurch.org
SUMMARY:Monthly Business Meeting
DESCRIPTION:All are welcome to have their voices heard and listen to reports of what is currently going on at the meeting.
URL:https://www.klamathfallsfriendschurch.org/event/monthly-business-meeting-12/
LOCATION:Klamath Falls Friends Church\, 1918 Oregon Ave\, Klamath Falls\, OR 97601\, USA
END:VEVENT
BEGIN:VEVENT
DTSTART;TZID=America/Los_Angeles:20251130T100000
DTEND;TZID=America/Los_Angeles:20251130T110000
DTSTAMP:20260423T154330
CREATED:20251122T235629Z
LAST-MODIFIED:20251122T235629Z
UID:3021-1764496800-1764500400@www.klamathfallsfriendschurch.org
SUMMARY:Programmed Worship
DESCRIPTION:A typical Sunday worship includes reading from scripture\, songs\, a prepared message\, prayers\, and a period of open worship.
URL:https://www.klamathfallsfriendschurch.org/event/programmed-worship-84/
LOCATION:Klamath Falls Friends Church\, 1918 Oregon Ave\, Klamath Falls\, OR 97601\, USA
END:VEVENT
BEGIN:VEVENT
DTSTART;TZID=America/Los_Angeles:20251130T100000
DTEND;TZID=America/Los_Angeles:20251130T110000
DTSTAMP:20260423T154330
CREATED:20251026T232318Z
LAST-MODIFIED:20251026T232318Z
UID:2975-1764496800-1764500400@www.klamathfallsfriendschurch.org
SUMMARY:Programmed Worship
DESCRIPTION:A typical Sunday worship includes reading from scripture\, songs\, a prepared message\, prayers\, and a period of open worship.
URL:https://www.klamathfallsfriendschurch.org/event/programmed-worship-83/
END:VEVENT
BEGIN:VEVENT
DTSTART;TZID=America/Los_Angeles:20251130T094500
DTEND;TZID=America/Los_Angeles:20251130T100000
DTSTAMP:20260423T154330
CREATED:20251011T223958Z
LAST-MODIFIED:20251011T223958Z
UID:2827-1764495900-1764496800@www.klamathfallsfriendschurch.org
SUMMARY:Fellowship and Gathering Time
DESCRIPTION:
URL:https://www.klamathfallsfriendschurch.org/event/fellowship-and-gathering-time-8/
END:VEVENT
BEGIN:VEVENT
DTSTART;TZID=America/Los_Angeles:20251125T170000
DTEND;TZID=America/Los_Angeles:20251125T190000
DTSTAMP:20260423T154330
CREATED:20250112T230154Z
LAST-MODIFIED:20250112T230154Z
UID:1733-1764090000-1764097200@www.klamathfallsfriendschurch.org
SUMMARY:Interfaith Food Pantry
DESCRIPTION:Food is available free of charge. Check with the county food bank for eligibility guidelines.
URL:https://www.klamathfallsfriendschurch.org/event/interfaith-food-pantry-29/
LOCATION:Klamath Lutheran Church-ELCA\, 1175 Crescent Ave\, Klamath Falls\, OR 97601\, USA
END:VEVENT
BEGIN:VEVENT
DTSTART;TZID=America/Los_Angeles:20251123T110000
DTEND;TZID=America/Los_Angeles:20251123T120000
DTSTAMP:20260423T154330
CREATED:20251011T223958Z
LAST-MODIFIED:20251011T223958Z
UID:2826-1763895600-1763899200@www.klamathfallsfriendschurch.org
SUMMARY:Gratitude Potluck
DESCRIPTION:
URL:https://www.klamathfallsfriendschurch.org/event/gratitude-potluck/
END:VEVENT
BEGIN:VEVENT
DTSTART;TZID=America/Los_Angeles:20251123T100000
DTEND;TZID=America/Los_Angeles:20251123T110000
DTSTAMP:20260423T154330
CREATED:20250112T230154Z
LAST-MODIFIED:20250112T230154Z
UID:1732-1763892000-1763895600@www.klamathfallsfriendschurch.org
SUMMARY:Programmed Worship
DESCRIPTION:A typical Sunday worship includes reading from scripture\, songs\, a prepared message\, prayers\, and a period of open worship.
URL:https://www.klamathfallsfriendschurch.org/event/programmed-worship-47/
LOCATION:Klamath Falls Friends Church\, 1918 Oregon Ave\, Klamath Falls\, OR 97601\, USA
END:VEVENT
BEGIN:VEVENT
DTSTART;TZID=America/Los_Angeles:20251123T094500
DTEND;TZID=America/Los_Angeles:20251123T100000
DTSTAMP:20260423T154330
CREATED:20251011T223958Z
LAST-MODIFIED:20251011T223958Z
UID:2825-1763891100-1763892000@www.klamathfallsfriendschurch.org
SUMMARY:Fellowship and Gathering Time
DESCRIPTION:
URL:https://www.klamathfallsfriendschurch.org/event/fellowship-and-gathering-time-7/
END:VEVENT
BEGIN:VEVENT
DTSTART;TZID=America/Los_Angeles:20251118T170000
DTEND;TZID=America/Los_Angeles:20251118T190000
DTSTAMP:20260423T154330
CREATED:20251011T223958Z
LAST-MODIFIED:20251011T223958Z
UID:2824-1763485200-1763492400@www.klamathfallsfriendschurch.org
SUMMARY:Interfaith Food Pantry
DESCRIPTION:Food is available free of charge. Check with the county food bank for eligibility guidelines.
URL:https://www.klamathfallsfriendschurch.org/event/interfaith-food-pantry-39/
LOCATION:Klamath Lutheran Church-ELCA\, 1175 Crescent Ave\, Klamath Falls\, OR 97601\, USA
END:VEVENT
BEGIN:VEVENT
DTSTART;TZID=America/Los_Angeles:20251116T100000
DTEND;TZID=America/Los_Angeles:20251116T110000
DTSTAMP:20260423T154330
CREATED:20250112T230154Z
LAST-MODIFIED:20250112T230154Z
UID:1731-1763287200-1763290800@www.klamathfallsfriendschurch.org
SUMMARY:Programmed Worship
DESCRIPTION:A typical Sunday worship includes reading from scripture\, songs\, a prepared message\, prayers\, and a period of open worship.
URL:https://www.klamathfallsfriendschurch.org/event/programmed-worship-46/
LOCATION:Klamath Falls Friends Church\, 1918 Oregon Ave\, Klamath Falls\, OR 97601\, USA
END:VEVENT
BEGIN:VEVENT
DTSTART;TZID=America/Los_Angeles:20251116T094500
DTEND;TZID=America/Los_Angeles:20251116T100000
DTSTAMP:20260423T154330
CREATED:20251011T223957Z
LAST-MODIFIED:20251011T223957Z
UID:2823-1763286300-1763287200@www.klamathfallsfriendschurch.org
SUMMARY:Fellowship and Gathering Time
DESCRIPTION:
URL:https://www.klamathfallsfriendschurch.org/event/fellowship-and-gathering-time-6/
END:VEVENT
BEGIN:VEVENT
DTSTART;TZID=America/Los_Angeles:20251116T090000
DTEND;TZID=America/Los_Angeles:20251116T100000
DTSTAMP:20260423T154330
CREATED:20250112T230153Z
LAST-MODIFIED:20250112T230153Z
UID:1730-1763283600-1763287200@www.klamathfallsfriendschurch.org
SUMMARY:Peace and Social Concerns Committee Meeting
DESCRIPTION:Come to share your ideas and hear what’s going on with our meeting around peace and social justice.
URL:https://www.klamathfallsfriendschurch.org/event/peace-and-social-concerns-committee-meeting-4/
LOCATION:Klamath Falls Friends Church\, 1918 Oregon Ave\, Klamath Falls\, OR 97601\, USA
END:VEVENT
BEGIN:VEVENT
DTSTART;TZID=America/Los_Angeles:20251109T110000
DTEND;TZID=America/Los_Angeles:20251109T120000
DTSTAMP:20260423T154330
CREATED:20251011T223957Z
LAST-MODIFIED:20251011T223957Z
UID:2822-1762686000-1762689600@www.klamathfallsfriendschurch.org
SUMMARY:Book Group
DESCRIPTION:
URL:https://www.klamathfallsfriendschurch.org/event/book-group/
END:VEVENT
BEGIN:VEVENT
DTSTART;TZID=America/Los_Angeles:20251109T100000
DTEND;TZID=America/Los_Angeles:20251109T110000
DTSTAMP:20260423T154330
CREATED:20241112T015715Z
LAST-MODIFIED:20241112T015715Z
UID:1576-1762682400-1762686000@www.klamathfallsfriendschurch.org
SUMMARY:Programmed Worship
DESCRIPTION:A typical Sunday worship includes reading from scripture\, songs\, a prepared message\, prayers\, and a period of open worship.
URL:https://www.klamathfallsfriendschurch.org/event/programmed-worship-45/
LOCATION:Klamath Falls Friends Church\, 1918 Oregon Ave\, Klamath Falls\, OR 97601\, USA
END:VEVENT
BEGIN:VEVENT
DTSTART;TZID=America/Los_Angeles:20251109T094500
DTEND;TZID=America/Los_Angeles:20251109T100000
DTSTAMP:20260423T154330
CREATED:20251011T223957Z
LAST-MODIFIED:20251011T223957Z
UID:2821-1762681500-1762682400@www.klamathfallsfriendschurch.org
SUMMARY:Fellowship and Gathering Time
DESCRIPTION:
URL:https://www.klamathfallsfriendschurch.org/event/fellowship-and-gathering-time-5/
END:VEVENT
END:VCALENDAR