BEGIN:VCALENDAR
VERSION:2.0
PRODID:-//Klamath Falls Friends - ECPv6.15.20//NONSGML v1.0//EN
CALSCALE:GREGORIAN
METHOD:PUBLISH
X-WR-CALNAME:Klamath Falls Friends
X-ORIGINAL-URL:https://www.klamathfallsfriendschurch.org
X-WR-CALDESC:Events for Klamath Falls Friends
REFRESH-INTERVAL;VALUE=DURATION:PT1H
X-Robots-Tag:noindex
X-PUBLISHED-TTL:PT1H
BEGIN:VTIMEZONE
TZID:America/Los_Angeles
BEGIN:DAYLIGHT
TZOFFSETFROM:-0800
TZOFFSETTO:-0700
TZNAME:PDT
DTSTART:20250309T100000
END:DAYLIGHT
BEGIN:STANDARD
TZOFFSETFROM:-0700
TZOFFSETTO:-0800
TZNAME:PST
DTSTART:20251102T090000
END:STANDARD
BEGIN:DAYLIGHT
TZOFFSETFROM:-0800
TZOFFSETTO:-0700
TZNAME:PDT
DTSTART:20260308T100000
END:DAYLIGHT
BEGIN:STANDARD
TZOFFSETFROM:-0700
TZOFFSETTO:-0800
TZNAME:PST
DTSTART:20261101T090000
END:STANDARD
BEGIN:DAYLIGHT
TZOFFSETFROM:-0800
TZOFFSETTO:-0700
TZNAME:PDT
DTSTART:20270314T100000
END:DAYLIGHT
BEGIN:STANDARD
TZOFFSETFROM:-0700
TZOFFSETTO:-0800
TZNAME:PST
DTSTART:20271107T090000
END:STANDARD
END:VTIMEZONE
BEGIN:VEVENT
DTSTART;TZID=America/Los_Angeles:20260405T090000
DTEND;TZID=America/Los_Angeles:20260405T100000
DTSTAMP:20260423T095934
CREATED:20251011T224002Z
LAST-MODIFIED:20251011T224002Z
UID:2855-1775379600-1775383200@www.klamathfallsfriendschurch.org
SUMMARY:Bible Study
DESCRIPTION:
URL:https://www.klamathfallsfriendschurch.org/event/bible-study-14/
END:VEVENT
BEGIN:VEVENT
DTSTART;TZID=America/Los_Angeles:20260405T094500
DTEND;TZID=America/Los_Angeles:20260405T100000
DTSTAMP:20260423T095934
CREATED:20251011T224002Z
LAST-MODIFIED:20251011T224002Z
UID:2856-1775382300-1775383200@www.klamathfallsfriendschurch.org
SUMMARY:Fellowship and Gathering Time
DESCRIPTION:
URL:https://www.klamathfallsfriendschurch.org/event/fellowship-and-gathering-time-26/
END:VEVENT
BEGIN:VEVENT
DTSTART;TZID=America/Los_Angeles:20260405T100000
DTEND;TZID=America/Los_Angeles:20260405T110000
DTSTAMP:20260423T095934
CREATED:20250414T002649Z
LAST-MODIFIED:20260404T184654Z
UID:2029-1775383200-1775386800@www.klamathfallsfriendschurch.org
SUMMARY:Easter Worship
DESCRIPTION:Join us for a special celebration including more songs and scripture as well as the sermon. You are invited to bring flowers from home to decorate the church.
URL:https://www.klamathfallsfriendschurch.org/event/unprogrammed-worship-21/
END:VEVENT
BEGIN:VEVENT
DTSTART;TZID=America/Los_Angeles:20260405T140000
DTEND;TZID=America/Los_Angeles:20260405T150000
DTSTAMP:20260423T095934
CREATED:20260301T034051Z
LAST-MODIFIED:20260301T034051Z
UID:3422-1775397600-1775401200@www.klamathfallsfriendschurch.org
SUMMARY:Singing Resistance
DESCRIPTION:
URL:https://www.klamathfallsfriendschurch.org/event/singing-resistance-5/
END:VEVENT
END:VCALENDAR