BEGIN:VCALENDAR
VERSION:2.0
PRODID:-//Klamath Falls Friends - ECPv6.15.20//NONSGML v1.0//EN
CALSCALE:GREGORIAN
METHOD:PUBLISH
X-WR-CALNAME:Klamath Falls Friends
X-ORIGINAL-URL:https://www.klamathfallsfriendschurch.org
X-WR-CALDESC:Events for Klamath Falls Friends
REFRESH-INTERVAL;VALUE=DURATION:PT1H
X-Robots-Tag:noindex
X-PUBLISHED-TTL:PT1H
BEGIN:VTIMEZONE
TZID:America/Los_Angeles
BEGIN:DAYLIGHT
TZOFFSETFROM:-0800
TZOFFSETTO:-0700
TZNAME:PDT
DTSTART:20250309T100000
END:DAYLIGHT
BEGIN:STANDARD
TZOFFSETFROM:-0700
TZOFFSETTO:-0800
TZNAME:PST
DTSTART:20251102T090000
END:STANDARD
BEGIN:DAYLIGHT
TZOFFSETFROM:-0800
TZOFFSETTO:-0700
TZNAME:PDT
DTSTART:20260308T100000
END:DAYLIGHT
BEGIN:STANDARD
TZOFFSETFROM:-0700
TZOFFSETTO:-0800
TZNAME:PST
DTSTART:20261101T090000
END:STANDARD
BEGIN:DAYLIGHT
TZOFFSETFROM:-0800
TZOFFSETTO:-0700
TZNAME:PDT
DTSTART:20270314T100000
END:DAYLIGHT
BEGIN:STANDARD
TZOFFSETFROM:-0700
TZOFFSETTO:-0800
TZNAME:PST
DTSTART:20271107T090000
END:STANDARD
END:VTIMEZONE
BEGIN:VEVENT
DTSTART;TZID=America/Los_Angeles:20260120T163000
DTEND;TZID=America/Los_Angeles:20260120T183000
DTSTAMP:20260423T170850
CREATED:20251227T032922Z
LAST-MODIFIED:20251227T032922Z
UID:3200-1768926600-1768933800@www.klamathfallsfriendschurch.org
SUMMARY:Interfaith Food Pantry
DESCRIPTION:Food is available free of charge. Check with the county food bank for eligibility guidelines.
URL:https://www.klamathfallsfriendschurch.org/event/interfaith-food-pantry-44/
LOCATION:Klamath Lutheran Church-ELCA\, 1175 Crescent Ave\, Klamath Falls\, OR 97601\, USA
END:VEVENT
END:VCALENDAR